Workbook
Name listSite: OFFSET(Lookup!$G$2, 0, 0, _xlfn.AGGREGATE(3,6,Lookup!$G:$G)-1)

Sheet Data Entry Template
B1: Select HB and Site from dropdown
B2: Health Board:
C5: Enter the first date of monitoring below (this should be a Weds):
D6: =C6+1 -> 1 | E6: =D6+1 -> 2 | F6: =E6+1 -> 3 | G6: =F6+1 -> 4 | H6: =G6+1 -> 5 | I6: =H6+1 -> 6 | K6: Comments
C7: =IF(ISBLANK($C$6), "", TEXT(C6,"ddd")) | D7: =IF(ISBLANK($C$6), "", TEXT(D6,"ddd")) | E7: =IF(ISBLANK($C$6), "", TEXT(E6,"ddd")) | F7: =IF(ISBLANK($C$6), "", TEXT(F6,"ddd")) | G7: =IF(ISBLANK($C$6), "", TEXT(G6,"ddd")) | H7: =IF(ISBLANK($C$6), "", TEXT(H6,"ddd")) | I7: =IF(ISBLANK($C$6), "", TEXT(I6,"ddd"))
B8: Daily Data Request
A9: 01 - Number of Patients on Daily Discharge List | B9: Number of Patients on Daily Discharge List
A10: 02 - Number of Patients Successfully Discharged from the List | B10: Number of Patients Successfully Discharged from the List
A11: 03 - Number of Delayed Discharges from the List | B11: Number of Delayed Discharges from the List
A12: 04 - Medically fit awaiing discharge - other than above | B12: Medically fit awaiing discharge - other than above
A13: 05 - Court Protection Proceedings Delay - other than above | B13: Court Protection Proceedings Delay - other than above
B15: Twice Weekly Data Request (Tuesday & Friday Submission)
B16: Patients Waiting for Transfer to Discharge to Recover then Assess Pathways
A17: 06 - Number of patients waiting for discharge with voluntary sector support | B17: Number of patients waiting for discharge with voluntary sector support
A18: 07 - Number of patients waiting for discharge on Pathway 2 (to own home) | B18: Number of patients waiting for discharge on Pathway 2 (to own home)
A19: 08 - Number of patients waiting for discharge on Pathway 3 (step-down bed) | B19: Number of patients waiting for discharge on Pathway 3 (step-down bed)
A20: 09 - Number of patients waiting for discharge on Pathway 4 (existing care home placement) | B20: Number of patients waiting for discharge on Pathway 4 (existing care home placement)
B21: Service Users Waiting for Transfer out of Discharge to Recover then Assess Pathways
A22: 10 - Number of people waiting for packages of care | B22: Number of people waiting for packages of care
A23: 11 - Number of people waiting for permanent care home placement | B23: Number of people waiting for permanent care home placement
A24: 12 - Number of people waiting for equipment | B24: Number of people waiting for equipment

Sheet Data Load Template
A1: Health Board | B1: Date | C1: Indicator | D1: Value
A2: =Lookup!$C$3 -> BCUHB | B2: ='Data Entry Template'!$C$6 -> 0 | C2: ='Data Entry Template'!$A$9 -> 01 - Number of Patients on Daily Discharge List | D2: ='Data Entry Template'!C9 -> 0
A3: =Lookup!$C$3 -> BCUHB | B3: ='Data Entry Template'!$C$6 -> 0 | C3: ='Data Entry Template'!$A$10 -> 02 - Number of Patients Successfully Discharged from the List | D3: ='Data Entry Template'!C10 -> 0
A4: =Lookup!$C$3 -> BCUHB | B4: ='Data Entry Template'!$C$6 -> 0 | C4: ='Data Entry Template'!$A$11 -> 03 - Number of Delayed Discharges from the List | D4: ='Data Entry Template'!C11 -> 0
A5: =Lookup!$C$3 -> BCUHB | B5: ='Data Entry Template'!$C$6 -> 0 | C5: ='Data Entry Template'!$A$12 -> 04 - Medically fit awaiing discharge - other than above | D5: ='Data Entry Template'!C12 -> 0
A6: =Lookup!$C$3 -> BCUHB | B6: ='Data Entry Template'!$C$6 -> 0 | C6: ='Data Entry Template'!$A$13 -> 05 - Court Protection Proceedings Delay - other than above | D6: ='Data Entry Template'!C13 -> 0
A7: =Lookup!$C$3 -> BCUHB | B7: ='Data Entry Template'!$D$6 -> 1 | C7: ='Data Entry Template'!$A$9 -> 01 - Number of Patients on Daily Discharge List | D7: ='Data Entry Template'!D9 -> 0
A8: =Lookup!$C$3 -> BCUHB | B8: ='Data Entry Template'!$D$6 -> 1 | C8: ='Data Entry Template'!$A$10 -> 02 - Number of Patients Successfully Discharged from the List | D8: ='Data Entry Template'!D10 -> 0
A9: =Lookup!$C$3 -> BCUHB | B9: ='Data Entry Template'!$D$6 -> 1 | C9: ='Data Entry Template'!$A$11 -> 03 - Number of Delayed Discharges from the List | D9: ='Data Entry Template'!D11 -> 0
A10: =Lookup!$C$3 -> BCUHB | B10: ='Data Entry Template'!$D$6 -> 1 | C10: ='Data Entry Template'!$A$12 -> 04 - Medically fit awaiing discharge - other than above | D10: ='Data Entry Template'!D12 -> 0
A11: =Lookup!$C$3 -> BCUHB | B11: ='Data Entry Template'!$D$6 -> 1 | C11: ='Data Entry Template'!$A$13 -> 05 - Court Protection Proceedings Delay - other than above | D11: ='Data Entry Template'!D13 -> 0
A12: =Lookup!$C$3 -> BCUHB | B12: ='Data Entry Template'!$E$6 -> 2 | C12: ='Data Entry Template'!$A$9 -> 01 - Number of Patients on Daily Discharge List | D12: ='Data Entry Template'!E9 -> 0
A13: =Lookup!$C$3 -> BCUHB | B13: ='Data Entry Template'!$E$6 -> 2 | C13: ='Data Entry Template'!$A$10 -> 02 - Number of Patients Successfully Discharged from the List | D13: ='Data Entry Template'!E10 -> 0
A14: =Lookup!$C$3 -> BCUHB | B14: ='Data Entry Template'!$E$6 -> 2 | C14: ='Data Entry Template'!$A$11 -> 03 - Number of Delayed Discharges from the List | D14: ='Data Entry Template'!E11 -> 0
A15: =Lookup!$C$3 -> BCUHB | B15: ='Data Entry Template'!$E$6 -> 2 | C15: ='Data Entry Template'!$A$12 -> 04 - Medically fit awaiing discharge - other than above | D15: ='Data Entry Template'!E12 -> 0
A16: =Lookup!$C$3 -> BCUHB | B16: ='Data Entry Template'!$E$6 -> 2 | C16: ='Data Entry Template'!$A$13 -> 05 - Court Protection Proceedings Delay - other than above | D16: ='Data Entry Template'!E13 -> 0
A17: =Lookup!$C$3 -> BCUHB | B17: ='Data Entry Template'!$E$6 -> 2 | C17: ='Data Entry Template'!$A$17 -> 06 - Number of patients waiting for discharge with voluntary sector support | D17: ='Data Entry Template'!E17 -> 0
A18: =Lookup!$C$3 -> BCUHB | B18: ='Data Entry Template'!$E$6 -> 2 | C18: ='Data Entry Template'!$A$18 -> 07 - Number of patients waiting for discharge on Pathway 2 (to own home) | D18: ='Data Entry Template'!E18 -> 0
A19: =Lookup!$C$3 -> BCUHB | B19: ='Data Entry Template'!$E$6 -> 2 | C19: ='Data Entry Template'!$A$19 -> 08 - Number of patients waiting for discharge on Pathway 3 (step-down bed) | D19: ='Data Entry Template'!E19 -> 0
A20: =Lookup!$C$3 -> BCUHB | B20: ='Data Entry Template'!$E$6 -> 2 | C20: ='Data Entry Template'!$A$20 -> 09 - Number of patients waiting for discharge on Pathway 4 (existing care home placement) | D20: ='Data Entry Template'!E20 -> 0
A21: =Lookup!$C$3 -> BCUHB | B21: ='Data Entry Template'!$E$6 -> 2 | C21: ='Data Entry Template'!$A$22 -> 10 - Number of people waiting for packages of care | D21: ='Data Entry Template'!E22 -> 0
A22: =Lookup!$C$3 -> BCUHB | B22: ='Data Entry Template'!$E$6 -> 2 | C22: ='Data Entry Template'!$A$23 -> 11 - Number of people waiting for permanent care home placement | D22: ='Data Entry Template'!E23 -> 0
A23: =Lookup!$C$3 -> BCUHB | B23: ='Data Entry Template'!$E$6 -> 2 | C23: ='Data Entry Template'!$A$24 -> 12 - Number of people waiting for equipment | D23: ='Data Entry Template'!E24 -> 0
A24: =Lookup!$C$3 -> BCUHB | B24: ='Data Entry Template'!$F$6 -> 3 | C24: ='Data Entry Template'!$A$9 -> 01 - Number of Patients on Daily Discharge List | D24: ='Data Entry Template'!F9 -> 0
A25: =Lookup!$C$3 -> BCUHB | B25: ='Data Entry Template'!$F$6 -> 3 | C25: ='Data Entry Template'!$A$10 -> 02 - Number of Patients Successfully Discharged from the List | D25: ='Data Entry Template'!F10 -> 0
A26: =Lookup!$C$3 -> BCUHB | B26: ='Data Entry Template'!$F$6 -> 3 | C26: ='Data Entry Template'!$A$11 -> 03 - Number of Delayed Discharges from the List | D26: ='Data Entry Template'!F11 -> 0
A27: =Lookup!$C$3 -> BCUHB | B27: ='Data Entry Template'!$F$6 -> 3 | C27: ='Data Entry Template'!$A$12 -> 04 - Medically fit awaiing discharge - other than above | D27: ='Data Entry Template'!F12 -> 0
A28: =Lookup!$C$3 -> BCUHB | B28: ='Data Entry Template'!$F$6 -> 3 | C28: ='Data Entry Template'!$A$13 -> 05 - Court Protection Proceedings Delay - other than above | D28: ='Data Entry Template'!F13 -> 0
A29: =Lookup!$C$3 -> BCUHB | B29: ='Data Entry Template'!$G$6 -> 4 | C29: ='Data Entry Template'!$A$9 -> 01 - Number of Patients on Daily Discharge List | D29: ='Data Entry Template'!G9 -> 0
A30: =Lookup!$C$3 -> BCUHB | B30: ='Data Entry Template'!$G$6 -> 4 | C30: ='Data Entry Template'!$A$10 -> 02 - Number of Patients Successfully Discharged from the List | D30: ='Data Entry Template'!G10 -> 0
A31: =Lookup!$C$3 -> BCUHB | B31: ='Data Entry Template'!$G$6 -> 4 | C31: ='Data Entry Template'!$A$11 -> 03 - Number of Delayed Discharges from the List | D31: ='Data Entry Template'!G11 -> 0
A32: =Lookup!$C$3 -> BCUHB | B32: ='Data Entry Template'!$G$6 -> 4 | C32: ='Data Entry Template'!$A$12 -> 04 - Medically fit awaiing discharge - other than above | D32: ='Data Entry Template'!G12 -> 0
A33: =Lookup!$C$3 -> BCUHB | B33: ='Data Entry Template'!$G$6 -> 4 | C33: ='Data Entry Template'!$A$13 -> 05 - Court Protection Proceedings Delay - other than above | D33: ='Data Entry Template'!G13 -> 0
A34: =Lookup!$C$3 -> BCUHB | B34: ='Data Entry Template'!$H$6 -> 5 | C34: ='Data Entry Template'!$A$9 -> 01 - Number of Patients on Daily Discharge List | D34: ='Data Entry Template'!H9 -> 0
A35: =Lookup!$C$3 -> BCUHB | B35: ='Data Entry Template'!$H$6 -> 5 | C35: ='Data Entry Template'!$A$10 -> 02 - Number of Patients Successfully Discharged from the List | D35: ='Data Entry Template'!H10 -> 0
A36: =Lookup!$C$3 -> BCUHB | B36: ='Data Entry Template'!$H$6 -> 5 | C36: ='Data Entry Template'!$A$11 -> 03 - Number of Delayed Discharges from the List | D36: ='Data Entry Template'!H11 -> 0
A37: =Lookup!$C$3 -> BCUHB | B37: ='Data Entry Template'!$H$6 -> 5 | C37: ='Data Entry Template'!$A$12 -> 04 - Medically fit awaiing discharge - other than above | D37: ='Data Entry Template'!H12 -> 0
A38: =Lookup!$C$3 -> BCUHB | B38: ='Data Entry Template'!$H$6 -> 5 | C38: ='Data Entry Template'!$A$13 -> 05 - Court Protection Proceedings Delay - other than above | D38: ='Data Entry Template'!H13 -> 0
A39: =Lookup!$C$3 -> BCUHB | B39: ='Data Entry Template'!$I$6 -> 6 | C39: ='Data Entry Template'!$A$9 -> 01 - Number of Patients on Daily Discharge List | D39: ='Data Entry Template'!I9 -> 0
A40: =Lookup!$C$3 -> BCUHB | B40: ='Data Entry Template'!$I$6 -> 6 | C40: ='Data Entry Template'!$A$10 -> 02 - Number of Patients Successfully Discharged from the List | D40: ='Data Entry Template'!I10 -> 0
...

Sheet Lookup
A1: Health Board List | B1: HBCode | D1: Health Board | E1: Site | G1: Site List
A2: BCUHB | B2: 7A1 | C2: 1 | D2: BCUHB | E2: Wrexham Maelor Hospital | G2: {=INDEX($E$2:$E$14, SMALL(IF($D$2:$D$14=$C$3, ROW(Lookup!$D$2:$D$14)-1), ROW(A1)))} -> Wrexham Maelor Hospital | H2: 3 | I2: =IF(ISERROR(H3), 1, H2) -> 3
A3: HDUHB | B3: 7A2 | C3: =INDEX($A$2:$A$8, $C$2) -> BCUHB | D3: BCUHB | E3: Ysbyty Glan Clwyd | G3: {=INDEX($E$2:$E$14, SMALL(IF($D$2:$D$14=$C$3, ROW(Lookup!$D$2:$D$14)-1), ROW(A2)))} -> Ysbyty Glan Clwyd | H3: =INDEX($G$2:$G$5, $H$2) -> Ysbyty Gwynedd | I3: =INDEX($G$2:$G$5, $I$2) -> Ysbyty Gwynedd
A4: SBUHB | B4: 7A3 | D4: BCUHB | E4: Ysbyty Gwynedd | G4: {=INDEX($E$2:$E$14, SMALL(IF($D$2:$D$14=$C$3, ROW(Lookup!$D$2:$D$14)-1), ROW(A3)))} -> Ysbyty Gwynedd
A5: CVUHB | B5: 7A4 | D5: HDUHB | E5: Bronglais General Hospital | G5: {=INDEX($E$2:$E$14, SMALL(IF($D$2:$D$14=$C$3, ROW(Lookup!$D$2:$D$14)-1), ROW(A4)))} -> #NUM!
A6: CTMUHB | B6: 7A5 | D6: HDUHB | E6: Glangwili General Hosptial
A7: ABUHB | B7: 7A6 | D7: HDUHB | E7: Withybush General Hospital
A8: Powys tHB | B8: 7A7 | D8: SBUHB | E8: Morriston Hospital
D9: CVUHB | E9: University Hospital of Wales
D10: CTMUHB | E10: Prince Charles Hospital
D11: CTMUHB | E11: Princess of Wales Hospital
D12: CTMUHB | E12: Royal Glamorgan Hospital
D13: ABUHB | E13: Royal Gwent Hospital
D14: ABUHB | E14: Nevill Hall Hospital
