Workbook
Name _ftnref1: 'Benchmarking data'!$B$12
Name _Toc103010521: 'Benchmarking data'!$C$43
Name Aethercomments: Introduction!$B$49:$D$53
Name Aggregates: Lists!$V$25:$W$25
Name AGRIC: Lists!$AP$26:$AP$28
Name Agriculture: Lists!$S$4:$S$5
Name Allfleetfuel: Lists!$Q$36:$Q$42
Name Anatomicalwaste: Lists!$V$26
Name Asbestos: Lists!$V$27
Name Asphalt: Lists!$V$28:$W$28
Name Averageconstruction: Lists!$V$29
Name Batteries: Lists!$V$30:$W$30
Name Biodieselcategory1: Lists!$P$79:$P$80
Name Biodieselunits: Lists!$O$58:$O$59
Name Bioenergycategory1: Lists!$P$65:$P$67
Name Bioenergyunits: Lists!$O$71:$O$72
Name Biopetrolcategory1: Lists!$P$76
Name Biopetrolunits: Lists!$O$61:$O$62
Name BoundaryInfo: Introduction!$B$19:$D$36
Name Bricks: Lists!$V$31:$W$31
Name Buildings: Lists!$O$15:$O$24
Name Buildingsownership: Lists!$O$4:$O$9
Name Businesstravel: Lists!$AE$4:$AE$9
Name Cattle: Lists!$S$20:$S$21
Name CHPplant: Lists!$O$26:$O$30
Name Clinicalwaste: Lists!$V$32
Name Clothing: Lists!$V$33:$X$33
Name Coalcategory1: Lists!$P$83
Name Coalunits: Lists!$O$80:$O$81
Name Commercialandindustrialwaste: Lists!$V$34:$X$34
Name Commuting: Lists!$AF$4:$AF$6
Name Concrete: Lists!$V$35:$W$35
Name Dieselcategory1: Lists!$P$50:$P$51
Name Dieselunits: Lists!$O$50:$O$51
Name Ease: Lists!$D$4:$D$10
Name Equipmentfuel: Lists!$Q$45:$Q$51
Name F_gases: Lists!$O$88:$O$248
Name F_GasUnits: Lists!$P$88
Name FarmlandSoils: Lists!$S$28:$S$29
Name Farmlandsoilsunits: Lists!$S$16:$S$17
Name Fgas: Lists!$O$88:$O$248
Name fgasunits: Lists!$P$88
Name FireandRescueService: Lists!$H$93:$H$95
Name Fleetandequipmentfuel: Lists!$Q$4:$Q$9
Name Fleetdistance: Lists!$R$4:$R$6
Name Flightcategory1: Lists!$AF$50:$AF$52
Name Flightdomestic: Lists!$AG$50
Name Flightlonghaul: Lists!$AH$50:$AH$52
Name Flightshorthaul: Lists!$AH$50:$AH$52
Name Flightunits: Lists!$AE$50:$AE$51
Name Gasoilcategory1: Lists!$P$46
Name Gasoilunits: Lists!$O$46:$O$47
Name Generatorfuel: Lists!$Q$53:$Q$58
Name Gridelectricitycategory1: Lists!$P$58
Name Gridelectricityunits: Lists!$O$64
Name HealthBoardorTrust: Lists!$H$52:$H$64
Name Heatandsteamcategory1: Lists!$P$61:$P$62
Name Heatandsteamunits: Lists!$O$67
Name HGVfuel: Lists!$Q$33:$Q$34
Name HGVsize: Lists!$R$31:$R$33

Sheet Introduction
E1: 45496 | F1: Version 14
B2: Introduction and Organisation Data
B3: This spreadsheet is the required format for Welsh public sector organisations reporting their carbon emissions for the 2023 - 2024 reporting period. It is based on the Welsh Public Sector Net Zero Carbon Reporting Guide. The following updates have been applied to this version of the template: • Emission factors have been updated where appropriate • Various bug fixes • Medical gases updated and split out • The summary sheet has been updated to be more comprehensive • Additional organisations added • Fleet split out from buildings • Site level data can be submitted for building energy consumption • More details can be entered for renewables
B4: Please send the completed form to netzeroreporting@energyservice.wales by 2nd September 2024
B6: Organisational information
B7: Organisational information | C7: Organisation type | H7: Cell colour codes
B8: Organisational information | C8: Organisation name
B9: Organisational information | C9: Financial year period for reporting | I9: Information cell or question
B10: Organisational information | C10: Date of report submission | I10: Information entry. Some cells have drop down lists
B11: Organisational information | C11: Person responsible for this report | I11: Activity data. Numeric data entry
B12: Organisational information | C12: Email address of person responsible for this report | I12: Calculated data
B13: Organisational information | C13: Total financial budget /spend/ turnover £ | I13: Summary data
B14: Organisational information | C14: Number of Full Time Equivalent employees | I14: Not used
B15: Organisational information | C15: Building internal floor area equivalent to the energy data reported (sq m)
B16: Organisational information | C16: Region of Wales
B18: Boundary information
B19: Buildings in scope | C19: Do you own buildings that you occupy? | E19: =IF(D19="Y", "Please complete the 'Buildings' table in Buildings, fleet & other assets sheet. See section 7.2 of the guidance for further information.", "")
B20: Buildings in scope | C20: Do you lease buildings that you occupy? | E20: =IF(D20="Y", "Please complete the 'Buildings' table in Buildings, fleet & other assets sheet. See section 7.2 of the guidance for further information.", "")
B21: Buildings in scope | C21: Do you lease out buildings that you own to organisations to deliver public services on your behalf? | E21: =IF(D21="Y", "Please complete the 'Buildings' table in Buildings, fleet & other assets sheet. See section 7.2 of the guidance for further information.", "")
B22: Buildings in scope | C22: Do you lease out buildings that you own to other public bodies? | E22: =IF(D22="Y", "If that public body is also reporting, these emissions are out of scope for your organisation. See section 7.2 of the guidance", "")
B23: Buildings in scope | C23: Do you lease out buildings that you own to private organisations for their own purposes? | E23: =IF(D23="Y", "The majority of these emissions are out of scope. See section 7.2 of the guidance.", "")
B24: Streetlighting in scope | C24: Do you own and operate streetlighting or signage | E24: =IF(D24="Y", "Please complete the 'Streetlighting' table in Buildings, fleet & other assets tab. See section 7.3 of the guidance for further help.", "")
B25: Fleet and equipment in scope | C25: Do you own or lease fleet and equipment? | E25: =IF(D25="Y", "Please complete the 'Fleet' table in Buidlings, fleet & other assets. See section 7.4 of the guidance for further help", "")
B26: Agriculture in scope | C26: Do you have farms with livestock (not leased out)? | E26: =IF(D26="Y", "Please complete the 'Agriculture' table in Buidlings, fleet & other assets. See section 7.5 of the guidance for further help", "")
B27: F-gases in scope | C27: Do you have air conditioning or refrigeration systems that require refrigerant gas top-ups, or do you use anaesthetic gases? | E27: =IF(D27="Y", "Please complete the 'Other gases' table in Buidlings, fleet & other assets. See section 7.5 of the guidance for further help", "")
B28: Business travel in scope | C28: Do staff travel for work using their own cars or other transport modes (not fleet vehicles) | E28: =IF(D28="Y", "Please complete the 'Business travel' table in Business travel, commute, home tab. See section 8.2 of the guidance for further help", "")
B29: Commuting in scope | C29: Do staff commute to offices or other sites? | E29: =IF(D29="Y", "Please complete the 'Commuting' table in Buidlings, fleet & other assets. See section 8.3 of the guidance for further help.", "")
B30: Homeworking in scope | C30: Do any staff work from home? | E30: =IF(D30="Y", "Please complete the 'Homeworking' table in Buidlings, fleet & other assets. See section 8.4 of the guidance for further help", "")
B31: Supply chain in scope | C31: Do you purchase goods and services? | E31: =IF(D31="Y", "Please complete the 'Supply chain emissions tab'. See section 10 of the guidance for further help", "")
B32: Land use in scope | C32: Do you own and manage land for providing public services, with a total of more than 10 hectares? | E32: =IF(D32="Y", "Please complete the 'Land Use emissions' sheet. See section 12 of the guidance for further information.", "")
B33: Waste in scope | C33: Does your organisation produce waste from operations that is collected from your premises by a third party organisation? | E33: =IF(D33="Y", "Please complete the 'Operational Waste' table in the Waste sheet. See section 9.2 of the guidance for further information.", "")
C34: Does your organisation produce waste from operations and also operate the collection service of this waste? | E34: =IF(D34="Y", "Please complete the 'Operational Waste' table in the Waste sheet. See section 9.2 of the guidance for further information.", "")
C35: Do you run waste collection services that collect and dispose of municipal waste? | E35: =IF(D35="Y", "Please complete the 'Municipal waste' table in the Waste sheet. See section 9.3 of the guidance for further information.", "")
C36: Do you contract out a waste collection service that collect and dispose of municipal waste? | E36: =IF(D36="Y", "Please either complete the 'Municipal waste' table in the Waste sheet OR record your annual spend for this servce in the supply chain sheet. See section 9.3 of the guidance for further information.", "")
B38: Reporting comments
B39: Reporting comments | C39: Please provide comments on scope and completeness of your report and any significant changes in methods compared to last year. This comment will be included in your individual organisation report output once data have been reviewed and compared across all organisations. If you wish for some of the comment to be excluded from that report please make that clear.
B41: Peer review (optional)
B42: Peer review | C42: Peer organisation that has reviewed the data and calculations
C43: Date of last review
C44: Name of reviewer
...

Sheet Version Log
B3: Version | C3: Data created | D3: Updated by | E3: Changes
B4: V3 | C4: 45404 | D4: HecW | E4: All changes requested for new reporting round, this is version published online
B5: V4 | C5: 45413 | D5: HecW | E5: HVO added as a fuel option for buildings from Hayley Warren's (TfW) request to net zero inbox
B6: V5 | C6: 45415 | D6: HecW | E6: HVO, ME and other biofuel related fuels have had their WTT and OOS emissions factors updated as per Hayley's(TfW) email see net zero inbox
B7: V6 | C7: 45422 | D7: HecW | E7: Site name column for buildings unlocked for editting (see NRW email). Car size info added to Business trvael tab as per Rachel Gradiner's email through Dale. Ben Turpin's email from Flintshire, updated unit lookup in agriculture table, made clearer where double counting can occur in supply chain table, added info for hiding/showing tables in the stationary assets tab.
B8: V7 | C8: 45433 | D8: HecW | E8: Supply chain combined tier 1 and tier 2 was adding tier 2 spend instead of tier 2 emissions after the first 2/3 of the calc, now fixed
B9: V8 | C9: 45447 | D9: HecW | E9: Unlocked site name for gas in the building tab. Updated the high and low calcs in supply chain table 2, as it had the same issue as that idenitified in v7 update. See Ben Turpins email.
B10: V9 | C10: 45457 | D10: HecW | E10: Added more lines for tier 2 suppliers in supply chain tab as per Central NHS request; CJCs added in as organsation options too
B11: V10 | C11: 45461 | D11: HecW | E11: Added Penthrox to medical gases
B12: V11 | C12: 45468 | D12: CarO | E12: Unlocked columns M and N on the land use and agriculture tabs
B13: V12 | C13: 45482 | D13: HecW | E13: Made it clearer that C51 needs to be fille din on municipal data tabe otherwise the table will show with errors

Sheet Summary results
B2: Summary of results
B3: ="This section provides a summary of the reported emissions for " &Introduction!D8 & " for " &Introduction!D9 -> This section provides a summary of the reported emissions for for
B4: You do not need to input any information into this sheet.
B5: Please note, 'Outside of scopes' emissions are not included in 'Total' emissions or 'High' and 'Low' estimates.
C6: Units of kgCO2e
B7: Total emissions | C7: Direct | D7: Indirect | E7: Indirect | F7: Total | G7: Estimated range | H7: Estimated range | I7: Outside of scopes
C8: Scope 1 | D8: Scope 2 | E8: Scope 3 | G8: High | H8: Low
B9: Total emissions | C9: =C19+C28+C36+C62+C71 -> 0 | D9: =D19+D28+D36+D62+D71 -> 0 | E9: =E19+E28+E36+E62+E71 -> 0 | F9: =F19+F28+F36+F62+F71 -> 0 | G9: =G19+G28+G36+G62+G71 -> 0 | H9: =H19+H28+H36+H62+H71 -> 0 | I9: =I19+I28+I36+I62+I71 -> 0
B12: Buildings & stationary assets | C12: Units of kgCO2e
B13: Categories | C13: Direct | D13: Indirect | E13: Indirect | F13: Total | G13: Estimated range | H13: Estimated range | I13: Outside of scopes
C14: Scope 1 | D14: Scope 2 | E14: Scope 3 | G14: High | H14: Low
B15: ='Buildings & stationary assets'!B5 -> Buildings | C15: =SUM(BuildingsTable[Direct]) -> 0 | D15: =SUM(BuildingsTable[Indirect generation]) -> 0 | E15: =SUM(BuildingsTable[[Indirect service]:[Indirect WTT]]) -> 0 | F15: =SUM(C15:E15) -> 0 | G15: =SUM(BuildingsTable[High]) -> 0 | H15: =SUM(BuildingsTable[Low]) -> 0 | I15: =SUM(BuildingsTable[Outside of scopes]) -> 0
B16: ='Buildings & stationary assets'!B119 -> Streetlighting | C16: =SUM(StreetlightingTable[Direct]) -> 0 | D16: =SUM(StreetlightingTable[Indirect generation]) -> 0 | E16: =SUM(StreetlightingTable[[Indirect service]:[Indirect WTT]]) -> 0 | F16: =SUM(C16:E16) -> 0 | G16: =SUM(StreetlightingTable[High]) -> 0 | H16: =SUM(StreetlightingTable[Low]) -> 0 | I16: =SUM(StreetlightingTable[Outside of scopes]) -> 0
B17: F gases | C17: =SUM(OthergasesTable[Direct]) -> 0 | D17: =SUM(OthergasesTable[Indirect generation]) -> 0 | E17: =SUM(OthergasesTable[[Indirect service]:[Indirect WTT]]) -> 0 | F17: =SUM(OthergasesTable[Total emissions (kgCO2e)]) -> 0 | G17: =SUM(OthergasesTable[High]) -> 0 | H17: =SUM(OthergasesTable[Low]) -> 0 | I17: =SUM(OthergasesTable[Outside of scopes]) -> 0
B18: Medical gases | C18: =SUM(Medicalgases[Direct]) -> 0 | D18: =SUM(Medicalgases[Indirect generation]) -> 0 | E18: =SUM(Medicalgases[[Indirect service]:[Indirect WTT]]) -> 0 | F18: =SUM(Medicalgases[Total emissions (kgCO2e)]) -> 0 | G18: =SUM(Medicalgases[High]) -> 0 | H18: =SUM(Medicalgases[Low]) -> 0 | I18: =SUM(Medicalgases[Outside of scopes]) -> 0
B19: Buildings & stationary assets total | C19: =SUM(C15:C18) -> 0 | D19: =SUM(D15:D18) -> 0 | E19: =SUM(E15:E18) -> 0 | F19: =SUM(F15:F18) -> 0 | G19: =SUM(G15:G18) -> 0 | H19: =SUM(H15:H18) -> 0 | I19: =SUM(I15:I18) -> 0
B21: Transport | C21: Units of kgCO2e
B22: Categories | C22: Direct | D22: Indirect | E22: Indirect | F22: Total | G22: Estimated range | H22: Estimated range | I22: Outside of scopes
C23: Scope 1 | D23: Scope 2 | E23: Scope 3 | G23: High | H23: Low
B24: Fleet and equipment | C24: =SUM(FleetTableDistance[Direct],FleetTableFuel[Direct]) -> 0 | D24: =SUM(FleetTableDistance[Indirect generation],FleetTableFuel[Indirect generation]) -> 0 | E24: =SUM(FleetTableDistance[[Indirect service]:[Indirect WTT]],FleetTableFuel[[Indirect service]:[Indirect WTT]]) -> 0 | F24: =SUM(C24:E24) -> 0 | G24: =SUM(FleetTableDistance[High],FleetTableFuel[High]) -> 0 | H24: =SUM(FleetTableDistance[Low],FleetTableFuel[Low]) -> 0 | I24: =SUM(FleetTableDistance[Outside of scopes],FleetTableFuel[Outside of scopes]) -> 0
B25: Business travel | C25: =SUM(BusinessTable[Direct]) -> 0 | D25: =SUM(BusinessTable[Indirect generation]) -> 0 | E25: =SUM(BusinessTable[[Indirect service]:[Indirect WTT]]) -> 0 | F25: =SUM(C25:E25) -> 0 | G25: =SUM(BusinessTable[High]) -> 0 | H25: =SUM(BusinessTable[Low]) -> 0 | I25: =SUM(BusinessTable[Outside of scopes]) -> 0
B26: Commuting | C26: =SUM(CommutingTable[Direct]) -> 0 | D26: =SUM(CommutingTable[Indirect generation]) -> 0 | E26: =SUM(CommutingTable[[Indirect service]:[Indirect WTT]]) -> 0 | F26: =SUM(C26:E26) -> 0 | G26: =SUM(CommutingTable[High]) -> 0 | H26: =SUM(CommutingTable[Low]) -> 0 | I26: =SUM(CommutingTable[Outside of scopes]) -> 0
B27: Homeworking | C27: =SUM(HomeworkingTable[Direct]) -> 0 | D27: =SUM(HomeworkingTable[Indirect generation]) -> 0 | E27: =SUM(HomeworkingTable[[Indirect service]:[Indirect WTT]]) -> 0 | F27: =SUM(C27:E27) -> 0 | G27: =SUM(HomeworkingTable[High]) -> 0 | H27: =SUM(HomeworkingTable[Low]) -> 0 | I27: =SUM(HomeworkingTable[Outside of scopes]) -> 0
B28: Transport total | C28: =SUM(C24:C27) -> 0 | D28: =SUM(D24:D27) -> 0 | E28: =SUM(E24:E27) -> 0 | F28: =SUM(F24:F27) -> 0 | G28: =SUM(G24:G27) -> 0 | H28: =SUM(H24:H27) -> 0 | I28: =SUM(I24:I27) -> 0
B30: Waste | C30: Units of kgCO2e
B31: Categories | C31: Direct | D31: Indirect | E31: Indirect | F31: Total | G31: Estimated range | H31: Estimated range | I31: Outside of scopes
C32: Scope 1 | D32: Scope 2 | E32: Scope 3 | G32: High | H32: Low
B33: Organisational waste | C33: =SUM(OrganisationalWasteTable[Direct]) -> 0 | D33: =-SUM(OrganisationalWasteTable[Indirect generation]) -> 0 | E33: =SUM(OrganisationalWasteTable[[Indirect service]:[Indirect WTT]]) -> 0 | F33: =SUM(C33:E33) -> 0 | G33: =SUM(OrganisationalWasteTable[High]) -> 0 | H33: =SUM(OrganisationalWasteTable[Low]) -> 0 | I33: =SUM(OrganisationalWasteTable[Outside of scopes]) -> 0
B34: Municipal waste | C34: =SUM(MunicipalWasteTable[Direct]) -> 0 | D34: =SUM(MunicipalWasteTable[Indirect generation]) -> 0 | E34: =SUM(MunicipalWasteTable[[Indirect service]:[Indirect WTT]]) -> 0 | F34: =SUM(C34:E34) -> 0 | G34: =SUM(MunicipalWasteTable[High]) -> 0 | H34: =SUM(MunicipalWasteTable[Low]) -> 0 | I34: =SUM(MunicipalWasteTable[Outside of scopes]) -> 0
B35: Project waste | C35: =SUM(ProjectWasteTable[Direct]) -> 0 | D35: =SUM(ProjectWasteTable[Indirect generation]) -> 0 | E35: =SUM(ProjectWasteTable[[Indirect service]:[Indirect WTT]]) -> 0 | F35: =SUM(C35:E35) -> 0 | G35: =SUM(ProjectWasteTable[High]) -> 0 | H35: =SUM(ProjectWasteTable[Low]) -> 0 | I35: =SUM(MunicipalWasteTable[Outside of scopes]) -> 0
B36: =B30 -> Waste | C36: =SUM(C33:C35) -> 0 | D36: =SUM(D33:D35) -> 0 | E36: =SUM(E33:E35) -> 0 | F36: =SUM(F33:F35) -> 0 | G36: =SUM(G33:G35) -> 0 | H36: =SUM(H33:H35) -> 0 | I36: =SUM(I33:I35) -> 0
B39: Supply chain - Tier 1 and Tier 2 combined | C39: Units of kgCO2e
B40: Categories | C40: Direct | D40: Indirect | E40: Indirect | F40: Total | G40: Estimated range | H40: Estimated range | I40: Outside of scopes
C41: Scope 1 | D41: Scope 2 | E41: Scope 3 | G41: High | H41: Low
B42: Agriculture, forestry and fishing | E42: =SUMIF(SupplyChainTier1[Supply chain group], B42, SupplyChainTier1[Indirect service]) -> 0 | F42: =SUM(E42) -> 0 | G42: =SUMIF(SupplyChainTier1[Supply chain group], B42, SupplyChainTier1[High]) -> 0 | H42: =SUMIF(SupplyChainTier1[Supply chain group], B42, SupplyChainTier1[Low]) -> 0
B43: Mining and quarrying | E43: =SUMIF(SupplyChainTier1[Supply chain group], B43, SupplyChainTier1[Indirect service]) -> 0 | F43: =SUM(E43) -> 0 | G43: =SUMIF(SupplyChainTier1[Supply chain group], B43, SupplyChainTier1[High]) -> 0 | H43: =SUMIF(SupplyChainTier1[Supply chain group], B43, SupplyChainTier1[Low]) -> 0
B44: Manufacturing | E44: =SUMIF(SupplyChainTier1[Supply chain group], B44, SupplyChainTier1[Indirect service]) -> 0 | F44: =SUM(E44) -> 0 | G44: =SUMIF(SupplyChainTier1[Supply chain group], B44, SupplyChainTier1[High]) -> 0 | H44: =SUMIF(SupplyChainTier1[Supply chain group], B44, SupplyChainTier1[Low]) -> 0
B45: Electricity, gas, steam and air conditioning supply | E45: =SUMIF(SupplyChainTier1[Supply chain group], B45, SupplyChainTier1[Indirect service]) -> 0 | F45: =SUM(E45) -> 0 | G45: =SUMIF(SupplyChainTier1[Supply chain group], B45, SupplyChainTier1[High]) -> 0 | H45: =SUMIF(SupplyChainTier1[Supply chain group], B45, SupplyChainTier1[Low]) -> 0
B46: Water supply; sewerage, waste management and remediation activities | E46: =SUMIF(SupplyChainTier1[Supply chain group], B46, SupplyChainTier1[Indirect service]) -> 0 | F46: =SUM(E46) -> 0 | G46: =SUMIF(SupplyChainTier1[Supply chain group], B46, SupplyChainTier1[High]) -> 0 | H46: =SUMIF(SupplyChainTier1[Supply chain group], B46, SupplyChainTier1[Low]) -> 0
B47: Construction | E47: =SUMIF(SupplyChainTier1[Supply chain group], B47, SupplyChainTier1[Indirect service]) -> 0 | F47: =SUM(E47) -> 0 | G47: =SUMIF(SupplyChainTier1[Supply chain group], B47, SupplyChainTier1[High]) -> 0 | H47: =SUMIF(SupplyChainTier1[Supply chain group], B47, SupplyChainTier1[Low]) -> 0
...

Sheet Buildings & stationary assets
N1: Cell colour codes: | O1: Information cell or question | Q1: Activity data. Numeric data entry
B2: Building, fleet and other assets | O2: Information entry. Some cells have drop down lists | Q2: Calculated data
B3: Guidance for users This sheet contains three tables - buildings, streetlighting, and other gases. Please see Section 7 of the Welsh Net Zero Public Sector Reporting Guide for further guidance.
B4: Instructions for users • Use the [+] symbols to the left of column A to show/hide the data tables for entry • Input information into the orange and blue cells. Grey cells should not be edited. • Activity data entered in the 'data' column should only be in units specified in the 'units' column drop down list. If your data is in units that are not included in this drop down list, you will need to convert it before entering it into this sheet (see conversion sheet) • When completing a row, fill in the columns from left to right. The drop down lists in later columns will change to provide valid combinations based on your previous selections. • You can copy and paste between rows but please avoid copying data from one column to another, as this is likely to break the drop down lists. • Fill in the notes column with a description of the method and data source used for each row •Please note that the 'Outside of scopes' emissions are not included in the 'Total emissions' •Building level data can be provided now, if providing building level data please add the name of the site, if aggregating all buildings then use the name 'All sites'
B5: Buildings | I5: =IF($Z$6=0,"No data entered",IF($Y$6=0,"No errors in this table","There are errors in this table see highlighted row(s)")) -> No data entered | O5: Emission data breakdown (kg CO2e) | Y5: Error Test | Z5: Blank Test
B6: Site name | C6: Ownership structure | D6: Fuel/emission source | E6: Category 1 | F6: Methodology | G6: RSD | H6: Data | I6: Units | J6: Converted data | K6: Standard units | L6: Total EF (kgCO2e/unit) | M6: Total emissions (kgCO2e) | N6: Notes | O6: Ease of collection | P6: Direct | Q6: Indirect generation | R6: Indirect service | S6: Indirect T&D | T6: Indirect WTT | U6: High | V6: Low | W6: Outside of scopes | Y6: =SUM(Y7:Y117) -> 0 | Z6: =SUM(Z7:Z117) -> 0
G7: =IF(F7="","",INDEX(Lists!$BA$4:$BC$31,MATCH(D7,Lists!$AZ$4:$AZ$31,0),MATCH(F7,Lists!$BA$3:$BC$3,0))) | J7: {=IF(OR($D7="",$C7="",$H7="",$I7=""),"",IF(I7=K7,H7,(INDEX('Emission factors'!$K$3:$V$201,MATCH(D7&E7,'Emission factors'!$J$3:$J$201&'Emission factors'!$K$3:$K$201,0),MATCH(J$6,'Emission factors'!$K$2:$V$2,0)))*H7))} | K7: =IF(OR($D7="",$C7="",$H7="",$I7=""),"",INDEX('Emission factors'!$K$3:$V$201,MATCH('Buildings & stationary assets'!$D7,'Emission factors'!$J$3:$J$201,0),MATCH($K$6,'Emission factors'!$K$2:$V$2,0))) | L7: {=IF(OR(D7="",H7="",BuildingsTable[[#This Row],[Units]]=""),"",INDEX('Emission factors'!$K$3:$V$201,MATCH('Buildings & stationary assets'!$D7&E7,'Emission factors'!$J$3:$J$201&'Emission factors'!$K$3:$K$201,0),MATCH('Buildings & stationary assets'!$L$6,'Emission factors'!$K$2:$V$2,0)))} | M7: =IF(OR(J7="",L7=""),"",SUM(BuildingsTable[[#This Row],[Direct]:[Indirect WTT]])) | P7: {=IF(OR($D7="",$H7=""),"",(INDEX('Emission factors'!$K$3:$V$201,MATCH('Buildings & stationary assets'!$D7&$E7,'Emission factors'!$J$3:$J$201&'Emission factors'!$K$3:$K$201,0),MATCH('Buildings & stationary assets'!P$6,'Emission factors'!$K$2:$V$2,0)))*$J7)} | Q7: {=IF(OR($D7="",$H7=""),"",(INDEX('Emission factors'!$K$3:$V$201,MATCH('Buildings & stationary assets'!$D7&$E7,'Emission factors'!$J$3:$J$201&'Emission factors'!$K$3:$K$201,0),MATCH('Buildings & stationary assets'!Q$6,'Emission factors'!$K$2:$V$2,0)))*$J7)} | R7: {=IF(OR($D7="",$H7=""),"",(INDEX('Emission factors'!$K$3:$V$201,MATCH('Buildings & stationary assets'!$D7&$E7,'Emission factors'!$J$3:$J$201&'Emission factors'!$K$3:$K$201,0),MATCH('Buildings & stationary assets'!R$6,'Emission factors'!$K$2:$V$2,0)))*$J7)} | S7: {=IF(OR($D7="",$H7=""),"",(INDEX('Emission factors'!$K$3:$V$201,MATCH('Buildings & stationary assets'!$D7&$E7,'Emission factors'!$J$3:$J$201&'Emission factors'!$K$3:$K$201,0),MATCH('Buildings & stationary assets'!S$6,'Emission factors'!$K$2:$V$2,0)))*$J7)} | T7: {=IF(OR($D7="",$H7=""),"",(INDEX('Emission factors'!$K$3:$V$201,MATCH('Buildings & stationary assets'!$D7&$E7,'Emission factors'!$J$3:$J$201&'Emission factors'!$K$3:$K$201,0),MATCH('Buildings & stationary assets'!T$6,'Emission factors'!$K$2:$V$2,0)))*$J7)} | U7: =IF(OR($M7="",BuildingsTable[[#This Row],[RSD]]=""),"",BuildingsTable[[#This Row],[Total emissions (kgCO2e)]]*(1+BuildingsTable[[#This Row],[RSD]])) | V7: =IF(OR($M7="",BuildingsTable[[#This Row],[RSD]]=""),"",BuildingsTable[[#This Row],[Total emissions (kgCO2e)]]*(1-BuildingsTable[[#This Row],[RSD]])) | W7: {=IF(OR($D7="",$H7=""),"",(INDEX('Emission factors'!$K$3:$V$201,MATCH('Buildings & stationary assets'!$D7&$E7,'Emission factors'!$J$3:$J$201&'Emission factors'!$K$3:$K$201,0),MATCH('Buildings & stationary assets'!W$6,'Emission factors'!$K$2:$V$2,0)))*$J7)} | Y7: {=IF(OR(ISERROR(B7:W7)),1,0)} -> 0 | Z7: =IF(AND(D7="",H7="",I7=""),0,1) -> 0
G8: =IF(F8="","",INDEX(Lists!$BA$4:$BC$31,MATCH(D8,Lists!$AZ$4:$AZ$31,0),MATCH(F8,Lists!$BA$3:$BC$3,0))) | J8: {=IF(OR($D8="",$C8="",$H8="",$I8=""),"",IF(I8=K8,H8,(INDEX('Emission factors'!$K$3:$V$201,MATCH(D8&E8,'Emission factors'!$J$3:$J$201&'Emission factors'!$K$3:$K$201,0),MATCH(J$6,'Emission factors'!$K$2:$V$2,0)))*H8))} | K8: =IF(OR($D8="",$C8="",$H8="",$I8=""),"",INDEX('Emission factors'!$K$3:$V$201,MATCH('Buildings & stationary assets'!$D8,'Emission factors'!$J$3:$J$201,0),MATCH($K$6,'Emission factors'!$K$2:$V$2,0))) | L8: {=IF(OR(D8="",H8="",BuildingsTable[[#This Row],[Units]]=""),"",INDEX('Emission factors'!$K$3:$V$201,MATCH('Buildings & stationary assets'!$D8&E8,'Emission factors'!$J$3:$J$201&'Emission factors'!$K$3:$K$201,0),MATCH('Buildings & stationary assets'!$L$6,'Emission factors'!$K$2:$V$2,0)))} | M8: =IF(OR(J8="",L8=""),"",SUM(BuildingsTable[[#This Row],[Direct]:[Indirect WTT]])) | P8: {=IF(OR($D8="",$H8=""),"",(INDEX('Emission factors'!$K$3:$V$201,MATCH('Buildings & stationary assets'!$D8&$E8,'Emission factors'!$J$3:$J$201&'Emission factors'!$K$3:$K$201,0),MATCH('Buildings & stationary assets'!P$6,'Emission factors'!$K$2:$V$2,0)))*$J8)} | Q8: {=IF(OR($D8="",$H8=""),"",(INDEX('Emission factors'!$K$3:$V$201,MATCH('Buildings & stationary assets'!$D8&$E8,'Emission factors'!$J$3:$J$201&'Emission factors'!$K$3:$K$201,0),MATCH('Buildings & stationary assets'!Q$6,'Emission factors'!$K$2:$V$2,0)))*$J8)} | R8: {=IF(OR($D8="",$H8=""),"",(INDEX('Emission factors'!$K$3:$V$201,MATCH('Buildings & stationary assets'!$D8&$E8,'Emission factors'!$J$3:$J$201&'Emission factors'!$K$3:$K$201,0),MATCH('Buildings & stationary assets'!R$6,'Emission factors'!$K$2:$V$2,0)))*$J8)} | S8: {=IF(OR($D8="",$H8=""),"",(INDEX('Emission factors'!$K$3:$V$201,MATCH('Buildings & stationary assets'!$D8&$E8,'Emission factors'!$J$3:$J$201&'Emission factors'!$K$3:$K$201,0),MATCH('Buildings & stationary assets'!S$6,'Emission factors'!$K$2:$V$2,0)))*$J8)} | T8: {=IF(OR($D8="",$H8=""),"",(INDEX('Emission factors'!$K$3:$V$201,MATCH('Buildings & stationary assets'!$D8&$E8,'Emission factors'!$J$3:$J$201&'Emission factors'!$K$3:$K$201,0),MATCH('Buildings & stationary assets'!T$6,'Emission factors'!$K$2:$V$2,0)))*$J8)} | U8: =IF(OR($M8="",BuildingsTable[[#This Row],[RSD]]=""),"",BuildingsTable[[#This Row],[Total emissions (kgCO2e)]]*(1+BuildingsTable[[#This Row],[RSD]])) | V8: =IF(OR($M8="",BuildingsTable[[#This Row],[RSD]]=""),"",BuildingsTable[[#This Row],[Total emissions (kgCO2e)]]*(1-BuildingsTable[[#This Row],[RSD]])) | W8: {=IF(OR($D8="",$H8=""),"",(INDEX('Emission factors'!$K$3:$V$201,MATCH('Buildings & stationary assets'!$D8&$E8,'Emission factors'!$J$3:$J$201&'Emission factors'!$K$3:$K$201,0),MATCH('Buildings & stationary assets'!W$6,'Emission factors'!$K$2:$V$2,0)))*$J8)} | Y8: {=IF(OR(ISERROR(B8:W8)),1,0)} -> 0 | Z8: =IF(AND(D8="",H8="",I8=""),0,1) -> 0
G9: =IF(F9="","",INDEX(Lists!$BA$4:$BC$31,MATCH(D9,Lists!$AZ$4:$AZ$31,0),MATCH(F9,Lists!$BA$3:$BC$3,0))) | J9: {=IF(OR($D9="",$C9="",$H9="",$I9=""),"",IF(I9=K9,H9,(INDEX('Emission factors'!$K$3:$V$201,MATCH(D9&E9,'Emission factors'!$J$3:$J$201&'Emission factors'!$K$3:$K$201,0),MATCH(J$6,'Emission factors'!$K$2:$V$2,0)))*H9))} | K9: =IF(OR($D9="",$C9="",$H9="",$I9=""),"",INDEX('Emission factors'!$K$3:$V$201,MATCH('Buildings & stationary assets'!$D9,'Emission factors'!$J$3:$J$201,0),MATCH($K$6,'Emission factors'!$K$2:$V$2,0))) | L9: {=IF(OR(D9="",H9="",BuildingsTable[[#This Row],[Units]]=""),"",INDEX('Emission factors'!$K$3:$V$201,MATCH('Buildings & stationary assets'!$D9&E9,'Emission factors'!$J$3:$J$201&'Emission factors'!$K$3:$K$201,0),MATCH('Buildings & stationary assets'!$L$6,'Emission factors'!$K$2:$V$2,0)))} | M9: =IF(OR(J9="",L9=""),"",SUM(BuildingsTable[[#This Row],[Direct]:[Indirect WTT]])) | P9: {=IF(OR($D9="",$H9=""),"",(INDEX('Emission factors'!$K$3:$V$201,MATCH('Buildings & stationary assets'!$D9&$E9,'Emission factors'!$J$3:$J$201&'Emission factors'!$K$3:$K$201,0),MATCH('Buildings & stationary assets'!P$6,'Emission factors'!$K$2:$V$2,0)))*$J9)} | Q9: {=IF(OR($D9="",$H9=""),"",(INDEX('Emission factors'!$K$3:$V$201,MATCH('Buildings & stationary assets'!$D9&$E9,'Emission factors'!$J$3:$J$201&'Emission factors'!$K$3:$K$201,0),MATCH('Buildings & stationary assets'!Q$6,'Emission factors'!$K$2:$V$2,0)))*$J9)} | R9: {=IF(OR($D9="",$H9=""),"",(INDEX('Emission factors'!$K$3:$V$201,MATCH('Buildings & stationary assets'!$D9&$E9,'Emission factors'!$J$3:$J$201&'Emission factors'!$K$3:$K$201,0),MATCH('Buildings & stationary assets'!R$6,'Emission factors'!$K$2:$V$2,0)))*$J9)} | S9: {=IF(OR($D9="",$H9=""),"",(INDEX('Emission factors'!$K$3:$V$201,MATCH('Buildings & stationary assets'!$D9&$E9,'Emission factors'!$J$3:$J$201&'Emission factors'!$K$3:$K$201,0),MATCH('Buildings & stationary assets'!S$6,'Emission factors'!$K$2:$V$2,0)))*$J9)} | T9: {=IF(OR($D9="",$H9=""),"",(INDEX('Emission factors'!$K$3:$V$201,MATCH('Buildings & stationary assets'!$D9&$E9,'Emission factors'!$J$3:$J$201&'Emission factors'!$K$3:$K$201,0),MATCH('Buildings & stationary assets'!T$6,'Emission factors'!$K$2:$V$2,0)))*$J9)} | U9: =IF(OR($M9="",BuildingsTable[[#This Row],[RSD]]=""),"",BuildingsTable[[#This Row],[Total emissions (kgCO2e)]]*(1+BuildingsTable[[#This Row],[RSD]])) | V9: =IF(OR($M9="",BuildingsTable[[#This Row],[RSD]]=""),"",BuildingsTable[[#This Row],[Total emissions (kgCO2e)]]*(1-BuildingsTable[[#This Row],[RSD]])) | W9: {=IF(OR($D9="",$H9=""),"",(INDEX('Emission factors'!$K$3:$V$201,MATCH('Buildings & stationary assets'!$D9&$E9,'Emission factors'!$J$3:$J$201&'Emission factors'!$K$3:$K$201,0),MATCH('Buildings & stationary assets'!W$6,'Emission factors'!$K$2:$V$2,0)))*$J9)} | Y9: {=IF(OR(ISERROR(B9:W9)),1,0)} -> 0 | Z9: =IF(AND(D9="",H9="",I9=""),0,1) -> 0
G10: =IF(F10="","",INDEX(Lists!$BA$4:$BC$31,MATCH(D10,Lists!$AZ$4:$AZ$31,0),MATCH(F10,Lists!$BA$3:$BC$3,0))) | J10: {=IF(OR($D10="",$C10="",$H10="",$I10=""),"",IF(I10=K10,H10,(INDEX('Emission factors'!$K$3:$V$201,MATCH(D10&E10,'Emission factors'!$J$3:$J$201&'Emission factors'!$K$3:$K$201,0),MATCH(J$6,'Emission factors'!$K$2:$V$2,0)))*H10))} | K10: =IF(OR($D10="",$C10="",$H10="",$I10=""),"",INDEX('Emission factors'!$K$3:$V$201,MATCH('Buildings & stationary assets'!$D10,'Emission factors'!$J$3:$J$201,0),MATCH($K$6,'Emission factors'!$K$2:$V$2,0))) | L10: {=IF(OR(D10="",H10="",BuildingsTable[[#This Row],[Units]]=""),"",INDEX('Emission factors'!$K$3:$V$201,MATCH('Buildings & stationary assets'!$D10&E10,'Emission factors'!$J$3:$J$201&'Emission factors'!$K$3:$K$201,0),MATCH('Buildings & stationary assets'!$L$6,'Emission factors'!$K$2:$V$2,0)))} | M10: =IF(OR(J10="",L10=""),"",SUM(BuildingsTable[[#This Row],[Direct]:[Indirect WTT]])) | P10: {=IF(OR($D10="",$H10=""),"",(INDEX('Emission factors'!$K$3:$V$201,MATCH('Buildings & stationary assets'!$D10&$E10,'Emission factors'!$J$3:$J$201&'Emission factors'!$K$3:$K$201,0),MATCH('Buildings & stationary assets'!P$6,'Emission factors'!$K$2:$V$2,0)))*$J10)} | Q10: {=IF(OR($D10="",$H10=""),"",(INDEX('Emission factors'!$K$3:$V$201,MATCH('Buildings & stationary assets'!$D10&$E10,'Emission factors'!$J$3:$J$201&'Emission factors'!$K$3:$K$201,0),MATCH('Buildings & stationary assets'!Q$6,'Emission factors'!$K$2:$V$2,0)))*$J10)} | R10: {=IF(OR($D10="",$H10=""),"",(INDEX('Emission factors'!$K$3:$V$201,MATCH('Buildings & stationary assets'!$D10&$E10,'Emission factors'!$J$3:$J$201&'Emission factors'!$K$3:$K$201,0),MATCH('Buildings & stationary assets'!R$6,'Emission factors'!$K$2:$V$2,0)))*$J10)} | S10: {=IF(OR($D10="",$H10=""),"",(INDEX('Emission factors'!$K$3:$V$201,MATCH('Buildings & stationary assets'!$D10&$E10,'Emission factors'!$J$3:$J$201&'Emission factors'!$K$3:$K$201,0),MATCH('Buildings & stationary assets'!S$6,'Emission factors'!$K$2:$V$2,0)))*$J10)} | T10: {=IF(OR($D10="",$H10=""),"",(INDEX('Emission factors'!$K$3:$V$201,MATCH('Buildings & stationary assets'!$D10&$E10,'Emission factors'!$J$3:$J$201&'Emission factors'!$K$3:$K$201,0),MATCH('Buildings & stationary assets'!T$6,'Emission factors'!$K$2:$V$2,0)))*$J10)} | U10: =IF(OR($M10="",BuildingsTable[[#This Row],[RSD]]=""),"",BuildingsTable[[#This Row],[Total emissions (kgCO2e)]]*(1+BuildingsTable[[#This Row],[RSD]])) | V10: =IF(OR($M10="",BuildingsTable[[#This Row],[RSD]]=""),"",BuildingsTable[[#This Row],[Total emissions (kgCO2e)]]*(1-BuildingsTable[[#This Row],[RSD]])) | W10: {=IF(OR($D10="",$H10=""),"",(INDEX('Emission factors'!$K$3:$V$201,MATCH('Buildings & stationary assets'!$D10&$E10,'Emission factors'!$J$3:$J$201&'Emission factors'!$K$3:$K$201,0),MATCH('Buildings & stationary assets'!W$6,'Emission factors'!$K$2:$V$2,0)))*$J10)} | Y10: {=IF(OR(ISERROR(B10:W10)),1,0)} -> 0 | Z10: =IF(AND(D10="",H10="",I10=""),0,1) -> 0
G11: =IF(F11="","",INDEX(Lists!$BA$4:$BC$31,MATCH(D11,Lists!$AZ$4:$AZ$31,0),MATCH(F11,Lists!$BA$3:$BC$3,0))) | J11: {=IF(OR($D11="",$C11="",$H11="",$I11=""),"",IF(I11=K11,H11,(INDEX('Emission factors'!$K$3:$V$201,MATCH(D11&E11,'Emission factors'!$J$3:$J$201&'Emission factors'!$K$3:$K$201,0),MATCH(J$6,'Emission factors'!$K$2:$V$2,0)))*H11))} | K11: =IF(OR($D11="",$C11="",$H11="",$I11=""),"",INDEX('Emission factors'!$K$3:$V$201,MATCH('Buildings & stationary assets'!$D11,'Emission factors'!$J$3:$J$201,0),MATCH($K$6,'Emission factors'!$K$2:$V$2,0))) | L11: {=IF(OR(D11="",H11="",BuildingsTable[[#This Row],[Units]]=""),"",INDEX('Emission factors'!$K$3:$V$201,MATCH('Buildings & stationary assets'!$D11&E11,'Emission factors'!$J$3:$J$201&'Emission factors'!$K$3:$K$201,0),MATCH('Buildings & stationary assets'!$L$6,'Emission factors'!$K$2:$V$2,0)))} | M11: =IF(OR(J11="",L11=""),"",SUM(BuildingsTable[[#This Row],[Direct]:[Indirect WTT]])) | P11: {=IF(OR($D11="",$H11=""),"",(INDEX('Emission factors'!$K$3:$V$201,MATCH('Buildings & stationary assets'!$D11&$E11,'Emission factors'!$J$3:$J$201&'Emission factors'!$K$3:$K$201,0),MATCH('Buildings & stationary assets'!P$6,'Emission factors'!$K$2:$V$2,0)))*$J11)} | Q11: {=IF(OR($D11="",$H11=""),"",(INDEX('Emission factors'!$K$3:$V$201,MATCH('Buildings & stationary assets'!$D11&$E11,'Emission factors'!$J$3:$J$201&'Emission factors'!$K$3:$K$201,0),MATCH('Buildings & stationary assets'!Q$6,'Emission factors'!$K$2:$V$2,0)))*$J11)} | R11: {=IF(OR($D11="",$H11=""),"",(INDEX('Emission factors'!$K$3:$V$201,MATCH('Buildings & stationary assets'!$D11&$E11,'Emission factors'!$J$3:$J$201&'Emission factors'!$K$3:$K$201,0),MATCH('Buildings & stationary assets'!R$6,'Emission factors'!$K$2:$V$2,0)))*$J11)} | S11: {=IF(OR($D11="",$H11=""),"",(INDEX('Emission factors'!$K$3:$V$201,MATCH('Buildings & stationary assets'!$D11&$E11,'Emission factors'!$J$3:$J$201&'Emission factors'!$K$3:$K$201,0),MATCH('Buildings & stationary assets'!S$6,'Emission factors'!$K$2:$V$2,0)))*$J11)} | T11: {=IF(OR($D11="",$H11=""),"",(INDEX('Emission factors'!$K$3:$V$201,MATCH('Buildings & stationary assets'!$D11&$E11,'Emission factors'!$J$3:$J$201&'Emission factors'!$K$3:$K$201,0),MATCH('Buildings & stationary assets'!T$6,'Emission factors'!$K$2:$V$2,0)))*$J11)} | U11: =IF(OR($M11="",BuildingsTable[[#This Row],[RSD]]=""),"",BuildingsTable[[#This Row],[Total emissions (kgCO2e)]]*(1+BuildingsTable[[#This Row],[RSD]])) | V11: =IF(OR($M11="",BuildingsTable[[#This Row],[RSD]]=""),"",BuildingsTable[[#This Row],[Total emissions (kgCO2e)]]*(1-BuildingsTable[[#This Row],[RSD]])) | W11: {=IF(OR($D11="",$H11=""),"",(INDEX('Emission factors'!$K$3:$V$201,MATCH('Buildings & stationary assets'!$D11&$E11,'Emission factors'!$J$3:$J$201&'Emission factors'!$K$3:$K$201,0),MATCH('Buildings & stationary assets'!W$6,'Emission factors'!$K$2:$V$2,0)))*$J11)} | Y11: {=IF(OR(ISERROR(B11:W11)),1,0)} -> 0 | Z11: =IF(AND(D11="",H11="",I11=""),0,1) -> 0
G12: =IF(F12="","",INDEX(Lists!$BA$4:$BC$31,MATCH(D12,Lists!$AZ$4:$AZ$31,0),MATCH(F12,Lists!$BA$3:$BC$3,0))) | J12: {=IF(OR($D12="",$C12="",$H12="",$I12=""),"",IF(I12=K12,H12,(INDEX('Emission factors'!$K$3:$V$201,MATCH(D12&E12,'Emission factors'!$J$3:$J$201&'Emission factors'!$K$3:$K$201,0),MATCH(J$6,'Emission factors'!$K$2:$V$2,0)))*H12))} | K12: =IF(OR($D12="",$C12="",$H12="",$I12=""),"",INDEX('Emission factors'!$K$3:$V$201,MATCH('Buildings & stationary assets'!$D12,'Emission factors'!$J$3:$J$201,0),MATCH($K$6,'Emission factors'!$K$2:$V$2,0))) | L12: {=IF(OR(D12="",H12="",BuildingsTable[[#This Row],[Units]]=""),"",INDEX('Emission factors'!$K$3:$V$201,MATCH('Buildings & stationary assets'!$D12&E12,'Emission factors'!$J$3:$J$201&'Emission factors'!$K$3:$K$201,0),MATCH('Buildings & stationary assets'!$L$6,'Emission factors'!$K$2:$V$2,0)))} | M12: =IF(OR(J12="",L12=""),"",SUM(BuildingsTable[[#This Row],[Direct]:[Indirect WTT]])) | P12: {=IF(OR($D12="",$H12=""),"",(INDEX('Emission factors'!$K$3:$V$201,MATCH('Buildings & stationary assets'!$D12&$E12,'Emission factors'!$J$3:$J$201&'Emission factors'!$K$3:$K$201,0),MATCH('Buildings & stationary assets'!P$6,'Emission factors'!$K$2:$V$2,0)))*$J12)} | Q12: {=IF(OR($D12="",$H12=""),"",(INDEX('Emission factors'!$K$3:$V$201,MATCH('Buildings & stationary assets'!$D12&$E12,'Emission factors'!$J$3:$J$201&'Emission factors'!$K$3:$K$201,0),MATCH('Buildings & stationary assets'!Q$6,'Emission factors'!$K$2:$V$2,0)))*$J12)} | R12: {=IF(OR($D12="",$H12=""),"",(INDEX('Emission factors'!$K$3:$V$201,MATCH('Buildings & stationary assets'!$D12&$E12,'Emission factors'!$J$3:$J$201&'Emission factors'!$K$3:$K$201,0),MATCH('Buildings & stationary assets'!R$6,'Emission factors'!$K$2:$V$2,0)))*$J12)} | S12: {=IF(OR($D12="",$H12=""),"",(INDEX('Emission factors'!$K$3:$V$201,MATCH('Buildings & stationary assets'!$D12&$E12,'Emission factors'!$J$3:$J$201&'Emission factors'!$K$3:$K$201,0),MATCH('Buildings & stationary assets'!S$6,'Emission factors'!$K$2:$V$2,0)))*$J12)} | T12: {=IF(OR($D12="",$H12=""),"",(INDEX('Emission factors'!$K$3:$V$201,MATCH('Buildings & stationary assets'!$D12&$E12,'Emission factors'!$J$3:$J$201&'Emission factors'!$K$3:$K$201,0),MATCH('Buildings & stationary assets'!T$6,'Emission factors'!$K$2:$V$2,0)))*$J12)} | U12: =IF(OR($M12="",BuildingsTable[[#This Row],[RSD]]=""),"",BuildingsTable[[#This Row],[Total emissions (kgCO2e)]]*(1+BuildingsTable[[#This Row],[RSD]])) | V12: =IF(OR($M12="",BuildingsTable[[#This Row],[RSD]]=""),"",BuildingsTable[[#This Row],[Total emissions (kgCO2e)]]*(1-BuildingsTable[[#This Row],[RSD]])) | W12: {=IF(OR($D12="",$H12=""),"",(INDEX('Emission factors'!$K$3:$V$201,MATCH('Buildings & stationary assets'!$D12&$E12,'Emission factors'!$J$3:$J$201&'Emission factors'!$K$3:$K$201,0),MATCH('Buildings & stationary assets'!W$6,'Emission factors'!$K$2:$V$2,0)))*$J12)} | Y12: {=IF(OR(ISERROR(B12:W12)),1,0)} -> 0 | Z12: =IF(AND(D12="",H12="",I12=""),0,1) -> 0
G13: =IF(F13="","",INDEX(Lists!$BA$4:$BC$31,MATCH(D13,Lists!$AZ$4:$AZ$31,0),MATCH(F13,Lists!$BA$3:$BC$3,0))) | J13: {=IF(OR($D13="",$C13="",$H13="",$I13=""),"",IF(I13=K13,H13,(INDEX('Emission factors'!$K$3:$V$201,MATCH(D13&E13,'Emission factors'!$J$3:$J$201&'Emission factors'!$K$3:$K$201,0),MATCH(J$6,'Emission factors'!$K$2:$V$2,0)))*H13))} | K13: =IF(OR($D13="",$C13="",$H13="",$I13=""),"",INDEX('Emission factors'!$K$3:$V$201,MATCH('Buildings & stationary assets'!$D13,'Emission factors'!$J$3:$J$201,0),MATCH($K$6,'Emission factors'!$K$2:$V$2,0))) | L13: {=IF(OR(D13="",H13="",BuildingsTable[[#This Row],[Units]]=""),"",INDEX('Emission factors'!$K$3:$V$201,MATCH('Buildings & stationary assets'!$D13&E13,'Emission factors'!$J$3:$J$201&'Emission factors'!$K$3:$K$201,0),MATCH('Buildings & stationary assets'!$L$6,'Emission factors'!$K$2:$V$2,0)))} | M13: =IF(OR(J13="",L13=""),"",SUM(BuildingsTable[[#This Row],[Direct]:[Indirect WTT]])) | P13: {=IF(OR($D13="",$H13=""),"",(INDEX('Emission factors'!$K$3:$V$201,MATCH('Buildings & stationary assets'!$D13&$E13,'Emission factors'!$J$3:$J$201&'Emission factors'!$K$3:$K$201,0),MATCH('Buildings & stationary assets'!P$6,'Emission factors'!$K$2:$V$2,0)))*$J13)} | Q13: {=IF(OR($D13="",$H13=""),"",(INDEX('Emission factors'!$K$3:$V$201,MATCH('Buildings & stationary assets'!$D13&$E13,'Emission factors'!$J$3:$J$201&'Emission factors'!$K$3:$K$201,0),MATCH('Buildings & stationary assets'!Q$6,'Emission factors'!$K$2:$V$2,0)))*$J13)} | R13: {=IF(OR($D13="",$H13=""),"",(INDEX('Emission factors'!$K$3:$V$201,MATCH('Buildings & stationary assets'!$D13&$E13,'Emission factors'!$J$3:$J$201&'Emission factors'!$K$3:$K$201,0),MATCH('Buildings & stationary assets'!R$6,'Emission factors'!$K$2:$V$2,0)))*$J13)} | S13: {=IF(OR($D13="",$H13=""),"",(INDEX('Emission factors'!$K$3:$V$201,MATCH('Buildings & stationary assets'!$D13&$E13,'Emission factors'!$J$3:$J$201&'Emission factors'!$K$3:$K$201,0),MATCH('Buildings & stationary assets'!S$6,'Emission factors'!$K$2:$V$2,0)))*$J13)} | T13: {=IF(OR($D13="",$H13=""),"",(INDEX('Emission factors'!$K$3:$V$201,MATCH('Buildings & stationary assets'!$D13&$E13,'Emission factors'!$J$3:$J$201&'Emission factors'!$K$3:$K$201,0),MATCH('Buildings & stationary assets'!T$6,'Emission factors'!$K$2:$V$2,0)))*$J13)} | U13: =IF(OR($M13="",BuildingsTable[[#This Row],[RSD]]=""),"",BuildingsTable[[#This Row],[Total emissions (kgCO2e)]]*(1+BuildingsTable[[#This Row],[RSD]])) | V13: =IF(OR($M13="",BuildingsTable[[#This Row],[RSD]]=""),"",BuildingsTable[[#This Row],[Total emissions (kgCO2e)]]*(1-BuildingsTable[[#This Row],[RSD]])) | W13: {=IF(OR($D13="",$H13=""),"",(INDEX('Emission factors'!$K$3:$V$201,MATCH('Buildings & stationary assets'!$D13&$E13,'Emission factors'!$J$3:$J$201&'Emission factors'!$K$3:$K$201,0),MATCH('Buildings & stationary assets'!W$6,'Emission factors'!$K$2:$V$2,0)))*$J13)} | Y13: {=IF(OR(ISERROR(B13:W13)),1,0)} -> 0 | Z13: =IF(AND(D13="",H13="",I13=""),0,1) -> 0
G14: =IF(F14="","",INDEX(Lists!$BA$4:$BC$31,MATCH(D14,Lists!$AZ$4:$AZ$31,0),MATCH(F14,Lists!$BA$3:$BC$3,0))) | J14: {=IF(OR($D14="",$C14="",$H14="",$I14=""),"",IF(I14=K14,H14,(INDEX('Emission factors'!$K$3:$V$201,MATCH(D14&E14,'Emission factors'!$J$3:$J$201&'Emission factors'!$K$3:$K$201,0),MATCH(J$6,'Emission factors'!$K$2:$V$2,0)))*H14))} | K14: =IF(OR($D14="",$C14="",$H14="",$I14=""),"",INDEX('Emission factors'!$K$3:$V$201,MATCH('Buildings & stationary assets'!$D14,'Emission factors'!$J$3:$J$201,0),MATCH($K$6,'Emission factors'!$K$2:$V$2,0))) | L14: {=IF(OR(D14="",H14="",BuildingsTable[[#This Row],[Units]]=""),"",INDEX('Emission factors'!$K$3:$V$201,MATCH('Buildings & stationary assets'!$D14&E14,'Emission factors'!$J$3:$J$201&'Emission factors'!$K$3:$K$201,0),MATCH('Buildings & stationary assets'!$L$6,'Emission factors'!$K$2:$V$2,0)))} | M14: =IF(OR(J14="",L14=""),"",SUM(BuildingsTable[[#This Row],[Direct]:[Indirect WTT]])) | P14: {=IF(OR($D14="",$H14=""),"",(INDEX('Emission factors'!$K$3:$V$201,MATCH('Buildings & stationary assets'!$D14&$E14,'Emission factors'!$J$3:$J$201&'Emission factors'!$K$3:$K$201,0),MATCH('Buildings & stationary assets'!P$6,'Emission factors'!$K$2:$V$2,0)))*$J14)} | Q14: {=IF(OR($D14="",$H14=""),"",(INDEX('Emission factors'!$K$3:$V$201,MATCH('Buildings & stationary assets'!$D14&$E14,'Emission factors'!$J$3:$J$201&'Emission factors'!$K$3:$K$201,0),MATCH('Buildings & stationary assets'!Q$6,'Emission factors'!$K$2:$V$2,0)))*$J14)} | R14: {=IF(OR($D14="",$H14=""),"",(INDEX('Emission factors'!$K$3:$V$201,MATCH('Buildings & stationary assets'!$D14&$E14,'Emission factors'!$J$3:$J$201&'Emission factors'!$K$3:$K$201,0),MATCH('Buildings & stationary assets'!R$6,'Emission factors'!$K$2:$V$2,0)))*$J14)} | S14: {=IF(OR($D14="",$H14=""),"",(INDEX('Emission factors'!$K$3:$V$201,MATCH('Buildings & stationary assets'!$D14&$E14,'Emission factors'!$J$3:$J$201&'Emission factors'!$K$3:$K$201,0),MATCH('Buildings & stationary assets'!S$6,'Emission factors'!$K$2:$V$2,0)))*$J14)} | T14: {=IF(OR($D14="",$H14=""),"",(INDEX('Emission factors'!$K$3:$V$201,MATCH('Buildings & stationary assets'!$D14&$E14,'Emission factors'!$J$3:$J$201&'Emission factors'!$K$3:$K$201,0),MATCH('Buildings & stationary assets'!T$6,'Emission factors'!$K$2:$V$2,0)))*$J14)} | U14: =IF(OR($M14="",BuildingsTable[[#This Row],[RSD]]=""),"",BuildingsTable[[#This Row],[Total emissions (kgCO2e)]]*(1+BuildingsTable[[#This Row],[RSD]])) | V14: =IF(OR($M14="",BuildingsTable[[#This Row],[RSD]]=""),"",BuildingsTable[[#This Row],[Total emissions (kgCO2e)]]*(1-BuildingsTable[[#This Row],[RSD]])) | W14: {=IF(OR($D14="",$H14=""),"",(INDEX('Emission factors'!$K$3:$V$201,MATCH('Buildings & stationary assets'!$D14&$E14,'Emission factors'!$J$3:$J$201&'Emission factors'!$K$3:$K$201,0),MATCH('Buildings & stationary assets'!W$6,'Emission factors'!$K$2:$V$2,0)))*$J14)} | Y14: {=IF(OR(ISERROR(B14:W14)),1,0)} -> 0 | Z14: =IF(AND(D14="",H14="",I14=""),0,1) -> 0
G15: =IF(F15="","",INDEX(Lists!$BA$4:$BC$31,MATCH(D15,Lists!$AZ$4:$AZ$31,0),MATCH(F15,Lists!$BA$3:$BC$3,0))) | J15: {=IF(OR($D15="",$C15="",$H15="",$I15=""),"",IF(I15=K15,H15,(INDEX('Emission factors'!$K$3:$V$201,MATCH(D15&E15,'Emission factors'!$J$3:$J$201&'Emission factors'!$K$3:$K$201,0),MATCH(J$6,'Emission factors'!$K$2:$V$2,0)))*H15))} | K15: =IF(OR($D15="",$C15="",$H15="",$I15=""),"",INDEX('Emission factors'!$K$3:$V$201,MATCH('Buildings & stationary assets'!$D15,'Emission factors'!$J$3:$J$201,0),MATCH($K$6,'Emission factors'!$K$2:$V$2,0))) | L15: {=IF(OR(D15="",H15="",BuildingsTable[[#This Row],[Units]]=""),"",INDEX('Emission factors'!$K$3:$V$201,MATCH('Buildings & stationary assets'!$D15&E15,'Emission factors'!$J$3:$J$201&'Emission factors'!$K$3:$K$201,0),MATCH('Buildings & stationary assets'!$L$6,'Emission factors'!$K$2:$V$2,0)))} | M15: =IF(OR(J15="",L15=""),"",SUM(BuildingsTable[[#This Row],[Direct]:[Indirect WTT]])) | P15: {=IF(OR($D15="",$H15=""),"",(INDEX('Emission factors'!$K$3:$V$201,MATCH('Buildings & stationary assets'!$D15&$E15,'Emission factors'!$J$3:$J$201&'Emission factors'!$K$3:$K$201,0),MATCH('Buildings & stationary assets'!P$6,'Emission factors'!$K$2:$V$2,0)))*$J15)} | Q15: {=IF(OR($D15="",$H15=""),"",(INDEX('Emission factors'!$K$3:$V$201,MATCH('Buildings & stationary assets'!$D15&$E15,'Emission factors'!$J$3:$J$201&'Emission factors'!$K$3:$K$201,0),MATCH('Buildings & stationary assets'!Q$6,'Emission factors'!$K$2:$V$2,0)))*$J15)} | R15: {=IF(OR($D15="",$H15=""),"",(INDEX('Emission factors'!$K$3:$V$201,MATCH('Buildings & stationary assets'!$D15&$E15,'Emission factors'!$J$3:$J$201&'Emission factors'!$K$3:$K$201,0),MATCH('Buildings & stationary assets'!R$6,'Emission factors'!$K$2:$V$2,0)))*$J15)} | S15: {=IF(OR($D15="",$H15=""),"",(INDEX('Emission factors'!$K$3:$V$201,MATCH('Buildings & stationary assets'!$D15&$E15,'Emission factors'!$J$3:$J$201&'Emission factors'!$K$3:$K$201,0),MATCH('Buildings & stationary assets'!S$6,'Emission factors'!$K$2:$V$2,0)))*$J15)} | T15: {=IF(OR($D15="",$H15=""),"",(INDEX('Emission factors'!$K$3:$V$201,MATCH('Buildings & stationary assets'!$D15&$E15,'Emission factors'!$J$3:$J$201&'Emission factors'!$K$3:$K$201,0),MATCH('Buildings & stationary assets'!T$6,'Emission factors'!$K$2:$V$2,0)))*$J15)} | U15: =IF(OR($M15="",BuildingsTable[[#This Row],[RSD]]=""),"",BuildingsTable[[#This Row],[Total emissions (kgCO2e)]]*(1+BuildingsTable[[#This Row],[RSD]])) | V15: =IF(OR($M15="",BuildingsTable[[#This Row],[RSD]]=""),"",BuildingsTable[[#This Row],[Total emissions (kgCO2e)]]*(1-BuildingsTable[[#This Row],[RSD]])) | W15: {=IF(OR($D15="",$H15=""),"",(INDEX('Emission factors'!$K$3:$V$201,MATCH('Buildings & stationary assets'!$D15&$E15,'Emission factors'!$J$3:$J$201&'Emission factors'!$K$3:$K$201,0),MATCH('Buildings & stationary assets'!W$6,'Emission factors'!$K$2:$V$2,0)))*$J15)} | Y15: {=IF(OR(ISERROR(B15:W15)),1,0)} -> 0 | Z15: =IF(AND(D15="",H15="",I15=""),0,1) -> 0
G16: =IF(F16="","",INDEX(Lists!$BA$4:$BC$31,MATCH(D16,Lists!$AZ$4:$AZ$31,0),MATCH(F16,Lists!$BA$3:$BC$3,0))) | J16: {=IF(OR($D16="",$C16="",$H16="",$I16=""),"",IF(I16=K16,H16,(INDEX('Emission factors'!$K$3:$V$201,MATCH(D16&E16,'Emission factors'!$J$3:$J$201&'Emission factors'!$K$3:$K$201,0),MATCH(J$6,'Emission factors'!$K$2:$V$2,0)))*H16))} | K16: =IF(OR($D16="",$C16="",$H16="",$I16=""),"",INDEX('Emission factors'!$K$3:$V$201,MATCH('Buildings & stationary assets'!$D16,'Emission factors'!$J$3:$J$201,0),MATCH($K$6,'Emission factors'!$K$2:$V$2,0))) | L16: {=IF(OR(D16="",H16="",BuildingsTable[[#This Row],[Units]]=""),"",INDEX('Emission factors'!$K$3:$V$201,MATCH('Buildings & stationary assets'!$D16&E16,'Emission factors'!$J$3:$J$201&'Emission factors'!$K$3:$K$201,0),MATCH('Buildings & stationary assets'!$L$6,'Emission factors'!$K$2:$V$2,0)))} | M16: =IF(OR(J16="",L16=""),"",SUM(BuildingsTable[[#This Row],[Direct]:[Indirect WTT]])) | P16: {=IF(OR($D16="",$H16=""),"",(INDEX('Emission factors'!$K$3:$V$201,MATCH('Buildings & stationary assets'!$D16&$E16,'Emission factors'!$J$3:$J$201&'Emission factors'!$K$3:$K$201,0),MATCH('Buildings & stationary assets'!P$6,'Emission factors'!$K$2:$V$2,0)))*$J16)} | Q16: {=IF(OR($D16="",$H16=""),"",(INDEX('Emission factors'!$K$3:$V$201,MATCH('Buildings & stationary assets'!$D16&$E16,'Emission factors'!$J$3:$J$201&'Emission factors'!$K$3:$K$201,0),MATCH('Buildings & stationary assets'!Q$6,'Emission factors'!$K$2:$V$2,0)))*$J16)} | R16: {=IF(OR($D16="",$H16=""),"",(INDEX('Emission factors'!$K$3:$V$201,MATCH('Buildings & stationary assets'!$D16&$E16,'Emission factors'!$J$3:$J$201&'Emission factors'!$K$3:$K$201,0),MATCH('Buildings & stationary assets'!R$6,'Emission factors'!$K$2:$V$2,0)))*$J16)} | S16: {=IF(OR($D16="",$H16=""),"",(INDEX('Emission factors'!$K$3:$V$201,MATCH('Buildings & stationary assets'!$D16&$E16,'Emission factors'!$J$3:$J$201&'Emission factors'!$K$3:$K$201,0),MATCH('Buildings & stationary assets'!S$6,'Emission factors'!$K$2:$V$2,0)))*$J16)} | T16: {=IF(OR($D16="",$H16=""),"",(INDEX('Emission factors'!$K$3:$V$201,MATCH('Buildings & stationary assets'!$D16&$E16,'Emission factors'!$J$3:$J$201&'Emission factors'!$K$3:$K$201,0),MATCH('Buildings & stationary assets'!T$6,'Emission factors'!$K$2:$V$2,0)))*$J16)} | U16: =IF(OR($M16="",BuildingsTable[[#This Row],[RSD]]=""),"",BuildingsTable[[#This Row],[Total emissions (kgCO2e)]]*(1+BuildingsTable[[#This Row],[RSD]])) | V16: =IF(OR($M16="",BuildingsTable[[#This Row],[RSD]]=""),"",BuildingsTable[[#This Row],[Total emissions (kgCO2e)]]*(1-BuildingsTable[[#This Row],[RSD]])) | W16: {=IF(OR($D16="",$H16=""),"",(INDEX('Emission factors'!$K$3:$V$201,MATCH('Buildings & stationary assets'!$D16&$E16,'Emission factors'!$J$3:$J$201&'Emission factors'!$K$3:$K$201,0),MATCH('Buildings & stationary assets'!W$6,'Emission factors'!$K$2:$V$2,0)))*$J16)} | Y16: {=IF(OR(ISERROR(B16:W16)),1,0)} -> 0 | Z16: =IF(AND(D16="",H16="",I16=""),0,1) -> 0
G17: =IF(F17="","",INDEX(Lists!$BA$4:$BC$31,MATCH(D17,Lists!$AZ$4:$AZ$31,0),MATCH(F17,Lists!$BA$3:$BC$3,0))) | J17: {=IF(OR($D17="",$C17="",$H17="",$I17=""),"",IF(I17=K17,H17,(INDEX('Emission factors'!$K$3:$V$201,MATCH(D17&E17,'Emission factors'!$J$3:$J$201&'Emission factors'!$K$3:$K$201,0),MATCH(J$6,'Emission factors'!$K$2:$V$2,0)))*H17))} | K17: =IF(OR($D17="",$C17="",$H17="",$I17=""),"",INDEX('Emission factors'!$K$3:$V$201,MATCH('Buildings & stationary assets'!$D17,'Emission factors'!$J$3:$J$201,0),MATCH($K$6,'Emission factors'!$K$2:$V$2,0))) | L17: {=IF(OR(D17="",H17="",BuildingsTable[[#This Row],[Units]]=""),"",INDEX('Emission factors'!$K$3:$V$201,MATCH('Buildings & stationary assets'!$D17&E17,'Emission factors'!$J$3:$J$201&'Emission factors'!$K$3:$K$201,0),MATCH('Buildings & stationary assets'!$L$6,'Emission factors'!$K$2:$V$2,0)))} | M17: =IF(OR(J17="",L17=""),"",SUM(BuildingsTable[[#This Row],[Direct]:[Indirect WTT]])) | P17: {=IF(OR($D17="",$H17=""),"",(INDEX('Emission factors'!$K$3:$V$201,MATCH('Buildings & stationary assets'!$D17&$E17,'Emission factors'!$J$3:$J$201&'Emission factors'!$K$3:$K$201,0),MATCH('Buildings & stationary assets'!P$6,'Emission factors'!$K$2:$V$2,0)))*$J17)} | Q17: {=IF(OR($D17="",$H17=""),"",(INDEX('Emission factors'!$K$3:$V$201,MATCH('Buildings & stationary assets'!$D17&$E17,'Emission factors'!$J$3:$J$201&'Emission factors'!$K$3:$K$201,0),MATCH('Buildings & stationary assets'!Q$6,'Emission factors'!$K$2:$V$2,0)))*$J17)} | R17: {=IF(OR($D17="",$H17=""),"",(INDEX('Emission factors'!$K$3:$V$201,MATCH('Buildings & stationary assets'!$D17&$E17,'Emission factors'!$J$3:$J$201&'Emission factors'!$K$3:$K$201,0),MATCH('Buildings & stationary assets'!R$6,'Emission factors'!$K$2:$V$2,0)))*$J17)} | S17: {=IF(OR($D17="",$H17=""),"",(INDEX('Emission factors'!$K$3:$V$201,MATCH('Buildings & stationary assets'!$D17&$E17,'Emission factors'!$J$3:$J$201&'Emission factors'!$K$3:$K$201,0),MATCH('Buildings & stationary assets'!S$6,'Emission factors'!$K$2:$V$2,0)))*$J17)} | T17: {=IF(OR($D17="",$H17=""),"",(INDEX('Emission factors'!$K$3:$V$201,MATCH('Buildings & stationary assets'!$D17&$E17,'Emission factors'!$J$3:$J$201&'Emission factors'!$K$3:$K$201,0),MATCH('Buildings & stationary assets'!T$6,'Emission factors'!$K$2:$V$2,0)))*$J17)} | U17: =IF(OR($M17="",BuildingsTable[[#This Row],[RSD]]=""),"",BuildingsTable[[#This Row],[Total emissions (kgCO2e)]]*(1+BuildingsTable[[#This Row],[RSD]])) | V17: =IF(OR($M17="",BuildingsTable[[#This Row],[RSD]]=""),"",BuildingsTable[[#This Row],[Total emissions (kgCO2e)]]*(1-BuildingsTable[[#This Row],[RSD]])) | W17: {=IF(OR($D17="",$H17=""),"",(INDEX('Emission factors'!$K$3:$V$201,MATCH('Buildings & stationary assets'!$D17&$E17,'Emission factors'!$J$3:$J$201&'Emission factors'!$K$3:$K$201,0),MATCH('Buildings & stationary assets'!W$6,'Emission factors'!$K$2:$V$2,0)))*$J17)} | Y17: {=IF(OR(ISERROR(B17:W17)),1,0)} -> 0 | Z17: =IF(AND(D17="",H17="",I17=""),0,1) -> 0
G18: =IF(F18="","",INDEX(Lists!$BA$4:$BC$31,MATCH(D18,Lists!$AZ$4:$AZ$31,0),MATCH(F18,Lists!$BA$3:$BC$3,0))) | J18: {=IF(OR($D18="",$C18="",$H18="",$I18=""),"",IF(I18=K18,H18,(INDEX('Emission factors'!$K$3:$V$201,MATCH(D18&E18,'Emission factors'!$J$3:$J$201&'Emission factors'!$K$3:$K$201,0),MATCH(J$6,'Emission factors'!$K$2:$V$2,0)))*H18))} | K18: =IF(OR($D18="",$C18="",$H18="",$I18=""),"",INDEX('Emission factors'!$K$3:$V$201,MATCH('Buildings & stationary assets'!$D18,'Emission factors'!$J$3:$J$201,0),MATCH($K$6,'Emission factors'!$K$2:$V$2,0))) | L18: {=IF(OR(D18="",H18="",BuildingsTable[[#This Row],[Units]]=""),"",INDEX('Emission factors'!$K$3:$V$201,MATCH('Buildings & stationary assets'!$D18&E18,'Emission factors'!$J$3:$J$201&'Emission factors'!$K$3:$K$201,0),MATCH('Buildings & stationary assets'!$L$6,'Emission factors'!$K$2:$V$2,0)))} | M18: =IF(OR(J18="",L18=""),"",SUM(BuildingsTable[[#This Row],[Direct]:[Indirect WTT]])) | P18: {=IF(OR($D18="",$H18=""),"",(INDEX('Emission factors'!$K$3:$V$201,MATCH('Buildings & stationary assets'!$D18&$E18,'Emission factors'!$J$3:$J$201&'Emission factors'!$K$3:$K$201,0),MATCH('Buildings & stationary assets'!P$6,'Emission factors'!$K$2:$V$2,0)))*$J18)} | Q18: {=IF(OR($D18="",$H18=""),"",(INDEX('Emission factors'!$K$3:$V$201,MATCH('Buildings & stationary assets'!$D18&$E18,'Emission factors'!$J$3:$J$201&'Emission factors'!$K$3:$K$201,0),MATCH('Buildings & stationary assets'!Q$6,'Emission factors'!$K$2:$V$2,0)))*$J18)} | R18: {=IF(OR($D18="",$H18=""),"",(INDEX('Emission factors'!$K$3:$V$201,MATCH('Buildings & stationary assets'!$D18&$E18,'Emission factors'!$J$3:$J$201&'Emission factors'!$K$3:$K$201,0),MATCH('Buildings & stationary assets'!R$6,'Emission factors'!$K$2:$V$2,0)))*$J18)} | S18: {=IF(OR($D18="",$H18=""),"",(INDEX('Emission factors'!$K$3:$V$201,MATCH('Buildings & stationary assets'!$D18&$E18,'Emission factors'!$J$3:$J$201&'Emission factors'!$K$3:$K$201,0),MATCH('Buildings & stationary assets'!S$6,'Emission factors'!$K$2:$V$2,0)))*$J18)} | T18: {=IF(OR($D18="",$H18=""),"",(INDEX('Emission factors'!$K$3:$V$201,MATCH('Buildings & stationary assets'!$D18&$E18,'Emission factors'!$J$3:$J$201&'Emission factors'!$K$3:$K$201,0),MATCH('Buildings & stationary assets'!T$6,'Emission factors'!$K$2:$V$2,0)))*$J18)} | U18: =IF(OR($M18="",BuildingsTable[[#This Row],[RSD]]=""),"",BuildingsTable[[#This Row],[Total emissions (kgCO2e)]]*(1+BuildingsTable[[#This Row],[RSD]])) | V18: =IF(OR($M18="",BuildingsTable[[#This Row],[RSD]]=""),"",BuildingsTable[[#This Row],[Total emissions (kgCO2e)]]*(1-BuildingsTable[[#This Row],[RSD]])) | W18: {=IF(OR($D18="",$H18=""),"",(INDEX('Emission factors'!$K$3:$V$201,MATCH('Buildings & stationary assets'!$D18&$E18,'Emission factors'!$J$3:$J$201&'Emission factors'!$K$3:$K$201,0),MATCH('Buildings & stationary assets'!W$6,'Emission factors'!$K$2:$V$2,0)))*$J18)} | Y18: {=IF(OR(ISERROR(B18:W18)),1,0)} -> 0 | Z18: =IF(AND(D18="",H18="",I18=""),0,1) -> 0
