Workbook

Sheet  IRCF Application - Part 1
A1: Integration and Rebalancing Capital (IRCF) Fund | H1: Application
A3: Section 1: Project Information
A4: Regional Partnership Board | C4: Gwent
A5: Local Authority / Health Board Area | C5: Caerphilly Borough Council / ABUHB
A6: Project Title | C6: Aber valley Health and Well Being Central
A7: Project Location/Address | C7: Abertridwr, Caerphilly CF83 4AB
A8: Delivery Organisation | C8: ABUHB
A9: Funding Recipient | C9: ABUHB
A10: Estimated overall Project cost | C10: 11060000 | E10: 2023-24 | G10: 2024-25 | I10: 2025-26 | K10: 2026-27
C11: Partner contribution:
C12: Other WG Contribution:
C13: IRCF requirement: | E13: 370000 | G13: 570000 | J13: 6240000 | K13: 3880000
A14: Priority 1. The delivery of Integrated Health and Social Care Hubs OR Priority 2. Rebalancing the residential social care market. | C14: 1 - The delivery of Integrated Health and Social Care Hubs
A15: Project Details
A16: Has the RPB approved the project? | C16: YES
A17: Date of RPB Approval | C17: 16th November 2022
A18: Is the project included in the Strategic Capital Plan? | C18: Yes
A19: Please provide details of how this project will integrate with wider regional plans linked to your Strategic Capital Plan and if any learning has been taken from existing services in the region. | C19: Please see Part 2
A20: Lead contact at Delivery Organisation | C20: <redaction s40(2)> - Strategic Capital and Estates Programme Director (<redaction s40(2)> )
A21: Lead contact - Contact Details | C21: <redaction s40(2)> - Strategic Capital and Estates Programme Director (<redaction s40(2)> ) Telephone Number <redaction s40(2)>
A22: List all partners involved | C22: Residents of the Aber Valley The Aber Valley Community Partnership Aneurin Bevan University Health Board – multi divisional but being led by Primary Care and Community Division Aneurin Bevan Community Health Council. Caerphilly Borough Council Planning and Regeneration Department. Caerphilly Social Services. Gwent Association of Voluntary Organisations (GAVO).
A24: Section 2: Project Description
A25: Please describe the project (Attach any relevant documents if appropriate here)
A26: It is proposed to construct a new purpose built facility to replace the existing Aber Medical Practice and Senghenydd Health Centre which accommodates Health Board services and the Branch Surgery of the Nantgarw Practice. Aber Medical Centre has reached its full physical capacity within its current building infrastructure. The Practice is unable to deliver their current range of services, or expand services to its patients within the current building due to the space constraints. Senghenydd Health Centre estate is in a poor state of repair with substantial backlog maintenance costs. The purpose of the proposal is to provide a new, fully compliant location for the provision of GMS, HB, LA and 3rd party services in the Aber Valley which can be designed to connect to the community provision in Senghenydd and Abertridwr. The proposed development will provide the space to promote the integration of health, social care and community services and will also facilitate the provision of enhanced GMS services for both the Aber Medical Centre and Senghenydd Health Centre (NRMC Branch Surgery).These together will provide the range of services, virtually connected to meet the health and wellbeing needs of the population. The facility will allow the service providers to form closer links to develop service strategies that are patient focused, allowing the formation of integrated service teams at both operational and strategic levels. The new facility will provide advice, treatment, information and community support. The focus will be to provide a modern, clean, flexible environment, which will lead to improved access to services, an extended and integrated range of both clinical and prevention services, sustainability of service delivery and improved efficiencies. The practice will host a range of health, social and voluntary sector services, to enhance and improve the medical services. This will reduce health inequalities by providing a broader range of health and social care services locally within the Aber Valley, to support the Clinical Futures strategy and comply with the Primary Care model for Wales. The new development will also offer improved sustainability of GMS and wider services in the Aber Valley by including a wider group of professionals into the clinical team, for example a specialist practitioner, a pharmacist, an urgent care practitioner, and a social prescriber or connector. It will also afford improved sustainability of health and social care service by offering space to the wider network of health professionals, voluntary groups and care providers within the locality, using a collaborative model of health provision. The agreed Investment Objectives for this project are as follows: Investment Objective 1 To address the Aber Valley health estate infrastructure and capacity issues. Investment Objective 2 To deliver a model of care for integrated Health and Well-being services that is efficient and maximises the use of available resources. Investment Objective 3 To provide an increased range of Health, Social Care and Well-being services that are accessible to an increasing population with high levels of chronic illness. Investment Objective 4 To support the effective use of clinical and non-clinical services that are delivered in Aber Valley
A28: Section 3: Key Principles (Attach any relevant documents if appropriate here)
A29: Please describe the purpose of the project and explain how the key principles have been taken into account and will benefit the community (Co-location of services to enable seamless delivery; A ‘Hub and Spoke’ network of integrated facilities; A ‘no wrong door’ principle; A graduated response; Town Centre first; Proportionate and planned investment; Decarbonisation).
A30: A new development for the Aber Valley was a priority of the former Caerphilly LHB and of the successor organisation and was included in the top 5 prioritised developments across Gwent. Hence the development was included in the former Caerphilly LHB’s legacy statement. The development is now the top priority in the Caerphilly Borough’s Estate Plan and is even more necessitated since the advent of A Healthier Wales and the Primary Care model for Wales which directs the need for multi-disciplinary working, Wellbeing Connectors, signposting and collaborative working. Such a model not only aims to improve access for patients and a wider patient support offer, but also should improve future GP and other recruitment and enable a more stabilised Primary Care service. The development will be in collaboration with the Aber Valley Community Partnership and the wider community and will ensure future-proof service provision for the locality. With the development of a Hub and Spoke model of Health and Well Being in Abervalley the Welsh Government, Health Board and its Partners would be implementing a robust model of ‘place based care’. This proposal will allow the expansion of a range of services including health, social care and the third sector, being structured conterminously and working together seamlessly around this particular rural geographical area, across local sites. Place Based Care is focussed on the population and individuals within a community, facilitating the development of local ownership and responsibility for health and well-being. Additionally, the Place Based Care model aims to deliver services at the appropriate level to ensure a sustainable critical mass, whilst seeking to foster greater integrated care and reduced complexity for staff, patients and citizens alike. The proposed development will be located very close to the town centre of Abertridwr which will facilitate excellent access via public transport, cycle and pedestrian routes. It's design will aim to maximise the potential for decarbonisation measures in accordance with the Welsh Government Decarbonisation Strategy.
A32: Section 4: Outputs and Outcomes (Attach any relevant documents if appropriate here)
A33: What are the proposed outcomes/ benefits of investment? (Include separate documents if applicable)
A34: This proposed development offers the opportunity to streamline primary care, community and social care services in the Aber Valley, consolidating all services to operate out of a purpose built, compliant building and replace the sites in Abertridwr and the Senghenydd. It will connect with the community provision in Senghenydd and Abertridwr, with the community pharmacies in those places and form a Health and Wellbeing Hub for the local population allowing core support services from HB, LA and 3rd party to be delivered. . The development of such hubs has been growing across the UK for some time now. The benefits are well documented: • There are positives in co-locating differing services, often working within separate organisations, but all impacting on the health and well-being of the community. This not only encourages closer, stream-lined working between practitioners from different skill bases, but there are fewer places for individuals to navigate to receive the appropriate response to their needs. • The hub becomes a key place in the community and offers the opportunity for providing information, support and education as well as providing care. • It becomes a place to support those who are lonely and isolated, offering community space to sign post people to access the help they need – whether that be clinical, economic or social – often a place to offer social interaction. • It is also the place where clinical services work together and not in isolation, managing chronic conditions in a more joined-up way. • The result is improved access, a less complex system to navigate and practitioners supporting each other to offer a wider response to an increasingly older population, the more complex family problems which need resolution and the increased presentation of people with mental health concerns, low mood and poor well-being. • Providing the space and estate to enable this approach also supports sustainable Primary and Community Care as recruitment should improve, particularly for GPs. The provision of space to allow for multi-professional working allows the development of the Primary Care model for Wales with the opportunity to reduce the dependency on the more traditional, paternalistic models of care.
A35: mm
A36: Section 6: Relationship with other funds
A37: Is the project reliant on other Welsh Government capital funding | K37: No
A38: If yes, please provide details including actual or indicative dates for funding approval
A41: Is the project reliant on revenue funding being in place? | K41: Yes
A42: If yes, please provide details including actual or indicative dates for funding approval
A43: The additional revenue costs to the Health Board are estimated at circa £92,000 per annum all of which is related to the additional spatial consequences, e.g. utility costs, cleaning and rates. These will be further developed in the OBC and will need to be addressed by the Primary Care Division as par of the IMTP process at the planned date of completion.
A44: Does the project complement a revenue programme, e.g. RIF? | K44: No
A45: If yes, please provide details including actual or indicative dates for funding approval
A47: Certification
...

Sheet Estimated Costs
A1: Integration and Rebalancing Capital (IRCF) Fund | H1: Application
A3: Stage 1 - In Principle Approval
A6: =' IRCF Application - Part 1'!A4:B4 -> Regional Partnership Board | C6: =' IRCF Application - Part 1'!C4:L4 -> Gwent
A7: =' IRCF Application - Part 1'!A5:B5 -> Local Authority / Health Board Area | C7: Caerphilly Borough Council / ABUHB
A8: =' IRCF Application - Part 1'!A6:B6 -> Project Title | C8: Aber valley Health and Well Being Centre
A9: =' IRCF Application - Part 1'!A7:B7 -> Project Location/Address | C9: Abertridwr
A10: =' IRCF Application - Part 1'!A8:B8 -> Delivery Organisation | C10: =' IRCF Application - Part 1'!C8:L8 -> ABUHB
A11: =' IRCF Application - Part 1'!A10:B10 -> Estimated overall Project cost | C11: £11,060,000 (inc. VAT and Land)
A13: FINANCIAL - Estimated Costs
A15: Include the total estimated project costs and the full funding package
A16: Please complete the white boxes only
B17: 2023/24
B18: Total Cost | C18: WG - IRCF | D18: WG Other | E18: LHB | F18: LA | G18: RSL - Private Finance | H18: Third Sector | I18: Other with Details
A19: Land/Property Acquisition | B19: =SUM(C19:I19) -> 0
A20: Works | B20: =SUM(C20:I20) -> 0
A21: Non-Works | B21: 100000 | C21: 100000
A22: Fees | B22: 250000 | C22: 250000
A23: Equipment and Installation Costs | B23: =SUM(C23:I23) -> 0
A24: VAT | B24: 20000 | C24: 20000
A25: Other, please detail below | B25: =SUM(C25:I25) -> 0
A26: Total Project Cost | B26: 350000 | C26: =SUM(C19:C25) -> 370000 | D26: =SUM(D19:D25) -> 0 | E26: =SUM(E19:E25) -> 0 | F26: =SUM(F19:F25) -> 0 | G26: =SUM(G19:G25) -> 0 | H26: =SUM(H19:H25) -> 0 | I26: =SUM(I19:I25) -> 0
B28: 2024/25
B29: Total Cost | C29: WG - IRCF | D29: WG Other | E29: LHB | F29: LA | G29: RSL - Private Finance | H29: Third Sector | I29: Other with Details
A30: Land/Property Acquisition | B30: =SUM(C30:I30) -> 0
A31: Works | B31: =SUM(C31:I31) -> 0
A32: Non Works | B32: 100000 | C32: 100000
A33: Fees | B33: 450000 | C33: 450000
A34: Equipment and Installation Costs | B34: =SUM(C34:I34) -> 0
A35: VAT | B35: 20000 | C35: 20000
A36: Other, please detail below
A37: Total Project Cost | B37: =SUM(B30:B36) -> 570000 | C37: =SUM(C30:C36) -> 570000 | D37: =SUM(D30:D36) -> 0 | E37: =SUM(E30:E36) -> 0 | F37: =SUM(F30:F36) -> 0 | G37: =SUM(G30:G36) -> 0 | H37: =SUM(H30:H36) -> 0 | I37: =SUM(I30:I36) -> 0
B39: 2025/26
B40: Total Cost | C40: WG - IRCF | D40: WG Other | E40: LHB | F40: LA | G40: RSL - Private Finance | H40: Third Sector | I40: Other with Details
A41: Land/Property Acquisition | B41: 250000 | C41: 250000
A42: Works | B42: 4500000 | C42: 4500000
A43: Non- Works | B43: =SUM(C43:I43) -> 200000 | C43: 200000
A44: Fees | B44: 300000 | C44: 300000
A45: Equipment and Installation Costs | B45: =SUM(C45:I45) -> 0
A46: VAT | B46: 990000 | C46: 990000
A47: Other, please detail below
...

Sheet IRCF Application - Part 2
A1: Integration and Rebalancing Capital (IRCF) Fund | H1: Application Part 2
A4: Entries copied from 1. IRCF Application sheet - please update if necessary
A5: =' IRCF Application - Part 1'!A4:B4 -> Regional Partnership Board | C5: =' IRCF Application - Part 1'!C4:L4 -> Gwent
A6: =' IRCF Application - Part 1'!A5:B5 -> Local Authority / Health Board Area | C6: Caerphilly Borough Council / ABUHB
A7: =' IRCF Application - Part 1'!A6:B6 -> Project Title | C7: Aber valley Health and Well Being Centre
A8: =' IRCF Application - Part 1'!A7:B7 -> Project Location/Address | C8: Abertridwr
A9: =' IRCF Application - Part 1'!A8:B8 -> Delivery Organisation | C9: =' IRCF Application - Part 1'!C8:L8 -> ABUHB
A10: =' IRCF Application - Part 1'!A9:B9 -> Funding Recipient | C10: =' IRCF Application - Part 1'!C9:L9 -> ABUHB
A11: IRCF Funding Requirement | C11: 11060000
A12: Priority 1. The delivery of Integrated Health and Social Care Hubs OR Priority 2. Rebalancing the residential social care market. | C12: 1
A14: Project Details
A15: Has the RPB approved the project? | C15: Yes
A16: Date of RPB Approval | C16: 16th November 2022
A17: Is the project included in the Strategic Capital Plan? | C17: Yes
A18: Please provide details of how this project will integrate with wider regional plans linked to your Strategic Capital Plan and if any learning has been taken from existing services in the region. | C18: The support for these developments is taken from the ABUHB Primary Care Strategy and this scheme is a high level priority for ABUHB and partners. The patient needs analysis has identified that the current estate in Abertridwr and Senghenydd does not have the capacity to support future services within the area. The development of a smaller hub type building that encompasses GMS, Health Board, Local authority and a third party will ideally provide the correct model for the area encompassing a hub and spoke model. The Strategic Capital Plan guidance has recently been issued. The Plan is currently being drafted and is being worked up within the timescales set by Welsh Government.
A19: Lead contact at Delivery Organisation | C19: =' IRCF Application - Part 1'!C20:L20 -> <redaction s40(2)> - Strategic Capital and Estates Programme Director (<redaction s40(2)> )
A20: Lead contact - Contact Details | C20: <redaction s40(2)> - Strategic Capital and Estates Programme Director (<redaction s40(2)> ) <redaction s40(2)> – Management Partner, Dixton Surgery (<redaction s40(2)> ) Trisha Edwards – Head of Services Monmouthshire Borough (Trisha.Edwards@w
A21: List all partners involved: | C21: =' IRCF Application - Part 1'!C22:L22 -> Residents of the Aber Valley The Aber Valley Community Partnership Aneurin Bevan University Health Board – multi divisional but being led by Primary Care and Community Division Aneurin Bevan Community Health Council. Caerphilly Borough Council Planning and Regeneration Department. Caerphilly Social Services. Gwent Association of Voluntary Organisations (GAVO).
A22: Section 5: Confirmation of Development - Business Case Approach
A23: Current Business Case Stage | B23: SOC
A24: Business Case Approach
A25: Please provide any information regarding key project development milestones along with details of the scope of the project through the 5 Case business model approach. This should also include whether the proposal is for planning, new resources – New Build or new resources - Refurbishment
A26: This is a proposed new build project and will have to follow the SOC/OBC and FBC process. If and when the application is approved the Health Board will need to select a Supply Chain Partner via the All-Wales Construction Procurement Framework. From approval of the application form it will take circa 3 months to select and appoint a Supply Chain Partner. For the purpose of this application its has been assumed that approval to proceed, or not, will be received by the end of February 2023.
A28: Feasibility Study (if applicable) | G28: Completed
A29: Business Justification Case (less than £5m) | G29: N/A
A30: Outline Business Case / Strategic Outline Case | G30: Start June 2023, complete March 2024
A31: Full Business Case | G31: Start July 2024, complete March 2025
A32: Current Stage of Development
A33: Feasibility Study has been completed utilising a site that is currently owned by the Local Authority. A Pre-Planning Application will be submitted based on this Feasibility Study. Other than submission of a PPA no further progress can be made until approval has been received to commence a SOC/OBC and a Supply Chain Partner has been selected. The above dates assume approval to proceed at the end of February 2023, 3 months to procure a Supply Chain Partner, OBC start in June 2023.
A34: Section 6 Land/Property Ownership
A35: Who currently owns the land/property? | F35: Local Authority
A36: Who will own the land/property during the construction period? | F36: ABUHB
A37: Who will own the land/property once the project is complete? | F37: ABUHB
A39: Section 7 : Planning
A40: Does the project require planning permission? | I40: Yes
A41: If yes, what stage are you at?
A42: e.g. Initial designs underway, application being prepared, application submitted on (date), outline planning in place etc
A43: A pre-planning application is about to be submitted to the Local Authority.
A44: Section 8 BREEAM CONFIRMATION
A45: It is expected that the BREEAM ‘Excellent’ standard should be achieved if the project involves a stand alone new build. NB Whilst BREEAM rating is no longer a requirement for national planning policy, BREEAM ‘Excellent’ remains a condition for projects funded with the aid of grant from the Welsh Government, it is therefore a condition of projects funded by IRCF
...

Sheet Useful Links
B4: USEFUL LINKS:
A6: * | B6: HM Treasury Green Book
B8: https://www.gov.uk/government/publications/the-green-book-appraisal-and-evaluation-in-central-governent
A10: * | B10: Five Case Model Guidance
B12: https://www.gov.uk/government/publications/the-green-book-appraisal-and-evaluation-in-central-governent
A14: * | B14: Capital Investment Manual: Business Case Guide (written for hospital buildings but the principles are common to all capital investment projects)
B16: http://webarchive.nationalarchives.gov.uk/20130107105354/http://www.dh.gov.uk/en/Publicationsandstatistics/Publications/PublicationsPolicyAndGuidance/DH_4119896
A18: * | B18: The Generic Economic Model for Capital Investment in Health (see in particular the principles guide to the model at Outline Business Case stage)
B20: http://webarchive.nationalarchives.gov.uk/+/www.dh.gov.uk/en/Aboutus/Procurementandproposals/Publicprivatepartnership/Privatefinanceinitiative/GenericeconomicmodelPFIschemes/DH_4016193
A22: * | B22: HM Treasury Supplementary Guidance on Optimism Bias
B24: https://www.gov.uk/government/publications/green-book-supplementary-guidance-optimism-bias
A26: * | B26: Calculating the Adjustment for Optimism Bias for Health Projects (provides a useful explanation of the relationship between optimism bias, contingencies and risk)
B28: http://webarchive.nationalarchives.gov.uk/+/www.dh.gov.uk/en/Aboutus/Procurementandproposals/Publicprivatepartnership/Privatefinanceinitiative/GenericeconomicmodelPFIschemes/DH_4016193
A31: * | B31: Northern Ireland Guide to Expenditure Appraisal and Evaluation
B33: http://www.dfpni.gov.uk/eag
A35: * | B35: Good Practice Guide: Learning Lessons from Post-Project Evaluation (written for health projects but general principles apply)
B37: http://webarchive.nationalarchives.gov.uk/+/www.dh.gov.uk/en/Aboutus/Procurementandproposals/Publicprivatepartnership/Privatefinanceinitiative/Learninglessonsfrompostprojectevaluation/DH_4016498

Sheet Internal Use Only
B2: Select from list | C2: Select from list | D2: Select units or bedspaces | E2: Residential | F2: Select from list | G2: Select one from list
B3: Cardiff & Vale | C3: Yes | D3: Units | F3: Residential accommodation for children and/or young people | G3: Older people including people with dementia
B4: Cwm Taf Morgannwg | C4: No | D4: Bedspaces | F4: Intermediate care | G4: Children and young people with complex needs
B5: Gwent | F5: Step up/step down | G5: People with learning disabilities, neuro-diverse and neurodevelopmental conditions
B6: North Wales | F6: Reablement and rehabilitation | G6: Unpaid carers
B7: Powys | F7: Training/moving on setting | G7: People with emotional health and mental well-being needs
B8: West Glamorgan | F8: Assessment centre with emergency/short-term beds
B9: West Wales | F9: Respite accommodation for cared for people
F10: Respite accommodation for carers
F11: Other (describe below)
B12: Select from list
B13: Acquisition
B14: Construction
B15: Combined
