Workbook

Sheet Nodiadau Canllawiau
L3: Fersiwn: v1.3 | N3: 45596
I6: Ffurflen Gais
C10: Grant Gwres Carbon Isel y Sector Cyhoeddus | L10: - | M10: Rownd 3
C12: Cwblhewch bob adran 1-5 fel y nodir isod:
C14: 1. Manylion yr Ymgeisydd | H14: O fewn adrannau 1-5 mae'r cod lliw canlynol yn berthnasol:
C15: 2. Manylion Prosiect | H15: Celloedd Glas | I15: = mewnbwn defnyddiwr
C16: 3. Manylion Costau Cymwys | H16: Celloedd Gwyrdd | I16: = cyfrifo’n awtomatig
C17: 4. Risgiau
C18: 5. Crynodeb a Datganiad
C20: Cyfeiriwch at Grant Gwres Carbon Carbon Isel y Sector Cyhoeddus - Canllawiau Hydref 2024, a ryddhawyd ochr yn ochr â'r ffurflen hon, ar gyfer meini prawf cymhwysedd ac amodau'r grant.
C22: Nodiadau Pwysig
C24: Gellir llenwi'r ffurflen hon ar gyfer hyd at 10 safle, os oes mwy o safleoedd i'ch cais, llenwch ffurflen arall ar eu cyfer.
C25: Rhoddir cyllid i ymgeiswyr a all sicrhau y gellir gosod a chomisiynu prosiectau erbyn 31 Mawrth 2026 yn unig.
C26: Rhaid i geisiadau gael eu cefnogi gan gyfarwyddwr sy'n noddi, bydd angen llofnod pan ddarperir llythyrau cynnig.
C27: Sylwer na all y gwaith ddechrau hyd nes y derbynnir llythyr dyfarniad grant ffurfiol wedi'i lofnodi.
C29: Cyflwyniadau Cais
C31: Anfonwch ffurflenni cais wedi'u cwblhau at publicsectorheat@energyservice.wales
C32: Os oes gennych unrhyw ymholiadau ar y broses ymgeisio neu'r ffurflen ei hun, defnyddiwch y cyfeiriad uchod.
C34: Ymwrthodiad Rhannu Data
... C43: enquiries@energyservice.wales

Sheet 1. Manylion Ymgeisydd
C2: 1. MANYLION YMGEISYDD
B10: 1.1 Cyflwyniad Prosiect
B12: Y Prosiect
D13: Rhowch grynodeb byr o'ch prosiectau, dylai hyn gynnwys: - Enwau Adeiladau - Enwau Technolegau - Unrhyw gefndir perthnasol
D15: Faint o adeiladau ydych chi'n gwneud cais amdanynt: | E15: Dewiswch
B18: Cydymffurfiad
H19: Iawn / Methu
D20: Cadarnhewch fod eich sefydliad naill ai'n berchen, prydlesi tymor hir, neu'n adrodd ar yr allyriadau carbon ar gyfer yr adeiladau hyn | E20: FALSE | H20: =IF(E20=TRUE, "Iawn", "Methu") -> Methu
D22: Cadarnhewch fod eich sefydliad yn cadw'r adeilad / les am o leiaf 10 mlynedd | E22: FALSE | H22: =IF(E22=TRUE, "Iawn", "Methu") -> Methu
D24: Cadarnhewch fod yr ymgeisydd yn awdurdod lleol | E24: FALSE | H24: =IF(E24=TRUE, "Iawn", "Methu") -> Methu
D26: Cadarnhewch nad yw'r gwaith arfaethedig wedi dechrau eto | E26: FALSE | H26: =IF(E26=TRUE, "Iawn", "Methu") -> Methu
D28: Cadarnhewch y bydd y gwaith wedi'i gwblhau erbyn 31 Mawrth 2026 | E28: FALSE | H28: =IF(E28=TRUE, "Iawn", "Methu") -> Methu
D30: A yw unrhyw un o'r prosiectau yn y cais hwn yn ymwneud â gwresogi ardal? | E30: Dewiswch
D32: A yw unrhyw un o'r prosiectau yn y cais hwn yn dibynnu ar ffrwd ariannu arall? | E32: Dewiswch | H32: {=_xlfn.SWITCH(E32,"Ie","Rhowch manylion yn dalen 3.Manylion Costau Cymwys","Na","Annibynnol","Dewiswch","")}
D34: A yw unrhyw un o'r prosiectau yn y cais hwn yn dibynnu ar amserlenni prosiect arall? Os 'Ie' wedyn rhowch manylion yn y blwch . | E34: Dewiswch | H34: {=_xlfn.SWITCH(E34,"Ie","Rhowch manylion yn adran 2.6.Manylion Prosiect - prosiectau dibynnol","Na","Annibynnol","Dewiswch","")}
B36: Caffael
D37: Ydych chi'n bwriadu cyflawni'r prosiectau hyn trwy gontract Re:fit? | E37: Dewiswch
D39: A oes gennych gynnig gradd buddsoddi neu ddyluniad manwl yn ei le? | E39: Dewiswch
D41: Yn gyffredinol, pa gam sy'n disgrifio orau eich sefyllfa caffael. Mae angen rhagor o wybodaeth yn y tab nesaf | E41: Dewiswch
D43: Nodwch pa gam o'r broses gaffael rydych chi ynddi. Cofiwch gynnwys: - A oes proses dendro lawn wedi'i chynnal? Os Na: - Sut ydych wedi cael dyfynbrisiau hyd yn hyn - Unrhyw fframwaith y byddwch yn ei ddefnyddio at ddibenion y gwaith hwn - Eich llinell amser caffael rhwng dyfarnu cyllid i benodi contractwr
B45: 1.2 Manylion Ymgeisydd
B47: Sefydliad
D48: Sefydliad yr Ymgeisydd
D50: Cyfeiriad yr Ymgeisydd
D52: Cod Post yr Ymgeisydd
B54: Cyswllt/Ymgeisydd Allweddol
D55: Enw Cyswllt Allweddol
D57: Teitl Swydd Cyswllt Allweddol
D59: Cyfeiriad E-bost Cyswllt Allweddol
D61: Rhif Ffôn Cyswllt Allweddol
B63: Cyswllt Cyllid
D64: Enw Cyswllt Cyllid
D66: Teitl Swydd Cyswllt Cyllid
D68: Cyfeiriad E-bost Cyswllt Cyllid
D70: Rhif Ffôn Cyswllt Cyllid
B72: Cyfarwyddwr Noddi
D73: Enw Cyfarwyddwr Noddi
D75: Teitl Swydd Cyfarwyddwr Noddi
D77: Cyfeiriad E-bost Cyfarwyddwr Noddi
D79: Rhif Ffôn Cyfarwyddwr Noddi
...

Sheet 2. Manylion Prosiect
D1: FALSE
C2: 2. MANYLION PROSIECT
C3: =IF('1. Manylion Ymgeisydd'!E15="Dewiswch","Rhifwch y nifer o adeiladau yn dalen 1. Manylion Ymgeisydd","") -> Rhifwch y nifer o adeiladau yn dalen 1. Manylion Ymgeisydd
C4: 2.1 MEWNBYNNWCH MEWN TREFN BLAENORIAETH >>> | D4: ADEILAD UN | F4: ADEILAD DAU | H4: ADEILAD TRI | J4: ADEILAD PEDWAR | L4: ADEILAD PUMP | N4: ADEILAD CHWECH | P4: ADEILAD SAITH | R4: ADEILAD WYTH | T4: ADEILAD NAW | V4: ADEILAD DEG | Y4: Hidden for assessment
C6: Enw'r Adeilad
C8: Cyfeiriad yr Adeilad
C10: Cod Post yr Adeilad
C12: Math o adeilad | D12: Dewiswch | F12: Dewiswch | H12: Dewiswch | J12: Dewiswch | L12: Please select | N12: Please select | P12: Dewiswch | R12: Please select | T12: Please select | V12: Please select
C14: Arwynebedd Gros Llawr Mewnol yr Adeilad (m2)
C16: Cadarnhewch eich bod yn cadw perchnogaeth / les yr adeilad hwn am o leiaf 10 mlynedd | D16: Dewiswch | F16: Dewiswch | H16: Dewiswch | J16: Please select | L16: Please select | N16: Please select | P16: Please select | R16: Please select | T16: Please select | V16: Please select
C18: A yw'r adeilad yng nghyffiniau rhwydwaith gwres presennol neu un wedi'i gynllunio? | D18: Dewiswch | F18: Dewiswch | H18: Dewiswch | J18: Please select | L18: Please select | N18: Please select | P18: Please select | R18: Please select | T18: Please select | V18: Please select
C20: Disgrifiad o'r Prosiect: Cofiwch gynnwys manylion fel: - Y dechnoleg carbon isel a ddewiswyd a sut y dewiswyd hyn dros ddewisiadau amgen - Mesurau effeithlonrwydd ynni sy'n cefnogi dull adeilad cyfan
C22: Rhowch fanylion am unrhyw waith uwchraddio arfaethedig yn yr adeilad yn y dyfodol (gan gynnwys manylion gwaith trydanol fel cynhyrchu ar y safle neu wefru cerbydau trydan).
B25: 2.2 Technoleg Gwres a Defnydd Gwres Presennol
C27: A oes angen cynhyrchu gwres ychwanegol ar gyfer gwresogi? | D27: Na | F27: Na | H27: Na | J27: Na | L27: Na | N27: Na | P27: Na | R27: Na | T27: Na | V27: Na
C29: A oes angen cynhyrchu gwres pellach ar gyfer dŵr poeth domestig neu ddefnydd gwres arall? | D29: Na | F29: Na | H29: Na | J29: Na | L29: Na | N29: Na | P29: Na | R29: Na | T29: Na | V29: Na
B31: Prif fodd o gynhyrchu gwres presennol
C33: Prif ffynhonnell gwres presennol yn yr adeilad | D33: Dewiswch | F33: Dewiswch | H33: Dewiswch | J33: Dewiswch | L33: Dewiswch | N33: Dewiswch | P33: Dewiswch | R33: Dewiswch | T33: Dewiswch | V33: Dewiswch
C35: Math o danwydd presennol | D35: Dewiswch | F35: Dewiswch | H35: Dewiswch | J35: Dewiswch | L35: Dewiswch | N35: Dewiswch | P35: Dewiswch | R35: Dewiswch | T35: Dewiswch | V35: Dewiswch
C37: Oedran y prif offer (blynyddoedd)
C39: Capasiti yr hyn sydd wedi’i osod (gwres kW)
C41: Defnydd mewnbwn ynni blynyddol (kWh) | Y41: =SUM(D41:V41) -> 0
C43: Amcangyfrif o effeithlonrwydd cynhyrchu gwres presennol (%)
C45: Amcangyfrif o allbwn gwres blynyddol sydd ei angen (kWh) | D45: =IF(D43>0,D43*D41,"") | F45: =IF(F43>0,F43*F41,"") | H45: =IF(H43>0,H43*H41,"") | J45: =IF(J43>0,J43*J41,"") | L45: =IF(L43>0,L43*L41,"") | N45: =IF(N43>0,N43*N41,"") | P45: =IF(P43>0,P43*P41,"") | R45: =IF(R43>0,R43*R41,"") | T45: =IF(T43>0,T43*T41,"") | V45: =IF(V43>0,V43*V41,"") | Y45: =SUM(D45:V45) -> 0
C47: Allyriadau Carbon (kgCO2e) | D47: =D41*_xlfn.XLOOKUP(D35,Calculation_factors!$H$6:$H$13,Calculation_factors!$I$6:$I$13) -> #N/A | F47: =F41*_xlfn.XLOOKUP(F35,Calculation_factors!$H$6:$H$13,Calculation_factors!$I$6:$I$13) -> #N/A | H47: =H41*_xlfn.XLOOKUP(H35,Calculation_factors!$H$6:$H$13,Calculation_factors!$I$6:$I$13) -> #N/A | J47: =J41*_xlfn.XLOOKUP(J35,Calculation_factors!$H$6:$H$13,Calculation_factors!$I$6:$I$13) -> #N/A | L47: =L41*_xlfn.XLOOKUP(L35,Calculation_factors!$H$6:$H$13,Calculation_factors!$I$6:$I$13) -> #N/A | N47: =N41*_xlfn.XLOOKUP(N35,Calculation_factors!$H$6:$H$13,Calculation_factors!$I$6:$I$13) -> #N/A | P47: =P41*_xlfn.XLOOKUP(P35,Calculation_factors!$H$6:$H$13,Calculation_factors!$I$6:$I$13) -> #N/A | R47: =R41*_xlfn.XLOOKUP(R35,Calculation_factors!$H$6:$H$13,Calculation_factors!$I$6:$I$13) -> #N/A | T47: =T41*_xlfn.XLOOKUP(T35,Calculation_factors!$H$6:$H$13,Calculation_factors!$I$6:$I$13) -> #N/A | V47: =V41*_xlfn.XLOOKUP(V35,Calculation_factors!$H$6:$H$13,Calculation_factors!$I$6:$I$13) -> #N/A
C49: Allyriadau Carbon Gydol Oes (kgCO2e) | D49: =D41*_xlfn.XLOOKUP(D35,Calculation_factors!$E$6:$E$13,Calculation_factors!$F$6:$F$13) -> #N/A | F49: =F41*_xlfn.XLOOKUP(F35,Calculation_factors!$E$6:$E$13,Calculation_factors!$F$6:$F$13) -> #N/A | H49: =H41*_xlfn.XLOOKUP(H35,Calculation_factors!$E$6:$E$13,Calculation_factors!$F$6:$F$13) -> #N/A | J49: =J41*_xlfn.XLOOKUP(J35,Calculation_factors!$E$6:$E$13,Calculation_factors!$F$6:$F$13) -> #N/A | L49: =L41*_xlfn.XLOOKUP(L35,Calculation_factors!$E$6:$E$13,Calculation_factors!$F$6:$F$13) -> #N/A | N49: =N41*_xlfn.XLOOKUP(N35,Calculation_factors!$E$6:$E$13,Calculation_factors!$F$6:$F$13) -> #N/A | P49: =P41*_xlfn.XLOOKUP(P35,Calculation_factors!$E$6:$E$13,Calculation_factors!$F$6:$F$13) -> #N/A | R49: =R41*_xlfn.XLOOKUP(R35,Calculation_factors!$E$6:$E$13,Calculation_factors!$F$6:$F$13) -> #N/A | T49: =T41*_xlfn.XLOOKUP(T35,Calculation_factors!$E$6:$E$13,Calculation_factors!$F$6:$F$13) -> #N/A | V49: =V41*_xlfn.XLOOKUP(V35,Calculation_factors!$E$6:$E$13,Calculation_factors!$F$6:$F$13) -> #N/A
B51: Cynhyrchu gwres eilaidd
C53: Math o ddefnydd ar gyfer gwres | D53: Dewiswch | F53: Dewiswch | H53: Dewiswch | J53: Dewiswch | L53: Dewiswch | N53: Dewiswch | P53: Dewiswch | R53: Dewiswch | T53: Dewiswch | V53: Dewiswch
C55: Ffynhonnell gwres presennol | D55: Dewiswch | F55: Dewiswch | H55: Dewiswch | J55: Dewiswch | L55: Dewiswch | N55: Dewiswch | P55: Dewiswch | R55: Dewiswch | T55: Dewiswch | V55: Dewiswch
C57: Math o danwydd presennol | D57: Dewiswch | F57: Dewiswch | H57: Dewiswch | J57: Dewiswch | L57: Dewiswch | N57: Dewiswch | P57: Dewiswch | R57: Dewiswch | T57: Dewiswch | V57: Dewiswch
C59: Capasiti wedi’i osod (gwres kW)
C61: Defnydd mewnbwn ynni blynyddol (kWh) | Y61: =SUM(D61:V61) -> 0
C63: Amcangyfrif o effeithlonrwydd cynhyrchu gwres presennol (%)
C65: Amcangyfrif o allbwn gwres blynyddol sydd ei angen (kWh) | D65: =IF(D63>0,D63*D61,0) -> 0 | F65: =IF(F63>0,F63*F61,0) -> 0 | H65: =IF(H63>0,H63*H61,0) -> 0 | J65: =IF(J63>0,J63*J61,0) -> 0 | L65: =IF(L63>0,L63*L61,0) -> 0 | N65: =IF(N63>0,N63*N61,0) -> 0 | P65: =IF(P63>0,P63*P61,0) -> 0 | R65: =IF(R63>0,R63*R61,0) -> 0 | T65: =IF(T63>0,T63*T61,0) -> 0 | V65: =IF(V63>0,V63*V61,0) -> 0 | Y65: =SUM(D65:V65) -> 0
C67: Allyriadau Carbon (kgCO2e) | D67: =D61*_xlfn.XLOOKUP(D57,Calculation_factors!$H$6:$H$13,Calculation_factors!$I$6:$I$13) -> #N/A | F67: =F61*_xlfn.XLOOKUP(F57,Calculation_factors!$H$6:$H$13,Calculation_factors!$I$6:$I$13) -> #N/A | H67: =H61*_xlfn.XLOOKUP(H57,Calculation_factors!$H$6:$H$13,Calculation_factors!$I$6:$I$13) -> #N/A | J67: =J61*_xlfn.XLOOKUP(J57,Calculation_factors!$H$6:$H$13,Calculation_factors!$I$6:$I$13) -> #N/A | L67: =L61*_xlfn.XLOOKUP(L57,Calculation_factors!$H$6:$H$13,Calculation_factors!$I$6:$I$13) -> #N/A | N67: =N61*_xlfn.XLOOKUP(N57,Calculation_factors!$H$6:$H$13,Calculation_factors!$I$6:$I$13) -> #N/A | P67: =P61*_xlfn.XLOOKUP(P57,Calculation_factors!$H$6:$H$13,Calculation_factors!$I$6:$I$13) -> #N/A | R67: =R61*_xlfn.XLOOKUP(R57,Calculation_factors!$H$6:$H$13,Calculation_factors!$I$6:$I$13) -> #N/A | T67: =T61*_xlfn.XLOOKUP(T57,Calculation_factors!$H$6:$H$13,Calculation_factors!$I$6:$I$13) -> #N/A | V67: =V61*_xlfn.XLOOKUP(V57,Calculation_factors!$H$6:$H$13,Calculation_factors!$I$6:$I$13) -> #N/A
C69: Allyriadau Carbon Gydol Oes (kgCO2e) | D69: =D61*_xlfn.XLOOKUP(D57,Calculation_factors!$E$6:$E$13,Calculation_factors!$F$6:$F$13) -> #N/A | F69: =F61*_xlfn.XLOOKUP(F57,Calculation_factors!$E$6:$E$13,Calculation_factors!$F$6:$F$13) -> #N/A | H69: =H61*_xlfn.XLOOKUP(H57,Calculation_factors!$E$6:$E$13,Calculation_factors!$F$6:$F$13) -> #N/A | J69: =J61*_xlfn.XLOOKUP(J57,Calculation_factors!$E$6:$E$13,Calculation_factors!$F$6:$F$13) -> #N/A | L69: =L61*_xlfn.XLOOKUP(L57,Calculation_factors!$E$6:$E$13,Calculation_factors!$F$6:$F$13) -> #N/A | N69: =N61*_xlfn.XLOOKUP(N57,Calculation_factors!$E$6:$E$13,Calculation_factors!$F$6:$F$13) -> #N/A | P69: =P61*_xlfn.XLOOKUP(P57,Calculation_factors!$E$6:$E$13,Calculation_factors!$F$6:$F$13) -> #N/A | R69: =R61*_xlfn.XLOOKUP(R57,Calculation_factors!$E$6:$E$13,Calculation_factors!$F$6:$F$13) -> #N/A | T69: =T61*_xlfn.XLOOKUP(T57,Calculation_factors!$E$6:$E$13,Calculation_factors!$F$6:$F$13) -> #N/A | V69: =V61*_xlfn.XLOOKUP(V57,Calculation_factors!$E$6:$E$13,Calculation_factors!$F$6:$F$13) -> #N/A
B71: Cynhyrchu gwres pellach
C73: Math o ddefnydd ar gyfer gwres | D73: Dewiswch | F73: Dewiswch | H73: Dewiswch | J73: Dewiswch | L73: Dewiswch | N73: Dewiswch | P73: Dewiswch | R73: Dewiswch | T73: Dewiswch | V73: Dewiswch
C75: Ffynhonnell gwres presennol | D75: Dewiswch | F75: Dewiswch | H75: Dewiswch | J75: Dewiswch | L75: Dewiswch | N75: Dewiswch | P75: Dewiswch | R75: Dewiswch | T75: Dewiswch | V75: Dewiswch
C77: Math o danwydd presennol | D77: Dewiswch | F77: Dewiswch | H77: Dewiswch | J77: Dewiswch | L77: Dewiswch | N77: Dewiswch | P77: Dewiswch | R77: Dewiswch | T77: Dewiswch | V77: Dewiswch
...

Sheet 3. Manylion Costau Cymwys
C2: 3. COSTAU PROSIECT CYMWYS
C3: =IF('1. Manylion Ymgeisydd'!E15="Dewiswch","Rhifwch y nifer o adeiladau yn dalen 1. Manylion Ymgeisydd","") -> Rhifwch y nifer o adeiladau yn dalen 1. Manylion Ymgeisydd
B4: 3.1 Manylion Cost Prosiect - SYLWER NA DDYLAI COSTAU GYNNWYS UNRHYW T.A.W. Y GELLIR EI ADENNILL | I4: Cyfanswm | K4: ADEILAD UN | M4: ADEILAD DAU | O4: ADEILAD TRI | Q4: ADEILAD PEDWAR | S4: ADEILAD PUMP | U4: ADEILAD CHWECH | W4: ADEILAD SAITH | Y4: ADEILAD WYTH | AA4: ADEILAD NAW | AC4: ADEILAD DEG
K5: =IF(ISBLANK('2. Manylion Prosiect'!D$6),"",'2. Manylion Prosiect'!D$6) | L5: =IF(ISBLANK('2. Manylion Prosiect'!E$6),"",'2. Manylion Prosiect'!E$6) | M5: =IF(ISBLANK('2. Manylion Prosiect'!F$6),"",'2. Manylion Prosiect'!F$6) | N5: =IF(ISBLANK('2. Manylion Prosiect'!G$6),"",'2. Manylion Prosiect'!G$6) | O5: =IF(ISBLANK('2. Manylion Prosiect'!H$6),"",'2. Manylion Prosiect'!H$6) | P5: =IF(ISBLANK('2. Manylion Prosiect'!I$6),"",'2. Manylion Prosiect'!I$6) | Q5: =IF(ISBLANK('2. Manylion Prosiect'!J$6),"",'2. Manylion Prosiect'!J$6) | R5: =IF(ISBLANK('2. Manylion Prosiect'!K$6),"",'2. Manylion Prosiect'!K$6) | ... AC5: =IF(ISBLANK('2. Manylion Prosiect'!V$6),"",'2. Manylion Prosiect'!V$6) | AF5: Total - TO BE HIDDEN
C7: Nodwch sefyllfa TAW eich sefydliad:
C8: (e.e. pa TAW y gellir ei adennill, a beth sydd ddim)
C13: Cynllun Terfynol a Rheoli Prosiectau (£) | I13: =SUM(K13:AC13) -> 0 | K13: 0 | M13: 0 | AF13: =SUM(K13,M13,O13,Q13,S13,U13,W13,Y13,AA13,AC13) -> 0
C14: % cyfanswm y gost | I14: =IFERROR(I13/I30,"") | K14: =IFERROR(K13/K30,"") | M14: =IFERROR(M13/M30,"") | O14: =IFERROR(O13/O30,"") | Q14: =IFERROR(Q13/Q30,"") | S14: =IFERROR(S13/S30,"") | U14: =IFERROR(U13/U30,"") | W14: =IFERROR(W13/W30,"") | Y14: =IFERROR(Y13/Y30,"") | AA14: =IFERROR(AA13/AA30,"") | AC14: =IFERROR(AC13/AC30,"") | AF14: =($AF13/$AF$30) -> #DIV/0!
C16: Costau Offer - Gorsaf Wres (£) | I16: =SUM(K16:AC16) -> 0 | K16: 0 | M16: 0 | AF16: =SUM(K16,M16,O16,Q16,S16,U16,W16,Y16,AA16,AC16) -> 0
C17: £/kW | I17: =IFERROR(I16/'2. Manylion Prosiect'!B224,"") | K17: =IFERROR(K16/'2. Manylion Prosiect'!D224,"") | M17: =IFERROR(M16/'2. Manylion Prosiect'!F224,"") | O17: =IFERROR(O16/'2. Manylion Prosiect'!H224,"") | Q17: =IFERROR(Q16/'2. Manylion Prosiect'!J224,"") | S17: =IFERROR(S16/'2. Manylion Prosiect'!L224,"") | U17: =IFERROR(U16/'2. Manylion Prosiect'!N224,"") | W17: =IFERROR(W16/'2. Manylion Prosiect'!P224,"") | Y17: =IFERROR(Y16/'2. Manylion Prosiect'!R224,"") | AA17: =IFERROR(AA16/'2. Manylion Prosiect'!T224,"") | AC17: =IFERROR(AC16/'2. Manylion Prosiect'!V224,"") | AF17: =SUM(K17,M17,O17,Q17,S17,U17,W17,Y17,AA17,AC17) -> 0
C18: % cyfanswm y gost | I18: =IFERROR(I16/I30,"") | K18: =IFERROR(K16/K30,"") | M18: =IFERROR(M16/M30,"") | O18: =IFERROR(O16/O30,"") | Q18: =IFERROR(Q16/Q30,"") | S18: =IFERROR(S16/S30,"") | U18: =IFERROR(U16/U30,"") | W18: =IFERROR(W16/W30,"") | Y18: =IFERROR(Y16/Y30,"") | AA18: =IFERROR(AA16/AA30,"") | AC18: =IFERROR(AC16/AC30,"") | AF18: =($AF16/$AF$30) -> #DIV/0!
C20: Costau Offer - Gwaith Gwneuthuriad a Galluogi (£) | I20: =SUM(K20:AC20) -> 0 | K20: 0 | M20: 0 | AF20: =SUM(K20,M20,O20,,Q20,S20,U20,W20,Y20,AA20,AC20) -> 0
C21: % cyfanswm y gost | I21: =IFERROR(I20/I30,"") | K21: =IFERROR(K20/K30,"") | M21: =IFERROR(M20/M30,"") | O21: =IFERROR(O20/O30,"") | Q21: =IFERROR(Q20/Q30,"") | S21: =IFERROR(S20/S30,"") | U21: =IFERROR(U20/U30,"") | W21: =IFERROR(W20/W30,"") | Y21: =IFERROR(Y20/Y30,"") | AA21: =IFERROR(AA20/AA30,"") | AC21: =IFERROR(AC20/AC30,"") | AF21: =($AF20/$AF$30) -> #DIV/0!
C23: Costau Gweithredwr Rhwydwaith Ardal (DNO) (£) | I23: =SUM(K23:AC23) -> 0 | K23: 0 | M23: 0 | AF23: =SUM(K23,M23,O23,,Q23,S23,U23,W23,Y23,AA23,AC23) -> 0
C24: % cyfanswm y gost | I24: =IFERROR(I23/I30,"") | K24: =IFERROR(K23/K30,"") | M24: =IFERROR(M23/M30,"") | O24: =IFERROR(O23/O30,"") | Q24: =IFERROR(Q23/Q30,"") | S24: =IFERROR(S23/S30,"") | U24: =IFERROR(U23/U30,"") | W24: =IFERROR(W23/W30,"") | Y24: =IFERROR(Y23/Y30,"") | AA24: =IFERROR(AA23/AA30,"") | AC24: =IFERROR(AC23/AC30,"") | AF24: =($AF23/$AF$30) -> #DIV/0!
C26: Costau Gosod a Chomisiynu(£) | I26: =SUM(K26:AC26) -> 0 | K26: 0 | M26: 0 | AF26: =SUM(K26,M26,O26,,Q26,S26,U26,W26,Y26,AA26,AC26) -> 0
C27: % cyfanswm y gost | I27: =IFERROR(I26/I30,"") | K27: =IFERROR(K26/K30,"") | M27: =IFERROR(M26/M30,"") | O27: =IFERROR(O26/O30,"") | Q27: =IFERROR(Q26/Q30,"") | S27: =IFERROR(S26/S30,"") | U27: =IFERROR(U26/U30,"") | W27: =IFERROR(W26/W30,"") | Y27: =IFERROR(Y26/Y30,"") | AA27: =IFERROR(AA26/AA30,"") | AC27: =IFERROR(AC26/AC30,"") | AF27: =($AF26/$AF$30) -> #DIV/0!
C30: Cyfanswm Costau'r Prosiect (£) | I30: =SUM(K30:AC30) -> 0 | K30: =SUM(K13,K16,K20,K23,K26) -> 0 | M30: =SUM(M13,M16,M20,M23,M26) -> 0 | O30: =SUM(O13,O16,O20,O23,O26) -> 0 | Q30: =SUM(Q13,Q16,Q20,Q23,Q26) -> 0 | S30: =SUM(S13,S16,S20,S23,S26) -> 0 | U30: =SUM(U13,U16,U20,U23,U26) -> 0 | W30: =SUM(W13,W16,W20,W23,W26) -> 0 | Y30: =SUM(Y13,Y16,Y20,Y23,Y26) -> 0 | AA30: =SUM(AA13,AA16,AA20,AA23,AA26) -> 0 | AC30: =SUM(AC13,AC16,AC20,AC23,AC26) -> 0 | AF30: =SUM(K30,M30,O30,,Q30,S30,U30,W30,Y30,AA30,AC30) -> 0
C31: Sicrhewch fod y gwerth hwn yn cyfateb i'r cyfansymiau ar y dyfynbrisiau a gyflwynwyd
C34: Uchafswm Gwerth Grant Cymwys | I34: =I30*0.9 -> 0 | K34: =K30*0.9 -> 0 | M34: =M30*0.9 -> 0 | O34: =O30*0.9 -> 0 | Q34: =Q30*0.9 -> 0 | S34: =S30*0.9 -> 0 | U34: =U30*0.9 -> 0 | W34: =W30*0.9 -> 0 | Y34: =Y30*0.9 -> 0 | AA34: =AA30*0.9 -> 0 | AC34: =AC30*0.9 -> 0 | AF34: =SUM(K34,M34,O34,,Q34,S34,U34,W34,Y34,AA34,AC34) -> 0
C36: Swm y grant y gofynnir amdano | I36: =SUM(K36:AC36) -> 0 | K36: 0 | M36: 0 | AF36: =SUM(K36,M36,O36,,Q36,S36,U36,W36,Y36,AA36,AC36) -> 0
C37: Canran o gyfanswm y costau y gofynnir amdanynt (Uchafswm cyfraniad yw 90%) | I37: =IFERROR(I36/I30,"") | K37: =IFERROR(K36/K30,"") | M37: =IFERROR(M36/M30,"") | O37: =IFERROR(O36/O30,"") | Q37: =IFERROR(Q36/Q30,"") | S37: =IFERROR(S36/S30,"") | U37: =IFERROR(U36/U30,"") | W37: =IFERROR(W36/W30,"") | Y37: =IFERROR(Y36/Y30,"") | AA37: =IFERROR(AA36/AA30,"") | AC37: =IFERROR(AC36/AC30,"") | AF37: =AVERAGE(E37:O37) -> #DIV/0!
C39: Isafswm Cyfraniad Ymgeisydd | I39: =I30-I36 -> 0 | K39: =K30-K36 -> 0 | M39: =M30-M36 -> 0 | O39: =O30-O36 -> 0 | Q39: =Q30-Q36 -> 0 | S39: =S30-S36 -> 0 | U39: =U30-U36 -> 0 | W39: =W30-W36 -> 0 | Y39: =Y30-Y36 -> 0 | AA39: =AA30-AA36 -> 0 | AC39: =AC30-AC36 -> 0 | AF39: =SUM(K39,M39,O39,Q39,S39,U39,W39,Y39,AA39,AC39) -> 0
C43: Costau'n cael eu hariannu gan ffynonellau ariannu eraill | I43: =SUM(K43:AC43) -> 0 | K43: =SUM(K46:K48) -> 0 | M43: =SUM(M46:M48) -> 0 | O43: =SUM(O46:O48) -> 0 | Q43: =SUM(Q46:Q48) -> 0 | S43: =SUM(S46:S48) -> 0 | U43: =SUM(U46:U48) -> 0 | W43: =SUM(W46:W48) -> 0 | Y43: =SUM(Y46:Y48) -> 0 | AA43: =SUM(AA46:AA48) -> 0 | AC43: =SUM(AC46:AC48) -> 0 | AF43: =SUM(K43,M43,O43,Q43,S43,U43,W43,Y43,AA43,AC43) -> 0
C45: Rhestrwch ffynonellau a symiau cyllido eraill sydd wedi'u cadarnhau
C46: enw ffrwd ariannol | I46: =SUM(K46:AC46) -> 0 | K46: 0 | M46: 0 | O46: 0 | Q46: 0 | S46: 0 | U46: 0 | W46: 0 | Y46: 0 | AA46: 0 | AC46: 0
C47: enw ffrwd ariannol | I47: =SUM(K47:AC47) -> 0 | K47: 0 | M47: 0 | O47: 0 | Q47: 0 | S47: 0 | U47: 0 | W47: 0 | Y47: 0 | AA47: 0 | AC47: 0
C48: enw ffrwd ariannol | I48: =SUM(K48:AC48) -> 0 | K48: 0 | M48: 0 | O48: 0 | Q48: 0 | S48: 0 | U48: 0 | W48: 0 | Y48: 0 | AA48: 0 | AC48: 0
C51: Rhowch sylwadau ar gostau'r prosiect. Dylech gynnwys manylion fel: - sut mae'r costau hyn wedi'u deillio - sut mae'r dull a gymerir yn gost-effeithiol
B53: 3.2 Cyfraniad Blynyddol i'r costau
C55: (i)Byddwn yn derbyn prosiectau blwyddyn ariannol sengl neu cheisiadau aml-flwyddyn
C56: (ii)Mae'r cyllid yn cael ei ymrwymo ar sail blwyddyn ariannol a rhaid ei wario o fewn y flwyddyn ariannol a bennir.Ni ellir cario arian cymeradwy ymlaen o un flwyddyn ariannol i'r nesaf.
C59: Mynegwch y cyfraniad i'r cyfanswm costau'r prosiect fesul blwyddyn ariannol.
G60: Taliad Cadw | I60: Cyfanswm-Bl.1
C61: Gwariad prosiect i Fawrth 2025 | G61: Dewiswch | I61: =SUM(K61:AC61) -> 0 | K61: 0 | M61: 0
C63: A yw costau'r prosiect uchod yn cynnwys taliad cadw a fyddai'n cael ei dalu yn y flwyddyn ariannol nesaf?
C64: Os ydynt, beth yw gwerth y taliad cadw?
I65: Cyfanswm-Bl.2
C66: Gwariad prosiect rhwng Ebrill 2025 a Fawrth 2026 | G66: Dewiswch | I66: =SUM(K66:AC66) -> 0 | K66: 0 | M66: 0
C68: A yw costau'r prosiect uchod yn cynnwys taliad cadw a fyddai'n cael ei dalu yn y flwyddyn ariannol nesaf?
...

Sheet 4. Risgiau
C2: 4. ASESIAD RISG
C4: Disgrifiad o’r Risg i Gyflawni’r Prosiect | D4: Effaith Bosibl (1-5) | E4: Tebygolrwydd (1-5) | F4: Graddfa Risg (heb ei liniaru) | G4: Lliniaru Arfaethedig | H4: Effaith Bosibl (1-5) | I4: Tebygolrwydd (1-5) | J4: Graddfa Risg (heb ei liniaru)
F5: =D5*E5 -> 0 | J5: =H5*I5 -> 0
F6: =D6*E6 -> 0 | J6: =H6*I6 -> 0
F7: =D7*E7 -> 0 | J7: =H7*I7 -> 0
F8: =D8*E8 -> 0 | J8: =H8*I8 -> 0
F9: =D9*E9 -> 0 | J9: =H9*I9 -> 0
F10: =D10*E10 -> 0 | J10: =H10*I10 -> 0
F11: =D11*E11 -> 0 | J11: =H11*I11 -> 0
F12: =D12*E12 -> 0 | J12: =H12*I12 -> 0
B19: Diwedd y ddalen

Sheet 5. Crynodeb a Datganiad
C2: 5. Cyflwyno’r Cais
C10: 5.1 Gwiriad Cwblhau
G12: Cwblhau?
E13: 1. Manylion Ymgeisydd | G13: FALSE | O13: (A1)
E15: 2. Manylion Prosiect | G15: FALSE | O15: (A2)
E17: 3. Manylion Costau Cymwys | G17: FALSE | O17: (A3)
E19: 4. Risgiau | G19: FALSE | O19: (A4)
C21: 5.2 Gwybodaeth Ategol
G23: Atodedig? | I23: Enw'r ddogfen gan gynnwys y tair llythyren fath ar y diwedd
C24: Astudiaeth dichonoldeb / Cynnig Gradd Buddsoddi sy'n dangos bod y prosiect yn dechnegol ymarferol | G24: FALSE | O24: (B1)
C26: Dyfynbris cyflenwyr ar gyfer y gwaith | G26: FALSE | O26: (B2)
C28: Lluniadau (cynllun a gweddlun) sy'n dangos lleoliad y ffynhonnell wres a'r raddfa (dewisol) | G28: FALSE | O28: (B3)
C30: Taflen manyleb ar gyfer y pwmp gwres / ffynhonnell wres carbon isel arall arfaethedig | G30: FALSE | O30: (B4)
C32: Tystiolaeth o gyfernod perfformiad y pwmp gwres (lle bo hynny'n berthnasol) | G32: FALSE | O32: (B5)
C34: Tystiolaeth bod unrhyw gyllid ategol ar waith e.e. llythyrau yn cadarnhau cyllid | G34: FALSE | O34: (B6)
C36: Asesiad Coch Melyn Gwyrdd o'r risgiau mawr i gyflawni’r prosiect | G36: FALSE | O36: (B7)
C38: 5.3 Datganiad a Chrynodeb Ariannol
F40: Blwyddyn Ariannol 1 | I40: Blwyddyn Ariannol 2
C41: Cais am Grant | G41: ='3. Manylion Costau Cymwys'!D87 -> 0 | J41: ='3. Manylion Costau Cymwys'!D96 -> 0
C43: Tynnu i lawr a ddisgwylir: | F43: ='3. Manylion Costau Cymwys'!C82 -> Dyddiad | G43: ='3. Manylion Costau Cymwys'!D82 -> 0 | I43: ='3. Manylion Costau Cymwys'!C91 -> Dyddiad | J43: ='3. Manylion Costau Cymwys'!D91 -> 0
F44: ='3. Manylion Costau Cymwys'!C83 -> Dyddiad | G44: ='3. Manylion Costau Cymwys'!D83 -> 0 | I44: ='3. Manylion Costau Cymwys'!C92 -> Dyddiad | J44: ='3. Manylion Costau Cymwys'!D92 -> 0
F45: ='3. Manylion Costau Cymwys'!C84 -> Dyddiad | G45: ='3. Manylion Costau Cymwys'!D84 -> 0 | I45: ='3. Manylion Costau Cymwys'!C93 -> Dyddiad | J45: ='3. Manylion Costau Cymwys'!D93 -> 0
F46: ='3. Manylion Costau Cymwys'!C85 -> Dyddiad | G46: ='3. Manylion Costau Cymwys'!D85 -> 0 | I46: ='3. Manylion Costau Cymwys'!C94 -> Dyddiad | J46: ='3. Manylion Costau Cymwys'!D94 -> 0
C49: Rydym yn cadarnhau ein bod yn deall nad yw gwerth y prosiect yn hyblyg rhwng blynyddoedd ariannol | G49: FALSE | O49: (C1)
C51: Rydym yn cadarnhau bod ein cyfraniad o gyllid (10%+) wedi'i sicrhau a bydd ar gael ar gyfer pob tynnu'r arian i lawr | G51: FALSE | O51: (C2)
C53: Rydym yn cadarnhau ein bod yn deall y bydd tynnu cyllid i lawr mewn ôl-ddyledion | G53: FALSE | O53: (C3)
C55: Rydym yn cadarnhau bod ein safleoedd wedi'u rhestru yn ein trefn blaenoriaeth, ac y gellir gwneud cynigion grant ar gyfer nifer llai o safleoedd i sicrhau dosbarthiad rhesymol a theg o gyllid. | G55: FALSE | O55: (C4)
C57: Rydym yn cadarnhau nad yw TAW y gellir ei adennill wedi'i gynnwys mewn costau prosiect y gwnaed cais amdano (neu fel rhan o'n cyfraniad) | G57: FALSE | O57: (C5)
C59: Rydym yn deall y gallai atebion gwres carbon isel arwain at gynnydd mewn costau ynni, ac y gellir talu'r costau hyn | G59: FALSE | O59: (C6)
C61: Rydym yn cadarnhau y byddwn yn barod i fynd i gontract yn fuan ar ôl dyfarnu’r grant | G61: FALSE | O61: (C7)
C63: Rydym yn cadarnhau bod gennym ymrwymiad uwch ar gyfer y prosiect | G63: FALSE | O63: (C8)
C65: Rwy'n cadarnhau, fel y cyswllt / ymgeisydd allweddol, fy mod yn deall y gofyniad ar gyfer adroddiadau misol a rheoli’r cyllid yn gywir, a bod hwn yn un o brif amodau'r grant. | G65: FALSE | O65: (C9)
C67: Rwy'n cadarnhau bod y cais yn gywir ac yn llawn hyd eithaf fy ngwybodaeth, a bod gennyf yr awdurdod i wneud cais dros y sefydliad. Rhowch eich enw mewn priflythrennau | G67: FALSE | K67: Rhowch eich enw yma | O67: (C10)
C71: 5.4 Dogfen Cynnig Grant
C73: Yr Iaith a Ffefrir ar gyfer Llythyr/Dogfen Cynnig Grant: | G73: Cymraeg | O73: (C11)
C75: A fydd y Cyfarwyddwr Noddi yn llofnodi'r Llythyr Cynnig Grant? | G75: Dewiswch | O75: (C12)
C76: (Os na fydd y Cyfarwyddwr Noddi yn llofnodi'r Llythyr Cynnig Grant, | I76: =IF(G75="Na", "Rhowch enw", "") | L76: =IF(G75="Na", "Cyfeiriad ebost", "")
C77: rhowch enw ac ebost y person o'r un awdurdod neu'n uwch | I77: =IF(G76="No", "Print Name", "") | L77: =IF(G76="No", "E-mail address", "")
C80: Diwedd y cais | F80: STATWS | G80: =IF(G13*G15*G17*G19*G24*G26*G28*G30*G32*G34*G36*G49*G51*G53*G55*G57*G59*G61*G63*G67=0,"nid yw'r blychau siec i gyd yn llawn","") -> nid yw'r blychau siec i gyd yn llawn | J80: =IF(AND(I75="",G75="Na"),"dim enw","") | M80: =IF(AND(L75="",G75="Na"),"dim ebost","")
C84: =IF(AND(G80="",J80="",M80=""), 'Nodiadau Canllawiau'!C31,"")

Sheet Lists
A1: Llinell wag-> | B1: Dewiswch | D1: Dewiswch | F1: Dewiswch | H1: Dewiswch | J1: Dewiswch | L1: Dewiswch | N1: Dewiswch | P1: Dewiswch | R1: Dyddiad | U1: Dewiswch | W1: Dewiswch | Y1: Dewiswch
B2: Ydy | D2: Cadarhau | F2: Pwmp gwres - ffynhonnell aer | H2: Blwyddyn | J2: Ysgol Gynradd | L2: Boeleri | N2: Nwy naturiol | P2: Gwresogi (ychwanegol) | R2: Hyd-24 | U2: Wedi cael caniatâd cynllunio | W2: Mewn contract - Contractau perfformiad ynni (EnPC) (is-gontractwyr wedi’u cadarnhau) | Y2: Dim diweddariadau - Gweithredwr Rhwydwaith Ardal wedi’i gadarnhau
B3: Na | D3: Methu cadarnhau | F3: Pwmp gwres - ffynhonnell daear | H3: Aml-flwyddyn | J3: Ysgol Uwchradd | L3: Gwresogydd dŵr poeth uniongyrchol | N3: LPG | P3: Dŵr Poeth | R3: Tach-24 | U3: Wedi gwneud cais am ganiatâd cynllunio | W3: Mewn contract - Contractau perfformiad ynni (EnPC) (is-gontractwyr i’w cadarnhau) | Y3: Gweithredwr Rhwydwaith Ardal -diweddariadau yn y contract
B4: Dim yn berthnasol | F4: Pwmp gwres - ffynhonnell dŵr o'r ddaear | J4: Swyddfeydd | L4: Cyfuniad o wres a phŵer | N4: Kerosene | P4: Arall | R4: Rhag - 24 | U4: Wrthi’n datblygu cais cynllunio | W4: Mewn contract - darparwr un contractwr | Y4: Gweithredwr Rhwydwaith Ardal - dyfynbris pendant wedi’i dderbyn
F5: Pwmp gwres - ffynhonnell ddŵr | J5: Depo | L5: Gwresogydd trydan (ar gyfer gwresogi gofod) | N5: Olew nwy | R5: Ion - 25 | U5: Datblygiad wedi’i ganiatáu - wedi'i gadarnhau gyda'r adran gynllunio | W5: Tendr wedi'i gwblhau - ymgeisydd dewisol i'w osod | Y5: Gweithredwr Rhwydwaith Ardal - cais llawn wedi’i gyflwyno
F6: Pwmp gwres -mewn camau – deuol aer wedyn dŵr | J6: Canolfan Hamdden (gyda phwll) | L6: Arall | N6: Trydan | R6: Chwef - 25 | U6: Datblygiad wedi’i ganiatáu - tybiedig | W6: Cynllun yn gyflawn – profi’r farchnad ar gyfer gosod | Y6: Gweithredwr Rhwydwaith Ardal - dyfynbris cychwynnol wedi’i dderbyn
B7: Pasio | F7: Pwmp gwres - ffynhonnell aer tymheredd uchel | J7: Canolfan Hamdden (heb bwll) | R7: Maw - 25 | U7: Ddim yn gwybod am gynllunio | W7: Cynllun yn gyflawn - amcangyfrif costau gosod yn unig | Y7: Gweithredwr Rhwydwaith Ardal - wedi gofyn am ddyfynbris cychwynnol
B8: Methu | F8: Boeler trydan | J8: Canolfan Gymunedol | R8: Ebr - 25 | W8: Dim cynllun wedi’i gwblhau - amcangyfrif mewnol o'r costau | Y8: Gweithredwr Rhwydwaith Ardal - wedi ymgysylltu ag ymateb cadarnhaol
B9: Angen Eglurhad | F9: Gwresogyddion trydan uniongyrchol | J9: Llyfrgell | R9: Mai - 25 | Y9: Gweithredwr Rhwydwaith Ardal - heb ymgysylltu
F10: Biomas | J10: Arall | R10: Meh - 25
F11: Bionwy | R11: Gorff - 25
F12: Cysylltiad â'r rhwydwaith gwres ardal presennol | R12: Awst - 25
R13: Medi - 25
B14: Ebr - 25 | D14: Ebr - 26 | R14: Hyd - 25
B15: Mai - 25 | D15: Mai - 26 | R15: Tach - 25
B16: Meh - 25 | D16: Meh - 26 | R16: Rhag - 25
B17: Gorff - 25 | D17: Gorff - 26 | F17: Dewiswch | R17: Ion - 26
B18: Awst - 25 | D18: Awst - 26 | F18: Cymraeg | R18: Chwef - 26
B19: Medi - 25 | D19: Medi - 26 | F19: Saesneg | R19: Maw - 26
B20: Hyd - 25 | D20: Hyd - 26
B21: Tach - 25 | D21: Tach - 26
A22: Rhag - 24 | B22: Rhag - 25 | D22: Rhag - 26
A23: Ion - 25 | B23: Ion - 26 | D23: Ion - 27
A24: Chwef - 25 | B24: Chwef - 26 | D24: Chwef - 27
A25: Maw - 25 | B25: Maw - 26 | D25: Maw - 27

Sheet Calculation_factors
B2: Fuel Lookup for LCH Tech | E2: Lifetime CO2 (15 years) | F2: kg CO2e | H2: 1year CO2 (202X) | K2: Factors | AB2: Summary & Declaration
H3: Year | I3: 2024 | K3: kg CO2 / kWh
E4: Lifetime of project (years) | F4: 15 | AD4: Fuel types | AE4: Building 1 | AF4: Building 2 | AG4: Building 3 | AH4: Building 4 | AI4: Building 5 | AJ4: Building 6 | AK4: Building 7 | AL4: Building 8 | AM4: Building 9 | AN4: Building 10
B5: Pwmp gwres - ffynhonnell aer | C5: Trydan | AD5: Natural Gas | AE5: =(IF('2. Manylion Prosiect'!D35="Natural gas",'2. Manylion Prosiect'!D45,0)+IF('2. Manylion Prosiect'!D57="Natural gas",'2. Manylion Prosiect'!D65,0)+((IF('2. Manylion Prosiect'!D77="Natural gas",'2. Manylion Prosiect'!D85,0)))) -> 0 | AF5: =(IF('2. Manylion Prosiect'!F35="Natural gas",'2. Manylion Prosiect'!F45,0)+IF('2. Manylion Prosiect'!F57="Natural gas",'2. Manylion Prosiect'!F65,0)+((IF('2. Manylion Prosiect'!F77="Natural gas",'2. Manylion Prosiect'!F85,0)))) -> 0 | AG5: =(IF('2. Manylion Prosiect'!H35="Natural gas",'2. Manylion Prosiect'!H45,0)+IF('2. Manylion Prosiect'!H57="Natural gas",'2. Manylion Prosiect'!H65,0)+((IF('2. Manylion Prosiect'!H77="Natural gas",'2. Manylion Prosiect'!H85,0)))) -> 0 | AH5: =(IF('2. Manylion Prosiect'!J35="Natural gas",'2. Manylion Prosiect'!J45,0)+IF('2. Manylion Prosiect'!J57="Natural gas",'2. Manylion Prosiect'!J65,0)+((IF('2. Manylion Prosiect'!J77="Natural gas",'2. Manylion Prosiect'!J85,0)))) -> 0 | AI5: =(IF('2. Manylion Prosiect'!L35="Natural gas",'2. Manylion Prosiect'!L45,0)+IF('2. Manylion Prosiect'!L57="Natural gas",'2. Manylion Prosiect'!L65,0)+((IF('2. Manylion Prosiect'!L77="Natural gas",'2. Manylion Prosiect'!L85,0)))) -> 0 | AJ5: =(IF('2. Manylion Prosiect'!N35="Natural gas",'2. Manylion Prosiect'!N45,0)+IF('2. Manylion Prosiect'!N57="Natural gas",'2. Manylion Prosiect'!N65,0)+((IF('2. Manylion Prosiect'!N77="Natural gas",'2. Manylion Prosiect'!N85,0)))) -> 0 | AK5: =(IF('2. Manylion Prosiect'!P35="Natural gas",'2. Manylion Prosiect'!P45,0)+IF('2. Manylion Prosiect'!P57="Natural gas",'2. Manylion Prosiect'!P65,0)+((IF('2. Manylion Prosiect'!P77="Natural gas",'2. Manylion Prosiect'!P85,0)))) -> 0 | AL5: =(IF('2. Manylion Prosiect'!R35="Natural gas",'2. Manylion Prosiect'!R45,0)+IF('2. Manylion Prosiect'!R57="Natural gas",'2. Manylion Prosiect'!R65,0)+((IF('2. Manylion Prosiect'!R77="Natural gas",'2. Manylion Prosiect'!R85,0)))) -> 0 | AM5: =(IF('2. Manylion Prosiect'!T35="Natural gas",'2. Manylion Prosiect'!T45,0)+IF('2. Manylion Prosiect'!T57="Natural gas",'2. Manylion Prosiect'!T65,0)+((IF('2. Manylion Prosiect'!T77="Natural gas",'2. Manylion Prosiect'!T85,0)))) -> 0 | AN5: =(IF('2. Manylion Prosiect'!V35="Natural gas",'2. Manylion Prosiect'!V45,0)+IF('2. Manylion Prosiect'!V57="Natural gas",'2. Manylion Prosiect'!V65,0)+((IF('2. Manylion Prosiect'!V77="Natural gas",'2. Manylion Prosiect'!V85,0)))) -> 0
B6: Pwmp gwres - ffynhonnell daear | C6: Trydan | E6: Trydan | F6: =SUM(_xlfn.TAKE(L7:L33,$F$4,)) -> 2.2998935 | H6: Trydan | I6: =INDEX($L$7:$S$33,MATCH($I$3,$K$7:$K$33,0),MATCH($H6,$L$6:$S$6,0)) -> 0.22535 | K6: Year | L6: Trydan | M6: Biomas | N6: Bionwy | O6: Gwres Ardal | P6: Nwy Naturiol | Q6: LPG | R6: Kerosene | S6: Olew nwy | AD6: Grid Electricity | AE6: =(IF('2. Manylion Prosiect'!D36="Electric",'2. Manylion Prosiect'!#REF!,0)+IF('2. Manylion Prosiect'!D58="Electric",'2. Manylion Prosiect'!#REF!,0)+((IF('2. Manylion Prosiect'!D78="Electric",'2. Manylion Prosiect'!D91,0)))) -> 0 | AF6: =(IF('2. Manylion Prosiect'!F36="Electric",'2. Manylion Prosiect'!#REF!,0)+IF('2. Manylion Prosiect'!F58="Electric",'2. Manylion Prosiect'!#REF!,0)+((IF('2. Manylion Prosiect'!F78="Electric",'2. Manylion Prosiect'!F91,0)))) -> 0 | AG6: =(IF('2. Manylion Prosiect'!H36="Electric",'2. Manylion Prosiect'!#REF!,0)+IF('2. Manylion Prosiect'!H58="Electric",'2. Manylion Prosiect'!#REF!,0)+((IF('2. Manylion Prosiect'!H78="Electric",'2. Manylion Prosiect'!H91,0)))) -> 0 | AH6: =(IF('2. Manylion Prosiect'!J36="Electric",'2. Manylion Prosiect'!#REF!,0)+IF('2. Manylion Prosiect'!J58="Electric",'2. Manylion Prosiect'!#REF!,0)+((IF('2. Manylion Prosiect'!J78="Electric",'2. Manylion Prosiect'!J91,0)))) -> 0 | AI6: =(IF('2. Manylion Prosiect'!L36="Electric",'2. Manylion Prosiect'!#REF!,0)+IF('2. Manylion Prosiect'!L58="Electric",'2. Manylion Prosiect'!#REF!,0)+((IF('2. Manylion Prosiect'!L78="Electric",'2. Manylion Prosiect'!L91,0)))) -> 0 | AJ6: =(IF('2. Manylion Prosiect'!N36="Electric",'2. Manylion Prosiect'!#REF!,0)+IF('2. Manylion Prosiect'!N58="Electric",'2. Manylion Prosiect'!#REF!,0)+((IF('2. Manylion Prosiect'!N78="Electric",'2. Manylion Prosiect'!N91,0)))) -> 0 | AK6: =(IF('2. Manylion Prosiect'!P36="Electric",'2. Manylion Prosiect'!#REF!,0)+IF('2. Manylion Prosiect'!P58="Electric",'2. Manylion Prosiect'!#REF!,0)+((IF('2. Manylion Prosiect'!P78="Electric",'2. Manylion Prosiect'!P91,0)))) -> 0 | AL6: =(IF('2. Manylion Prosiect'!R36="Electric",'2. Manylion Prosiect'!#REF!,0)+IF('2. Manylion Prosiect'!R58="Electric",'2. Manylion Prosiect'!#REF!,0)+((IF('2. Manylion Prosiect'!R78="Electric",'2. Manylion Prosiect'!R91,0)))) -> 0 | AM6: =(IF('2. Manylion Prosiect'!T36="Electric",'2. Manylion Prosiect'!#REF!,0)+IF('2. Manylion Prosiect'!T58="Electric",'2. Manylion Prosiect'!#REF!,0)+((IF('2. Manylion Prosiect'!T78="Electric",'2. Manylion Prosiect'!T91,0)))) -> 0 | AN6: =(IF('2. Manylion Prosiect'!V36="Electric",'2. Manylion Prosiect'!#REF!,0)+IF('2. Manylion Prosiect'!V58="Electric",'2. Manylion Prosiect'!#REF!,0)+((IF('2. Manylion Prosiect'!V78="Electric",'2. Manylion Prosiect'!V91,0)))) -> 0
B7: Pwmp gwres - ffynhonnell dŵr o'r ddaear | C7: Trydan | E7: Biomas | F7: =I7*$F$4 -> 0.15795 | H7: Biomas | I7: =INDEX($L$7:$S$33,MATCH($I$3,$K$7:$K$33,0),MATCH($H7,$L$6:$S$6,0)) -> 0.01053 | K7: 2024 | L7: 0.22535 | M7: 0.01053 | N7: 0.00022 | O7: 0.17073 | P7: 0.1829 | Q7: 0.21419 | R7: 0.24677 | S7: 0.2565 | AD7: Gas Oil | AE7: =IF('2. Manylion Prosiect'!D35="Kerosene",'2. Manylion Prosiect'!D45,0)+IF('2. Manylion Prosiect'!D57="Kerosene",'2. Manylion Prosiect'!D45,0)+((IF('2. Manylion Prosiect'!D77="Kerosene",'2. Manylion Prosiect'!D85,0))) -> 0 | AF7: =IF('2. Manylion Prosiect'!F35="Kerosene",'2. Manylion Prosiect'!F45,0)+IF('2. Manylion Prosiect'!F57="Kerosene",'2. Manylion Prosiect'!F45,0)+((IF('2. Manylion Prosiect'!F77="Kerosene",'2. Manylion Prosiect'!F85,0))) -> 0 | AG7: =IF('2. Manylion Prosiect'!H35="Kerosene",'2. Manylion Prosiect'!H45,0)+IF('2. Manylion Prosiect'!H57="Kerosene",'2. Manylion Prosiect'!H45,0)+((IF('2. Manylion Prosiect'!H77="Kerosene",'2. Manylion Prosiect'!H85,0))) -> 0 | AH7: =IF('2. Manylion Prosiect'!J35="Kerosene",'2. Manylion Prosiect'!J45,0)+IF('2. Manylion Prosiect'!J57="Kerosene",'2. Manylion Prosiect'!J45,0)+((IF('2. Manylion Prosiect'!J77="Kerosene",'2. Manylion Prosiect'!J85,0))) -> 0 | AI7: =IF('2. Manylion Prosiect'!L35="Kerosene",'2. Manylion Prosiect'!L45,0)+IF('2. Manylion Prosiect'!L57="Kerosene",'2. Manylion Prosiect'!L45,0)+((IF('2. Manylion Prosiect'!L77="Kerosene",'2. Manylion Prosiect'!L85,0))) -> 0 | AJ7: =IF('2. Manylion Prosiect'!N35="Kerosene",'2. Manylion Prosiect'!N45,0)+IF('2. Manylion Prosiect'!N57="Kerosene",'2. Manylion Prosiect'!N45,0)+((IF('2. Manylion Prosiect'!N77="Kerosene",'2. Manylion Prosiect'!N85,0))) -> 0 | AK7: =IF('2. Manylion Prosiect'!P35="Kerosene",'2. Manylion Prosiect'!P45,0)+IF('2. Manylion Prosiect'!P57="Kerosene",'2. Manylion Prosiect'!P45,0)+((IF('2. Manylion Prosiect'!P77="Kerosene",'2. Manylion Prosiect'!P85,0))) -> 0 | AL7: =IF('2. Manylion Prosiect'!R35="Kerosene",'2. Manylion Prosiect'!R45,0)+IF('2. Manylion Prosiect'!R57="Kerosene",'2. Manylion Prosiect'!R45,0)+((IF('2. Manylion Prosiect'!R77="Kerosene",'2. Manylion Prosiect'!R85,0))) -> 0 | AM7: =IF('2. Manylion Prosiect'!T35="Kerosene",'2. Manylion Prosiect'!T45,0)+IF('2. Manylion Prosiect'!T57="Kerosene",'2. Manylion Prosiect'!T45,0)+((IF('2. Manylion Prosiect'!T77="Kerosene",'2. Manylion Prosiect'!T85,0))) -> 0 | AN7: =IF('2. Manylion Prosiect'!V35="Kerosene",'2. Manylion Prosiect'!V45,0)+IF('2. Manylion Prosiect'!V57="Kerosene",'2. Manylion Prosiect'!V45,0)+((IF('2. Manylion Prosiect'!V77="Kerosene",'2. Manylion Prosiect'!V85,0))) -> 0
B8: Pwmp gwres - ffynhonnell ddŵr | C8: Trydan | E8: Bionwy | F8: =I8*$F$4 -> 0.0033 | H8: Bionwy | I8: =INDEX($L$7:$S$33,MATCH($I$3,$K$7:$K$33,0),MATCH($H8,$L$6:$S$6,0)) -> 0.00022 | K8: 2025 | L8: 0.21721324 | M8: 0.01053 | N8: 0.00022 | O8: 0.17073 | P8: 0.1829 | Q8: 0.21419 | R8: 0.24677 | S8: 0.2565 | AD8: LPG | AE8: =IF('2. Manylion Prosiect'!D35="LPG",'2. Manylion Prosiect'!D45,0)+IF('2. Manylion Prosiect'!D57="LPG",'2. Manylion Prosiect'!D45,0)+((IF('2. Manylion Prosiect'!D77="LPG",'2. Manylion Prosiect'!D85,0))) -> 0 | AF8: =IF('2. Manylion Prosiect'!F35="LPG",'2. Manylion Prosiect'!F45,0)+IF('2. Manylion Prosiect'!F57="LPG",'2. Manylion Prosiect'!F45,0)+((IF('2. Manylion Prosiect'!F77="LPG",'2. Manylion Prosiect'!F85,0))) -> 0 | AG8: =IF('2. Manylion Prosiect'!H35="LPG",'2. Manylion Prosiect'!H45,0)+IF('2. Manylion Prosiect'!H57="LPG",'2. Manylion Prosiect'!H45,0)+((IF('2. Manylion Prosiect'!H77="LPG",'2. Manylion Prosiect'!H85,0))) -> 0 | AH8: =IF('2. Manylion Prosiect'!J35="LPG",'2. Manylion Prosiect'!J45,0)+IF('2. Manylion Prosiect'!J57="LPG",'2. Manylion Prosiect'!J45,0)+((IF('2. Manylion Prosiect'!J77="LPG",'2. Manylion Prosiect'!J85,0))) -> 0 | AI8: =IF('2. Manylion Prosiect'!L35="LPG",'2. Manylion Prosiect'!L45,0)+IF('2. Manylion Prosiect'!L57="LPG",'2. Manylion Prosiect'!L45,0)+((IF('2. Manylion Prosiect'!L77="LPG",'2. Manylion Prosiect'!L85,0))) -> 0 | AJ8: =IF('2. Manylion Prosiect'!N35="LPG",'2. Manylion Prosiect'!N45,0)+IF('2. Manylion Prosiect'!N57="LPG",'2. Manylion Prosiect'!N45,0)+((IF('2. Manylion Prosiect'!N77="LPG",'2. Manylion Prosiect'!N85,0))) -> 0 | AK8: =IF('2. Manylion Prosiect'!P35="LPG",'2. Manylion Prosiect'!P45,0)+IF('2. Manylion Prosiect'!P57="LPG",'2. Manylion Prosiect'!P45,0)+((IF('2. Manylion Prosiect'!P77="LPG",'2. Manylion Prosiect'!P85,0))) -> 0 | AL8: =IF('2. Manylion Prosiect'!R35="LPG",'2. Manylion Prosiect'!R45,0)+IF('2. Manylion Prosiect'!R57="LPG",'2. Manylion Prosiect'!R45,0)+((IF('2. Manylion Prosiect'!R77="LPG",'2. Manylion Prosiect'!R85,0))) -> 0 | AM8: =IF('2. Manylion Prosiect'!T35="LPG",'2. Manylion Prosiect'!T45,0)+IF('2. Manylion Prosiect'!T57="LPG",'2. Manylion Prosiect'!T45,0)+((IF('2. Manylion Prosiect'!T77="LPG",'2. Manylion Prosiect'!T85,0))) -> 0 | AN8: =IF('2. Manylion Prosiect'!V35="LPG",'2. Manylion Prosiect'!V45,0)+IF('2. Manylion Prosiect'!V57="LPG",'2. Manylion Prosiect'!V45,0)+((IF('2. Manylion Prosiect'!V77="LPG",'2. Manylion Prosiect'!V85,0))) -> 0
B9: Pwmp gwres -mewn camau – deuol aer wedyn dŵr | C9: Trydan | E9: Gwres Ardal | F9: =I9*$F$4 -> 2.56095 | H9: Gwres Ardal | I9: =INDEX($L$7:$S$33,MATCH($I$3,$K$7:$K$33,0),MATCH($H9,$L$6:$S$6,0)) -> 0.17073 | K9: 2026 | L9: 0.21552707 | M9: 0.01053 | N9: 0.00022 | O9: 0.17073 | P9: 0.1829 | Q9: 0.21419 | R9: 0.24677 | S9: 0.2565
B10: Pwmp gwres - ffynhonnell aer tymheredd uchel | C10: Trydan | E10: Nwy Naturiol | F10: =I10*$F$4 -> 2.7435 | H10: Nwy Naturiol | I10: =INDEX($L$7:$S$33,MATCH($I$3,$K$7:$K$33,0),MATCH($H10,$L$6:$S$6,0)) -> 0.1829 | K10: 2027 | L10: 0.22001773 | M10: 0.01053 | N10: 0.00022 | O10: 0.17073 | P10: 0.1829 | Q10: 0.21419 | R10: 0.24677 | S10: 0.2565
B11: Boeler trydan | C11: Trydan | E11: LPG | F11: =I11*$F$4 -> 3.21285 | H11: LPG | I11: =INDEX($L$7:$S$33,MATCH($I$3,$K$7:$K$33,0),MATCH($H11,$L$6:$S$6,0)) -> 0.21419 | K11: 2028 | L11: 0.20904362 | M11: 0.01053 | N11: 0.00022 | O11: 0.17073 | P11: 0.1829 | Q11: 0.21419 | R11: 0.24677 | S11: 0.2565
B12: Gwresogyddion trydan uniongyrchol | C12: Trydan | E12: Kerosene | F12: =I12*$F$4 -> 3.70155 | H12: Kerosene | I12: =INDEX($L$7:$S$33,MATCH($I$3,$K$7:$K$33,0),MATCH($H12,$L$6:$S$6,0)) -> 0.24677 | K12: 2029 | L12: 0.18092552 | M12: 0.01053 | N12: 0.00022 | O12: 0.17073 | P12: 0.1829 | Q12: 0.21419 | R12: 0.24677 | S12: 0.2565
B13: Biomas | C13: Biomas | E13: Olew nwy | F13: =I13*$F$4 -> 3.8475 | H13: Olew nwy | I13: =INDEX($L$7:$S$33,MATCH($I$3,$K$7:$K$33,0),MATCH($H13,$L$6:$S$6,0)) -> 0.2565 | K13: 2030 | L13: 0.17653931 | M13: 0.01053 | N13: 0.00022 | O13: 0.17073 | P13: 0.1829 | Q13: 0.21419 | R13: 0.24677 | S13: 0.2565
B14: Bionwy | C14: Bionwy | E14: *Sam Wright-Green updated this 23.09 as part of his annual checks on carbon factors | K14: 2031 | L14: 0.15498093 | M14: 0.01053 | N14: 0.00022 | O14: 0.17073 | P14: 0.1829 | Q14: 0.21419 | R14: 0.24677 | S14: 0.2565
B15: Cysylltiad â'r rhwydwaith gwres ardal presennol | C15: Gwres Ardal | K15: 2032 | L15: 0.1257434 | M15: 0.01053 | N15: 0.00022 | O15: 0.17073 | P15: 0.1829 | Q15: 0.21419 | R15: 0.24677 | S15: 0.2565
K16: 2033 | L16: 0.12263423 | M16: 0.01053 | N16: 0.00022 | O16: 0.17073 | P16: 0.1829 | Q16: 0.21419 | R16: 0.24677 | S16: 0.2565
K17: 2034 | L17: 0.11117173 | M17: 0.01053 | N17: 0.00022 | O17: 0.17073 | P17: 0.1829 | Q17: 0.21419 | R17: 0.24677 | S17: 0.2565
K18: 2035 | L18: 0.090319619 | M18: 0.01053 | N18: 0.00022 | O18: 0.17073 | P18: 0.1829 | Q18: 0.21419 | R18: 0.24677 | S18: 0.2565
K19: 2036 | L19: 0.081621245 | M19: 0.01053 | N19: 0.00022 | O19: 0.17073 | P19: 0.1829 | Q19: 0.21419 | R19: 0.24677 | S19: 0.2565
K20: 2037 | L20: 0.086243057 | M20: 0.01053 | N20: 0.00022 | O20: 0.17073 | P20: 0.1829 | Q20: 0.21419 | R20: 0.24677 | S20: 0.2565
K21: 2038 | L21: 0.082562828 | M21: 0.01053 | N21: 0.00022 | O21: 0.17073 | P21: 0.1829 | Q21: 0.21419 | R21: 0.24677 | S21: 0.2565
K22: 2039 | L22: 0.076897918 | M22: 0.01053 | N22: 0.00022 | O22: 0.17073 | P22: 0.1829 | Q22: 0.21419 | R22: 0.24677 | S22: 0.2565
K23: 2040 | L23: 0.072829456 | M23: 0.01053 | N23: 0.00022 | O23: 0.17073 | P23: 0.1829 | Q23: 0.21419 | R23: 0.24677 | S23: 0.2565
K24: 2041 | L24: 0.071784507 | M24: 0.01053 | N24: 0.00022 | O24: 0.17073 | P24: 0.1829 | Q24: 0.21419 | R24: 0.24677 | S24: 0.2565
K25: 2042 | L25: 0.070684945 | M25: 0.01053 | N25: 0.00022 | O25: 0.17073 | P25: 0.1829 | Q25: 0.21419 | R25: 0.24677 | S25: 0.2565
K26: 2043 | L26: 0.065528125 | M26: 0.01053 | N26: 0.00022 | O26: 0.17073 | P26: 0.1829 | Q26: 0.21419 | R26: 0.24677 | S26: 0.2565
K27: 2044 | L27: 0.06437575 | M27: 0.01053 | N27: 0.00022 | O27: 0.17073 | P27: 0.1829 | Q27: 0.21419 | R27: 0.24677 | S27: 0.2565
... K33: 2050 | L33: 0.050244984 | M33: 0.01053 | N33: 0.00022 | O33: 0.17073 | P33: 0.1829 | Q33: 0.21419 | R33: 0.24677 | S33: 0.2565
K35: *Electricity factor follows a National grid FES 'Counterfactual' grid decarbonistion scenario for % drop between each year. DESNZ 2024 factor is used as the base.

Sheet Evaluation1
D1: 1 | E1: 2 | F1: 3 | G1: 4 | H1: 5 | I1: 6 | J1: 7 | K1: 8 | L1: 9 | M1: 10 | P1: APPLICANT DETAILS
B2: 1. Applicant Details | C2: 1. Applicant Details
B4: Compliance | D4: Reponse | E4: ='1. Manylion Ymgeisydd'!H19 -> Iawn / Methu | P4: Evaluation Response: | R4: Evaluation Commentary:
C5: Please confirm your organisation either owns, long term leases, or reports the carbon emissions for these buildings | D5: ='1. Manylion Ymgeisydd'!E20 -> FALSE | E5: ='1. Manylion Ymgeisydd'!H20 -> Methu
C6: Please confirm your organisation is retaining the building / lease for at least 10 years | D6: ='1. Manylion Ymgeisydd'!E22 -> FALSE | E6: ='1. Manylion Ymgeisydd'!H22 -> Methu
C7: Please confirm the applicant is a Local Authority | D7: ='1. Manylion Ymgeisydd'!E24 -> FALSE | E7: ='1. Manylion Ymgeisydd'!H24 -> Methu
C8: Please confirm the proposed works are yet to start | D8: ='1. Manylion Ymgeisydd'!E26 -> FALSE | E8: ='1. Manylion Ymgeisydd'!H26 -> Methu
C9: Will the works be completed by 31st Mrch 2026? | D9: ='1. Manylion Ymgeisydd'!E28 -> FALSE | E9: ='1. Manylion Ymgeisydd'!H28 -> Methu
C11: Are any of the projects in this application related to district heating? | D11: ='1. Manylion Ymgeisydd'!E30 -> Dewiswch
C12: Are any of the projects in this application dependent on another funding stream? | D12: ='1. Manylion Ymgeisydd'!E32 -> Dewiswch
C13: Are any of the projects in this application dependent on the timing of another project? | D13: ='1. Manylion Ymgeisydd'!E34 -> Dewiswch
B14: Procurement
C15: Are you intending on delivering these projects via a Re:fit contract? | D15: ='1. Manylion Ymgeisydd'!E37 -> Dewiswch
C16: Do you have a detailed design or investment grade proposal in place? | D16: ='1. Manylion Ymgeisydd'!E39 -> Dewiswch
C17: Please indicate which stage of the procurement process you are at. | D17: ='1. Manylion Ymgeisydd'!E41 -> Dewiswch
B19: 2. Project Details | P19: PROJECT DETAILS
B21: Building details | P21: Evaluation Response: | R21: Evaluation Commentary:
C22: ='2. Manylion Prosiect'!C12 -> Math o adeilad | D22: ='2. Manylion Prosiect'!D12 -> Dewiswch | E22: Manylion Prosiect | F22: ='2. Manylion Prosiect'!H12 -> Dewiswch | G22: ='2. Manylion Prosiect'!J12 -> Dewiswch | H22: ='2. Manylion Prosiect'!L12 -> Please select | I22: ='2. Manylion Prosiect'!N12 -> Please select | J22: ='2. Manylion Prosiect'!P12 -> Dewiswch | K22: ='2. Manylion Prosiect'!R12 -> Please select | L22: ='2. Manylion Prosiect'!T12 -> Please select | M22: ='2. Manylion Prosiect'!V12 -> Please select
C23: ='2. Manylion Prosiect'!C14 -> Arwynebedd Gros Llawr Mewnol yr Adeilad (m2) | D23: ='2. Manylion Prosiect'!D14 -> 0 | E23: ='2. Manylion Prosiect'!F14 -> 0 | F23: ='2. Manylion Prosiect'!H14 -> 0 | G23: ='2. Manylion Prosiect'!J14 -> 0 | H23: ='2. Manylion Prosiect'!L14 -> 0 | I23: ='2. Manylion Prosiect'!N14 -> 0 | J23: ='2. Manylion Prosiect'!P14 -> 0 | K23: ='2. Manylion Prosiect'!R14 -> 0 | L23: ='2. Manylion Prosiect'!T14 -> 0 | M23: ='2. Manylion Prosiect'!V14 -> 0
C24: ='2. Manylion Prosiect'!C16 -> Cadarnhewch eich bod yn cadw perchnogaeth / les yr adeilad hwn am o leiaf 10 mlynedd | D24: ='2. Manylion Prosiect'!D16 -> Dewiswch | E24: ='2. Manylion Prosiect'!F16 -> Dewiswch | F24: ='2. Manylion Prosiect'!H16 -> Dewiswch | G24: ='2. Manylion Prosiect'!J16 -> Please select | H24: ='2. Manylion Prosiect'!L16 -> Please select | I24: ='2. Manylion Prosiect'!N16 -> Please select | J24: ='2. Manylion Prosiect'!P16 -> Please select | K24: ='2. Manylion Prosiect'!R16 -> Please select | L24: ='2. Manylion Prosiect'!T16 -> Please select | M24: ='2. Manylion Prosiect'!V16 -> Please select
C25: ='2. Manylion Prosiect'!C18 -> A yw'r adeilad yng nghyffiniau rhwydwaith gwres presennol neu un wedi'i gynllunio? | D25: ='2. Manylion Prosiect'!D18 -> Dewiswch | E25: ='2. Manylion Prosiect'!F18 -> Dewiswch | F25: ='2. Manylion Prosiect'!H18 -> Dewiswch | G25: ='2. Manylion Prosiect'!J18 -> Please select | H25: ='2. Manylion Prosiect'!L18 -> Please select | I25: ='2. Manylion Prosiect'!N18 -> Please select | J25: ='2. Manylion Prosiect'!P18 -> Please select | K25: ='2. Manylion Prosiect'!R18 -> Please select | L25: ='2. Manylion Prosiect'!T18 -> Please select | M25: ='2. Manylion Prosiect'!V18 -> Please select
B27: Existing
C28: ='2. Manylion Prosiect'!C33 -> Prif ffynhonnell gwres presennol yn yr adeilad | D28: ='2. Manylion Prosiect'!D33 -> Dewiswch | E28: ='2. Manylion Prosiect'!F33 -> Dewiswch | F28: ='2. Manylion Prosiect'!H33 -> Dewiswch | G28: ='2. Manylion Prosiect'!J33 -> Dewiswch | H28: ='2. Manylion Prosiect'!L33 -> Dewiswch | I28: ='2. Manylion Prosiect'!N33 -> Dewiswch | J28: ='2. Manylion Prosiect'!P33 -> Dewiswch | K28: ='2. Manylion Prosiect'!R33 -> Dewiswch | L28: ='2. Manylion Prosiect'!T33 -> Dewiswch | M28: ='2. Manylion Prosiect'!V33 -> Dewiswch
C29: ='2. Manylion Prosiect'!C35 -> Math o danwydd presennol | D29: ='2. Manylion Prosiect'!D35 -> Dewiswch | E29: ='2. Manylion Prosiect'!F35 -> Dewiswch | F29: ='2. Manylion Prosiect'!H35 -> Dewiswch | G29: ='2. Manylion Prosiect'!J35 -> Dewiswch | H29: ='2. Manylion Prosiect'!L35 -> Dewiswch | I29: ='2. Manylion Prosiect'!N35 -> Dewiswch | J29: ='2. Manylion Prosiect'!P35 -> Dewiswch | K29: ='2. Manylion Prosiect'!R35 -> Dewiswch | L29: ='2. Manylion Prosiect'!T35 -> Dewiswch | M29: ='2. Manylion Prosiect'!V35 -> Dewiswch
C30: ='2. Manylion Prosiect'!C37 -> Oedran y prif offer (blynyddoedd) | D30: ='2. Manylion Prosiect'!D37 -> 0 | E30: ='2. Manylion Prosiect'!F37 -> 0 | F30: ='2. Manylion Prosiect'!H37 -> 0 | G30: ='2. Manylion Prosiect'!J37 -> 0 | H30: ='2. Manylion Prosiect'!L37 -> 0 | I30: ='2. Manylion Prosiect'!N37 -> 0 | J30: ='2. Manylion Prosiect'!P37 -> 0 | K30: ='2. Manylion Prosiect'!R37 -> 0 | L30: ='2. Manylion Prosiect'!T37 -> 0 | M30: ='2. Manylion Prosiect'!V37 -> 0
C31: ='2. Manylion Prosiect'!C94 -> Cyfanswm allbwn gwres blynyddol sydd ei angen (kWh) | D31: ='2. Manylion Prosiect'!D94 | E31: ='2. Manylion Prosiect'!F94 | F31: ='2. Manylion Prosiect'!H94 | G31: ='2. Manylion Prosiect'!J94 | H31: ='2. Manylion Prosiect'!L94 | I31: ='2. Manylion Prosiect'!N94 | J31: ='2. Manylion Prosiect'!P94 | K31: ='2. Manylion Prosiect'!R94 | L31: ='2. Manylion Prosiect'!T94 | M31: ='2. Manylion Prosiect'!V94
C32: ='2. Manylion Prosiect'!C100 -> Canran o’r gwres a wasanaethir gan y prif gynhyrchydd gwres | D32: ='2. Manylion Prosiect'!D100 | E32: ='2. Manylion Prosiect'!F100 | F32: ='2. Manylion Prosiect'!H100 | G32: ='2. Manylion Prosiect'!J100 | H32: ='2. Manylion Prosiect'!L100 | I32: ='2. Manylion Prosiect'!N100 | J32: ='2. Manylion Prosiect'!P100 | K32: ='2. Manylion Prosiect'!R100 | L32: ='2. Manylion Prosiect'!T100 | M32: ='2. Manylion Prosiect'!V100
C33: ='2. Manylion Prosiect'!C101 -> Canran o’r gwres a wasanaethir gan gynhyrchydd gwres eilaidd | D33: ='2. Manylion Prosiect'!D101 | E33: ='2. Manylion Prosiect'!F101 | F33: ='2. Manylion Prosiect'!H101 | G33: ='2. Manylion Prosiect'!J101 | H33: ='2. Manylion Prosiect'!L101 | I33: ='2. Manylion Prosiect'!N101 | J33: ='2. Manylion Prosiect'!P101 | K33: ='2. Manylion Prosiect'!R101 | L33: ='2. Manylion Prosiect'!T101 | M33: ='2. Manylion Prosiect'!V101
C34: ='2. Manylion Prosiect'!C102 -> Canran o’r gwres a wasanaethir gan gynhyrchydd gwres pellach | D34: ='2. Manylion Prosiect'!D102 | E34: ='2. Manylion Prosiect'!F102 | F34: ='2. Manylion Prosiect'!H102 | G34: ='2. Manylion Prosiect'!J102 | H34: ='2. Manylion Prosiect'!L102 | I34: ='2. Manylion Prosiect'!N102 | J34: ='2. Manylion Prosiect'!P102 | K34: ='2. Manylion Prosiect'!R102 | L34: ='2. Manylion Prosiect'!T102 | M34: ='2. Manylion Prosiect'!V102
B36: Enabling & Energy Efficiency
C37: ='2. Manylion Prosiect'!C111 -> Nodwch tymheredd y cynllun ar gyfer y prosiect:
C38: ='2. Manylion Prosiect'!C112 -> Tymheredd llif allbwn gwresogi | D38: ='2. Manylion Prosiect'!D112 -> 0 | E38: ='2. Manylion Prosiect'!F112 -> 0 | F38: ='2. Manylion Prosiect'!H112 -> 0 | G38: ='2. Manylion Prosiect'!J112 -> 0 | H38: ='2. Manylion Prosiect'!L112 -> 0 | I38: ='2. Manylion Prosiect'!N112 -> 0 | J38: ='2. Manylion Prosiect'!P112 -> 0 | K38: ='2. Manylion Prosiect'!R112 -> 0 | L38: ='2. Manylion Prosiect'!T112 -> 0 | M38: ='2. Manylion Prosiect'!V112 -> 0
C39: ='2. Manylion Prosiect'!C114 -> Tymheredd dŵr poeth domestig | D39: ='2. Manylion Prosiect'!D114 -> 0 | E39: ='2. Manylion Prosiect'!F114 -> 0 | F39: ='2. Manylion Prosiect'!H114 -> 0 | G39: ='2. Manylion Prosiect'!J114 -> 0 | H39: ='2. Manylion Prosiect'!L114 -> 0 | I39: ='2. Manylion Prosiect'!N114 -> 0 | J39: ='2. Manylion Prosiect'!P114 -> 0 | K39: ='2. Manylion Prosiect'!R114 -> 0 | L39: ='2. Manylion Prosiect'!T114 -> 0 | M39: ='2. Manylion Prosiect'!V114 -> 0
C41: ='2. Manylion Prosiect'!C117 -> Nodwch os yw'r mesurau canlynol wedi'u cynnwys yn eich prosiect:
C42: ='2. Manylion Prosiect'!C118 -> Amnewid rheiddiaduron | D42: ='2. Manylion Prosiect'!D118 -> Dewiswch | E42: ='2. Manylion Prosiect'!F118 -> Dewiswch | F42: ='2. Manylion Prosiect'!H118 -> Dewiswch | G42: ='2. Manylion Prosiect'!J118 -> Dewiswch | H42: ='2. Manylion Prosiect'!L118 -> Dewiswch | I42: ='2. Manylion Prosiect'!N118 -> Dewiswch | J42: ='2. Manylion Prosiect'!P118 -> Dewiswch | K42: ='2. Manylion Prosiect'!R118 -> Dewiswch | L42: ='2. Manylion Prosiect'!T118 -> Dewiswch | M42: ='2. Manylion Prosiect'!V118 -> Dewiswch
C43: ='2. Manylion Prosiect'!C120 -> Amnewid coiliau gwresogi Unedau Trin Aer (AHU) | D43: ='2. Manylion Prosiect'!D120 -> Dewiswch | E43: ='2. Manylion Prosiect'!F120 -> Dewiswch | F43: ='2. Manylion Prosiect'!H120 -> Dewiswch | G43: ='2. Manylion Prosiect'!J120 -> Dewiswch | H43: ='2. Manylion Prosiect'!L120 -> Dewiswch | I43: ='2. Manylion Prosiect'!N120 -> Dewiswch | J43: ='2. Manylion Prosiect'!P120 -> Dewiswch | K43: ='2. Manylion Prosiect'!R120 -> Dewiswch | L43: ='2. Manylion Prosiect'!T120 -> Dewiswch | M43: ='2. Manylion Prosiect'!V120 -> Dewiswch
C44: ='2. Manylion Prosiect'!C122 -> Uwchraddio cylched gwresogi | D44: ='2. Manylion Prosiect'!D122 -> Dewiswch | E44: ='2. Manylion Prosiect'!F122 -> Dewiswch | F44: ='2. Manylion Prosiect'!H122 -> Dewiswch | G44: ='2. Manylion Prosiect'!J122 -> Dewiswch | H44: ='2. Manylion Prosiect'!L122 -> Dewiswch | I44: ='2. Manylion Prosiect'!N122 -> Dewiswch | J44: ='2. Manylion Prosiect'!P122 -> Dewiswch | K44: ='2. Manylion Prosiect'!R122 -> Dewiswch | L44: ='2. Manylion Prosiect'!T122 -> Dewiswch | M44: ='2. Manylion Prosiect'!V122 -> Dewiswch
C45: ='2. Manylion Prosiect'!C124 -> System rheoli batri (BMS) a rheolaethau | D45: ='2. Manylion Prosiect'!D124 -> Dewiswch | E45: ='2. Manylion Prosiect'!F124 -> Dewiswch | F45: ='2. Manylion Prosiect'!H124 -> Dewiswch | G45: ='2. Manylion Prosiect'!J124 -> Dewiswch | H45: ='2. Manylion Prosiect'!L124 -> Dewiswch | I45: ='2. Manylion Prosiect'!N124 -> Dewiswch | J45: ='2. Manylion Prosiect'!P124 -> Dewiswch | K45: ='2. Manylion Prosiect'!R124 -> Dewiswch | L45: ='2. Manylion Prosiect'!T124 -> Dewiswch | M45: ='2. Manylion Prosiect'!V124 -> Dewiswch
C46: ='2. Manylion Prosiect'!C126 -> Arall (nodwch): | D46: ='2. Manylion Prosiect'!D126 -> 0 | E46: ='2. Manylion Prosiect'!F126 -> 0 | F46: ='2. Manylion Prosiect'!H126 -> 0 | G46: ='2. Manylion Prosiect'!J126 -> 0 | H46: ='2. Manylion Prosiect'!L126 -> 0 | I46: ='2. Manylion Prosiect'!N126 -> 0 | J46: ='2. Manylion Prosiect'!P126 -> 0 | K46: ='2. Manylion Prosiect'!R126 -> 0 | L46: ='2. Manylion Prosiect'!T126 -> 0 | M46: ='2. Manylion Prosiect'!V126 -> 0
C47: ='2. Manylion Prosiect'!C128 -> A fydd eich mesurau galluogi yn lleihau eich galw gwres brig? Os bydd, faint yw'r gostyngiad(kW)? Os na, gadewch yn wag. Os nad ydych yn siŵr, gadewch yn wag. | D47: ='2. Manylion Prosiect'!D128 -> 0 | E47: ='2. Manylion Prosiect'!F128 -> 0 | F47: ='2. Manylion Prosiect'!H128 -> 0 | G47: ='2. Manylion Prosiect'!J128 -> 0 | H47: ='2. Manylion Prosiect'!L128 -> 0 | I47: ='2. Manylion Prosiect'!N128 -> 0 | J47: ='2. Manylion Prosiect'!P128 -> 0 | K47: ='2. Manylion Prosiect'!R128 -> 0 | L47: ='2. Manylion Prosiect'!T128 -> 0 | M47: ='2. Manylion Prosiect'!V128 -> 0
...

Sheet HP_Value
C2: Summary information and Carbon Cost Effectiveness
A3: Building Number | E3: 1 | G3: 2 | I3: 3 | K3: 4 | M3: 5 | O3: 6 | Q3: 7 | S3: 8 | U3: 9 | W3: 10
A4: Grant Breakdown
D5: Maximum Eligible Grant Value | E5: ='3. Manylion Costau Cymwys'!K34 -> 0 | G5: ='3. Manylion Costau Cymwys'!M34 -> 0 | I5: ='3. Manylion Costau Cymwys'!O34 -> 0 | K5: ='3. Manylion Costau Cymwys'!Q34 -> 0 | M5: ='3. Manylion Costau Cymwys'!S34 -> 0 | O5: ='3. Manylion Costau Cymwys'!U34 -> 0 | Q5: ='3. Manylion Costau Cymwys'!W34 -> 0 | S5: ='3. Manylion Costau Cymwys'!Y34 -> 0 | U5: ='3. Manylion Costau Cymwys'!AA34 -> 0 | W5: ='3. Manylion Costau Cymwys'!AC34 -> 0
D6: Percentage Grant Request (%) | E6: ='3. Manylion Costau Cymwys'!K37 | G6: ='3. Manylion Costau Cymwys'!M37 | I6: ='3. Manylion Costau Cymwys'!O37 | K6: ='3. Manylion Costau Cymwys'!Q37 | M6: ='3. Manylion Costau Cymwys'!S37 | O6: ='3. Manylion Costau Cymwys'!U37 | Q6: ='3. Manylion Costau Cymwys'!W37 | S6: ='3. Manylion Costau Cymwys'!Y37 | U6: ='3. Manylion Costau Cymwys'!AA37 | W6: ='3. Manylion Costau Cymwys'!AC37
D7: Grant Requested | E7: ='3. Manylion Costau Cymwys'!K36 -> 0 | G7: ='3. Manylion Costau Cymwys'!M36 -> 0 | I7: ='3. Manylion Costau Cymwys'!O36 -> 0 | K7: ='3. Manylion Costau Cymwys'!Q36 -> 0 | M7: ='3. Manylion Costau Cymwys'!S36 -> 0 | O7: ='3. Manylion Costau Cymwys'!U36 -> 0 | Q7: ='3. Manylion Costau Cymwys'!W36 -> 0 | S7: ='3. Manylion Costau Cymwys'!Y36 -> 0 | U7: ='3. Manylion Costau Cymwys'!AA36 -> 0 | W7: ='3. Manylion Costau Cymwys'!AC36 -> 0
A9: Carbon Cost - Enabling Measures
D10: Existing Heat Demand | E10: ='2. Manylion Prosiect'!D94 | G10: ='2. Manylion Prosiect'!F94 | I10: ='2. Manylion Prosiect'!H94 | K10: ='2. Manylion Prosiect'!J94 | M10: ='2. Manylion Prosiect'!L94 | O10: ='2. Manylion Prosiect'!N94 | Q10: ='2. Manylion Prosiect'!P94 | S10: ='2. Manylion Prosiect'!R94 | U10: ='2. Manylion Prosiect'!T94 | W10: ='2. Manylion Prosiect'!V94
D11: Post Enabling Measures reduced heat demand | E11: ='2. Manylion Prosiect'!D146 | G11: ='2. Manylion Prosiect'!F146 | I11: ='2. Manylion Prosiect'!H146 | K11: ='2. Manylion Prosiect'!J146 | M11: ='2. Manylion Prosiect'!L146 | O11: ='2. Manylion Prosiect'!N146 | Q11: ='2. Manylion Prosiect'!P146 | S11: ='2. Manylion Prosiect'!R146 | U11: ='2. Manylion Prosiect'!T146 | W11: ='2. Manylion Prosiect'!V146
