Workbook
Name _ftnref1: 'Benchmarking data'!$B$12
Name _Toc103010521: 'Benchmarking data'!$C$43
Name Aethercomments: Introduction!$B$49:$D$53
Name Aggregates: Lists!$V$25:$W$25
Name AGRIC: Lists!$AP$26:$AP$28
Name Agriculture: Lists!$S$4:$S$5
Name Allfleetfuel: Lists!$Q$36:$Q$42
Name Anatomicalwaste: Lists!$V$26
Name Asbestos: Lists!$V$27
Name Asphalt: Lists!$V$28:$W$28
Name Averageconstruction: Lists!$V$29
Name Batteries: Lists!$V$30:$W$30
Name Biodieselcategory1: Lists!$P$79:$P$80
Name Biodieselunits: Lists!$O$58:$O$59
Name Bioenergycategory1: Lists!$P$65:$P$67
Name Bioenergyunits: Lists!$O$71:$O$72
Name Biopetrolcategory1: Lists!$P$76
Name Biopetrolunits: Lists!$O$61:$O$62
Name BoundaryInfo: Introduction!$B$19:$D$36
Name Bricks: Lists!$V$31:$W$31
Name Buildingcategory: Lists!$O$251:$O$267
Name Buildingcategory_long: Lists!$P$251:$P$377
Name Buildings: Lists!$O$15:$O$22
Name Buildingsownership: Lists!$O$4:$O$9
Name Buildingtype: Lists!$Q$251:$Q$377
Name Businesstravel: Lists!$AE$4:$AE$9
Name Cattle: Lists!$S$20:$S$21
Name CHPplant: Lists!$O$24:$O$28
Name Clinicalwaste: Lists!$V$32
Name Clothing: Lists!$V$33:$X$33
Name Coalcategory1: Lists!$P$83
Name Coalunits: Lists!$O$80:$O$81
Name Commercialandindustrialwaste: Lists!$V$34:$X$34
Name Commuting: Lists!$AF$4:$AF$6
Name Concrete: Lists!$V$35:$W$35
Name Dieselcategory1: Lists!$P$50:$P$51
Name Dieselunits: Lists!$O$50:$O$51
Name Ease: Lists!$D$4:$D$10
Name Equipmentfuel: Lists!$Q$45:$Q$51
Name F_gases: Lists!$O$88:$O$248
Name F_GasUnits: Lists!$P$88
Name FarmlandSoils: Lists!$S$28:$S$29
Name Farmlandsoilsunits: Lists!$S$16:$S$17
Name Fgas: Lists!$O$88:$O$248
Name fgasunits: Lists!$P$88
Name FireandRescueService: Lists!$H$93:$H$95
Name Fleetandequipmentfuel: Lists!$Q$4:$Q$8
Name Fleetdistance: Lists!$R$4:$R$6
Name Flightcategory1: Lists!$AF$50:$AF$52
Name Flightdomestic: Lists!$AG$50
Name Flightlonghaul: Lists!$AH$50:$AH$52
Name Flightshorthaul: Lists!$AH$50:$AH$52
Name Flightunits: Lists!$AE$50:$AE$51
Name Gasoilcategory1: Lists!$P$46
Name Gasoilunits: Lists!$O$46:$O$47
Name Generatorfuel: Lists!$Q$53:$Q$58
Name Gridelectricitycategory1: Lists!$P$58
Name Gridelectricityunits: Lists!$O$64
Name HealthBoardorTrust: Lists!$H$52:$H$64
Name Heatandsteamcategory1: Lists!$P$61:$P$62

Sheet Introduction
E1: 45758 | F1: Version 13
B2: Introduction and Organisation Data
B3: This spreadsheet is the required format for Welsh public sector organisations reporting their carbon emissions for the 2024 - 2025 reporting period. It is based on the Welsh Public Sector Net Zero Carbon Reporting Guide. The following updates have been applied to this version of the template: • Emission factors have been updated where appropriate • Building level data, including building category, building type and floor area, can be submitted • Number of vehicles can be submitted for fleet data • Renewable tables have been split out and availability can be collected.
B4: Please send the completed form to netzeroreporting@energyservice.wales by 1st September 2025
B6: Organisational information
B7: Organisational information | C7: Organisation type | H7: Cell colour codes
B8: Organisational information | C8: Organisation name
B9: Organisational information | C9: Financial year period for reporting | I9: Information cell or question
B10: Organisational information | C10: Date of report submission | I10: Information entry. Some cells have drop down lists
B11: Organisational information | C11: Person responsible for this report | I11: Activity data. Numeric data entry
B12: Organisational information | C12: Email address of person responsible for this report | I12: Calculated data
B13: Organisational information | C13: Total financial budget /spend/ turnover £ | I13: Summary data
B14: Organisational information | C14: Number of Full Time Equivalent employees | I14: Not used
B15: Organisational information | C15: Building internal floor area equivalent to the energy data reported (sq m)
B16: Organisational information | C16: Region of Wales
B18: Boundary information
B19: Buildings in scope | C19: Do you own buildings that you occupy? | E19: =IF(D19="Y", "Please complete the table in the 'Site Information' tab and, as applicable, tables in the 'Buildings - Grid Electricity', 'Buildings - Heat & Fuels' and 'Buildings - Water' tabs. See section 7.2 of the guidance for further information.", "")
B20: Buildings in scope | C20: Do you lease buildings that you occupy? | E20: =IF(D20="Y", "Please complete the table in the 'Site Information' tab and, as applicable, tables in the 'Buildings - Grid Electricity', 'Buildings - Heat & Fuels' and 'Buildings - Water' tabs. See section 7.2 of the guidance for further information.", "")
B21: Buildings in scope | C21: Do you lease out buildings that you own to organisations to deliver public services on your behalf? | E21: =IF(D21="Y", "Please complete the table in the 'Site Information' tab and, as applicable, tables in the 'Buildings - Grid Electricity', 'Buildings - Heat & Fuels' and 'Buildings - Water' tabs. See section 7.2 of the guidance for further information.", "")
B22: Buildings in scope | C22: Do you lease out buildings that you own to other public bodies? | E22: =IF(D22="Y", "If that public body is also reporting, these emissions are out of scope for your organisation. See section 7.2 of the guidance", "")
B23: Buildings in scope | C23: Do you lease out buildings that you own to private organisations for their own purposes? | E23: =IF(D23="Y", "The majority of these emissions are out of scope. See section 7.2 of the guidance.", "")
B24: Streetlighting in scope | C24: Do you own and operate streetlighting or signage | E24: =IF(D24="Y", "Please complete the 'Streetlighting' table in the 'Buildings - Grid Electricity' tab. See section 7.3 of the guidance for further help.", "")
B25: Fleet and equipment in scope | C25: Do you own or lease fleet and equipment? | E25: =IF(D25="Y", "Please complete the 'Fleet and stationary assets' tab. See section 7.4 of the guidance for further help", "")
B26: Agriculture in scope | C26: Do you have farms with livestock (not leased out)? | E26: =IF(D26="Y", "Please complete the Agriculture table in the 'Land use & agriculture' tab. See section 7.5 of the guidance for further help", "")
B27: F-gases in scope | C27: Do you have air conditioning or refrigeration systems that require refrigerant gas top-ups, or do you use anaesthetic gases? | E27: =IF(D27="Y", "Please complete the Other gases table in the 'Buildings - Grid Electricity' tab. See section 7.5 of the guidance for further help", "")
B28: Business travel in scope | C28: Do staff travel for work using their own cars or other transport modes (not fleet vehicles) | E28: =IF(D28="Y", "Please complete the Business travel table in 'Business travel, commute, home' tab. See section 8.2 of the guidance for further help", "")
B29: Commuting in scope | C29: Do staff commute to offices or other sites? | E29: =IF(D29="Y", "Please complete the Commuting table in 'Business travel, commute, home' tab. See section 8.3 of the guidance for further help.", "")
B30: Homeworking in scope | C30: Do any staff work from home? | E30: =IF(D30="Y", "Please complete the Homeworking table in the 'Business travel, commute, home' tab. See section 8.4 of the guidance for further help", "")
B31: Supply chain in scope | C31: Do you purchase goods and services? | E31: =IF(D31="Y", "Please complete the 'Supply chain' tab. See section 10 of the guidance for further help.", "")
B32: Land use in scope | C32: Do you own and manage land for providing public services, with a total of more than 10 hectares? | E32: =IF(D32="Y", "Please complete a Land-based emission table in the 'Lab use & agriculture' tab. See section 12 of the guidance for further information.", "")
B33: Waste in scope | C33: Does your organisation produce waste from operations that is collected from your premises by a third party organisation? | E33: =IF(D33="Y", "Please complete the Operational Waste table in the 'Waste' tab. See section 9.2 of the guidance for further information.", "")
C34: Does your organisation produce waste from operations and also operate the collection service of this waste? | E34: =IF(D34="Y", "Please complete the Operational Wast' table in the 'Waste' sheet. See section 9.2 of the guidance for further information.", "")
C35: Do you run waste collection services that collect and dispose of municipal waste? | E35: =IF(D35="Y", "Please complete the Municipal waste table in the 'Wast'e sheet. See section 9.3 of the guidance for further information.", "")
C36: Do you contract out a waste collection service that collect and dispose of municipal waste? | E36: =IF(D36="Y", "Please either complete the Municipal waste table in the 'Waste' sheet OR record your annual spend for this service in the supply chain sheet. See section 9.3 of the guidance for further information.", "")
B38: Reporting comments
B39: Reporting comments | C39: Please provide comments on scope and completeness of your report and any significant changes in methods compared to last year. This comment will be included in your individual organisation report output once data have been reviewed and compared across all organisations. If you wish for some of the comment to be excluded from that report please make that clear.
B41: Peer review (optional)
B42: Peer review | C42: Peer organisation that has reviewed the data and calculations
C43: Date of last review
C44: Name of reviewer
...

Sheet Version Log
B3: Version | C3: Data created | D3: Updated by | E3: Changes
B4: V3 | C4: 45404 | D4: HecW | E4: All changes requested for new reporting round, this is version published online
B5: V4 | C5: 45413 | D5: HecW | E5: HVO added as a fuel option for buildings from Hayley Warren's (TfW) request to net zero inbox
B6: V5 | C6: 45415 | D6: HecW | E6: HVO, ME and other biofuel related fuels have had their WTT and OOS emissions factors updated as per Hayley's(TfW) email see net zero inbox
B7: V6 | C7: 45422 | D7: HecW | E7: Site name column for buildings unlocked for editting (see NRW email). Car size info added to Business trvael tab as per Rachel Gradiner's email through Dale. Ben Turpin's email from Flintshire, updated unit lookup in agriculture table, made clearer where double counting can occur in supply chain table, added info for hiding/showing tables in the stationary assets tab.
B8: V7 | C8: 45433 | D8: HecW | E8: Supply chain combined tier 1 and tier 2 was adding tier 2 spend instead of tier 2 emissions after the first 2/3 of the calc, now fixed
B9: V8 | C9: 45447 | D9: HecW | E9: Unlocked site name for gas in the building tab. Updated the high and low calcs in supply chain table 2, as it had the same issue as that idenitified in v7 update. See Ben Turpins email.
B10: V9 | C10: 45457 | D10: HecW | E10: Added more lines for tier 2 suppliers in supply chain tab as per Central NHS request; CJCs added in as organsation options too
B11: V10 | C11: 45461 | D11: HecW | E11: Added Penthrox to medical gases
B12: V11 | C12: 45468 | D12: CarO | E12: Unlocked columns M and N on the land use and agriculture tabs
B13: V12 | C13: 45482 | D13: HecW | E13: Made it clearer that C51 needs to be filled in on municipal data tab otherwise the table will show with errors
B14: V13 | C14: 45761 | D14: MadL | E14: Updated emission factors for 2024 (including 2021 supply chain emission factors - as they were published in February 2025) (updated Waste excluding transport EF to 0 except for Landfill as EF only include transport from waste); separated out buildings data into 3 tabs: Grid Electricity, Heat & Fuels Water; introduced mandatory floor area data; enabled the number of fleet vehicles to be added; separated out renewables reporting into onsite heat offsite heat and onside and offsite renewable electricity; added availability to the renewables tables; edited Totals table to account for new columns; added the TotalsRenewables tab to pull through all renewables data.

Sheet Summary results
B2: Summary of results
B3: ="This section provides a summary of the reported emissions for " &Introduction!D8 & " for " &Introduction!D9 -> This section provides a summary of the reported emissions for for
B4: You do not need to input any information into this sheet. Please note, 'Outside of scopes' emissions are not included in 'Total' emissions or 'High' and 'Low' estimates.
C6: Units of kgCO2e
B7: Total emissions | C7: Direct | D7: Indirect | E7: Indirect | F7: Total | G7: Estimated range | H7: Estimated range | I7: Outside of scopes
C8: Scope 1 | D8: Scope 2 | E8: Scope 3 | G8: High | H8: Low
B9: Total emissions | C9: =C21+C30+C38+C64+C73 -> 0 | D9: =D21+D30+D38+D64+D73 -> 0 | E9: =E21+E30+E38+E64+E73 -> 0 | F9: =F21+F30+F38+F64+F73 -> 0 | G9: =G21+G30+G38+G64+G73 -> 0 | H9: =H21+H30+H38+H64+H73 -> 0 | I9: =I21+I30+I38+I64+I73 -> 0
B12: Buildings & stationary assets | C12: Units of kgCO2e
B13: Categories | C13: Direct | D13: Indirect | E13: Indirect | F13: Total | G13: Estimated range | H13: Estimated range | I13: Outside of scopes
C14: Scope 1 | D14: Scope 2 | E14: Scope 3 | G14: High | H14: Low
B15: ='Buildings - Grid Electricity'!B5 -> Buildings - Grid Electricity | C15: =SUM(BuildingsElectricityTable[Direct]) -> 0 | D15: =SUM(BuildingsElectricityTable[Indirect generation]) -> 0 | E15: =SUM(BuildingsElectricityTable[[Indirect service]:[Indirect WTT]]) -> 0 | F15: =SUM(C15:E15) -> 0 | G15: =SUM(BuildingsElectricityTable[High]) -> 0 | H15: =SUM(BuildingsElectricityTable[Low]) -> 0 | I15: =SUM(BuildingsElectricityTable[Outside of scopes]) -> 0
B16: ='Buildings - Heat & Fuels'!B5 -> Buildings - Heat & Fuels | C16: =SUM(BuildingsHeatFuelsTable[Direct]) -> 0 | D16: =SUM(BuildingsHeatFuelsTable[Indirect generation]) -> 0 | E16: =SUM(BuildingsHeatFuelsTable[[Indirect service]:[Indirect WTT]]) -> 0 | F16: =SUM(C16:E16) -> 0
B17: ='Buildings - Water'!B5 -> Buildings - Water | C17: =SUM(BuildingsWaterTable[Direct]) -> 0 | D17: =SUM(BuildingsWaterTable[Indirect generation]) -> 0 | E17: =SUM(BuildingsWaterTable[[Indirect service]:[Indirect WTT]]) -> 0 | F17: =SUM(C17:E17) -> 0
B18: ='Buildings - Grid Electricity'!B503 -> Streetlighting | C18: =SUM(StreetlightingTable[Direct]) -> 0 | D18: =SUM(StreetlightingTable[Indirect generation]) -> 0 | E18: =SUM(StreetlightingTable[[Indirect service]:[Indirect WTT]]) -> 0 | F18: =SUM(C18:E18) -> 0 | G18: =SUM(StreetlightingTable[High]) -> 0 | H18: =SUM(StreetlightingTable[Low]) -> 0 | I18: =SUM(StreetlightingTable[Outside of scopes]) -> 0
B19: F gases | C19: =SUM(OthergasesTable[Direct]) -> 0 | D19: =SUM(OthergasesTable[Indirect generation]) -> 0 | E19: =SUM(OthergasesTable[[Indirect service]:[Indirect WTT]]) -> 0 | F19: =SUM(OthergasesTable[Total emissions (kgCO2e)]) -> 0 | G19: =SUM(OthergasesTable[High]) -> 0 | H19: =SUM(OthergasesTable[Low]) -> 0 | I19: =SUM(OthergasesTable[Outside of scopes]) -> 0
B20: Medical gases | C20: =SUM(Medicalgases[Direct]) -> 0 | D20: =SUM(Medicalgases[Indirect generation]) -> 0 | E20: =SUM(Medicalgases[[Indirect service]:[Indirect WTT]]) -> 0 | F20: =SUM(Medicalgases[Total emissions (kgCO2e)]) -> 0 | G20: =SUM(Medicalgases[High]) -> 0 | H20: =SUM(Medicalgases[Low]) -> 0 | I20: =SUM(Medicalgases[Outside of scopes]) -> 0
B21: Buildings & stationary assets total | C21: =SUM(C15:C20) -> 0 | D21: =SUM(D15:D20) -> 0 | E21: =SUM(E15:E20) -> 0 | F21: =SUM(F15:F20) -> 0 | G21: =SUM(G15:G20) -> 0 | H21: =SUM(H15:H20) -> 0 | I21: =SUM(I15:I20) -> 0
B23: Transport | C23: Units of kgCO2e
B24: Categories | C24: Direct | D24: Indirect | E24: Indirect | F24: Total | G24: Estimated range | H24: Estimated range | I24: Outside of scopes
C25: Scope 1 | D25: Scope 2 | E25: Scope 3 | G25: High | H25: Low
B26: Fleet and equipment | C26: =SUM(FleetTableDistance[Direct],FleetTableFuel[Direct]) -> 0 | D26: =SUM(FleetTableDistance[Indirect generation],FleetTableFuel[Indirect generation]) -> 0 | E26: =SUM(FleetTableDistance[[Indirect service]:[Indirect WTT]],FleetTableFuel[[Indirect service]:[Indirect WTT]]) -> 0 | F26: =SUM(C26:E26) -> 0 | G26: =SUM(FleetTableDistance[High],FleetTableFuel[High]) -> 0 | H26: =SUM(FleetTableDistance[Low],FleetTableFuel[Low]) -> 0 | I26: =SUM(FleetTableDistance[Outside of scopes],FleetTableFuel[Outside of scopes]) -> 0
B27: Business travel | C27: =SUM(BusinessTable[Direct]) -> 0 | D27: =SUM(BusinessTable[Indirect generation]) -> 0 | E27: =SUM(BusinessTable[[Indirect service]:[Indirect WTT]]) -> 0 | F27: =SUM(C27:E27) -> 0 | G27: =SUM(BusinessTable[High]) -> 0 | H27: =SUM(BusinessTable[Low]) -> 0 | I27: =SUM(BusinessTable[Outside of scopes]) -> 0
B28: Commuting | C28: =SUM(CommutingTable[Direct]) -> 0 | D28: =SUM(CommutingTable[Indirect generation]) -> 0 | E28: =SUM(CommutingTable[[Indirect service]:[Indirect WTT]]) -> 0 | F28: =SUM(C28:E28) -> 0 | G28: =SUM(CommutingTable[High]) -> 0 | H28: =SUM(CommutingTable[Low]) -> 0 | I28: =SUM(CommutingTable[Outside of scopes]) -> 0
B29: Homeworking | C29: =SUM(HomeworkingTable[Direct]) -> 0 | D29: =SUM(HomeworkingTable[Indirect generation]) -> 0 | E29: =SUM(HomeworkingTable[[Indirect service]:[Indirect WTT]]) -> 0 | F29: =SUM(C29:E29) -> 0 | G29: =SUM(HomeworkingTable[High]) -> 0 | H29: =SUM(HomeworkingTable[Low]) -> 0 | I29: =SUM(HomeworkingTable[Outside of scopes]) -> 0
B30: Transport total | C30: =SUM(C26:C29) -> 0 | D30: =SUM(D26:D29) -> 0 | E30: =SUM(E26:E29) -> 0 | F30: =SUM(F26:F29) -> 0 | G30: =SUM(G26:G29) -> 0 | H30: =SUM(H26:H29) -> 0 | I30: =SUM(I26:I29) -> 0
B32: Waste | C32: Units of kgCO2e
B33: Categories | C33: Direct | D33: Indirect | E33: Indirect | F33: Total | G33: Estimated range | H33: Estimated range | I33: Outside of scopes
C34: Scope 1 | D34: Scope 2 | E34: Scope 3 | G34: High | H34: Low
B35: Organisational waste | C35: =SUM(OrganisationalWasteTable[Direct]) -> 0 | D35: =-SUM(OrganisationalWasteTable[Indirect generation]) -> 0 | E35: =SUM(OrganisationalWasteTable[[Indirect service]:[Indirect WTT]]) -> 0 | F35: =SUM(C35:E35) -> 0 | G35: =SUM(OrganisationalWasteTable[High]) -> 0 | H35: =SUM(OrganisationalWasteTable[Low]) -> 0 | I35: =SUM(OrganisationalWasteTable[Outside of scopes]) -> 0
B36: Municipal waste | C36: =SUM(MunicipalWasteTable[Direct]) -> 0 | D36: =SUM(MunicipalWasteTable[Indirect generation]) -> 0 | E36: =SUM(MunicipalWasteTable[[Indirect service]:[Indirect WTT]]) -> 0 | F36: =SUM(C36:E36) -> 0 | G36: =SUM(MunicipalWasteTable[High]) -> 0 | H36: =SUM(MunicipalWasteTable[Low]) -> 0 | I36: =SUM(MunicipalWasteTable[Outside of scopes]) -> 0
B37: Project waste | C37: =SUM(ProjectWasteTable[Direct]) -> 0 | D37: =SUM(ProjectWasteTable[Indirect generation]) -> 0 | E37: =SUM(ProjectWasteTable[[Indirect service]:[Indirect WTT]]) -> 0 | F37: =SUM(C37:E37) -> 0 | G37: =SUM(ProjectWasteTable[High]) -> 0 | H37: =SUM(ProjectWasteTable[Low]) -> 0 | I37: =SUM(MunicipalWasteTable[Outside of scopes]) -> 0
B38: =B32 -> Waste | C38: =SUM(C35:C37) -> 0 | D38: =SUM(D35:D37) -> 0 | E38: =SUM(E35:E37) -> 0 | F38: =SUM(F35:F37) -> 0 | G38: =SUM(G35:G37) -> 0 | H38: =SUM(H35:H37) -> 0 | I38: =SUM(I35:I37) -> 0
B41: Supply chain - Tier 1 and Tier 2 combined | C41: Units of kgCO2e
B42: Categories | C42: Direct | D42: Indirect | E42: Indirect | F42: Total | G42: Estimated range | H42: Estimated range | I42: Outside of scopes
C43: Scope 1 | D43: Scope 2 | E43: Scope 3 | G43: High | H43: Low
B44: Agriculture, forestry and fishing | E44: =SUMIF(SupplyChainTier1[Supply chain group], B44, SupplyChainTier1[Indirect service]) -> 0 | F44: =SUM(E44) -> 0 | G44: =SUMIF(SupplyChainTier1[Supply chain group], B44, SupplyChainTier1[High]) -> 0 | H44: =SUMIF(SupplyChainTier1[Supply chain group], B44, SupplyChainTier1[Low]) -> 0
B45: Mining and quarrying | E45: =SUMIF(SupplyChainTier1[Supply chain group], B45, SupplyChainTier1[Indirect service]) -> 0 | F45: =SUM(E45) -> 0 | G45: =SUMIF(SupplyChainTier1[Supply chain group], B45, SupplyChainTier1[High]) -> 0 | H45: =SUMIF(SupplyChainTier1[Supply chain group], B45, SupplyChainTier1[Low]) -> 0
B46: Manufacturing | E46: =SUMIF(SupplyChainTier1[Supply chain group], B46, SupplyChainTier1[Indirect service]) -> 0 | F46: =SUM(E46) -> 0 | G46: =SUMIF(SupplyChainTier1[Supply chain group], B46, SupplyChainTier1[High]) -> 0 | H46: =SUMIF(SupplyChainTier1[Supply chain group], B46, SupplyChainTier1[Low]) -> 0
B47: Electricity, gas, steam and air conditioning supply | E47: =SUMIF(SupplyChainTier1[Supply chain group], B47, SupplyChainTier1[Indirect service]) -> 0 | F47: =SUM(E47) -> 0 | G47: =SUMIF(SupplyChainTier1[Supply chain group], B47, SupplyChainTier1[High]) -> 0 | H47: =SUMIF(SupplyChainTier1[Supply chain group], B47, SupplyChainTier1[Low]) -> 0
B48: Water supply; sewerage, waste management and remediation activities | E48: =SUMIF(SupplyChainTier1[Supply chain group], B48, SupplyChainTier1[Indirect service]) -> 0 | F48: =SUM(E48) -> 0 | G48: =SUMIF(SupplyChainTier1[Supply chain group], B48, SupplyChainTier1[High]) -> 0 | H48: =SUMIF(SupplyChainTier1[Supply chain group], B48, SupplyChainTier1[Low]) -> 0
...

Sheet Site Information
M1: Cell colour codes: | N1: Information cell or question | P1: Activity data. Numeric data entry
B2: Building Information | N2: Information entry. Some cells have drop down lists | P2: Calculated data
B3: Guidance for users This sheet contains one table - Site Information (buildings and standalone renewable energy assets). Please see Section 7 of the Welsh Net Zero Public Sector Reporting Guide for further guidance.
B4: Instructions for users • Input information into the orange and blue cells. • For a building, please fill in all five columns. • For a standalone renewable energy asset, please fill in the first two columns only (site name and site type). • Activity data entered in the 'Floor area (m2)' column should only be in m2. If your data is not in m2, you must convert it before entering it into this sheet. • When completing a row, fill in the columns from left to right. The drop down lists in later columns will change to provide valid combinations based on your previous selections. • You can copy and paste between rows but please avoid copying data from one column to another, as this is likely to break the drop down lists.
B5: Site Information (buildings and standalone renewable energy assets) | F5: =IF($I$6=0,"No data entered",IF($H$6=0," ","Floor area missing")) -> No data entered | H5: Missing Data Test | I5: Blank Test
B6: Site name | C6: Site type | D6: Building Category | E6: Building type | F6: Occupied floor area (m2) | H6: =SUM(H7:H33) -> 0 | I6: =SUM(I7:I33) -> 0
H7: {=IF(AND(ISBLANK(F7), NOT(ISBLANK(B7:E7))), 1,0)} -> 0 | I7: =IF(AND(B7 = "", C7="", D7="",F7=""), 0,1) -> 0
H8: {=IF(AND(ISBLANK(F8), NOT(ISBLANK(B8:E8))), 1,0)} -> 0 | I8: =IF(AND(B8 = "", C8="", D8="",F8=""), 0,1) -> 0
H9: {=IF(AND(ISBLANK(F9), NOT(ISBLANK(B9:E9))), 1,0)} -> 0 | I9: =IF(AND(B9 = "", C9="", D9="",F9=""), 0,1) -> 0
H10: {=IF(AND(ISBLANK(F10), NOT(ISBLANK(B10:E10))), 1,0)} -> 0 | I10: =IF(AND(B10 = "", C10="", D10="",F10=""), 0,1) -> 0
H11: {=IF(AND(ISBLANK(F11), NOT(ISBLANK(B11:E11))), 1,0)} -> 0 | I11: =IF(AND(B11 = "", C11="", D11="",F11=""), 0,1) -> 0
H12: {=IF(AND(ISBLANK(F12), NOT(ISBLANK(B12:E12))), 1,0)} -> 0 | I12: =IF(AND(B12 = "", C12="", D12="",F12=""), 0,1) -> 0
H13: {=IF(AND(ISBLANK(F13), NOT(ISBLANK(B13:E13))), 1,0)} -> 0 | I13: =IF(AND(B13 = "", C13="", D13="",F13=""), 0,1) -> 0
H14: {=IF(AND(ISBLANK(F14), NOT(ISBLANK(B14:E14))), 1,0)} -> 0 | I14: =IF(AND(B14 = "", C14="", D14="",F14=""), 0,1) -> 0
H15: {=IF(AND(ISBLANK(F15), NOT(ISBLANK(B15:E15))), 1,0)} -> 0 | I15: =IF(AND(B15 = "", C15="", D15="",F15=""), 0,1) -> 0
H16: {=IF(AND(ISBLANK(F16), NOT(ISBLANK(B16:E16))), 1,0)} -> 0 | I16: =IF(AND(B16 = "", C16="", D16="",F16=""), 0,1) -> 0
H17: {=IF(AND(ISBLANK(F17), NOT(ISBLANK(B17:E17))), 1,0)} -> 0 | I17: =IF(AND(B17 = "", C17="", D17="",F17=""), 0,1) -> 0
H18: {=IF(AND(ISBLANK(F18), NOT(ISBLANK(B18:E18))), 1,0)} -> 0 | I18: =IF(AND(B18 = "", C18="", D18="",F18=""), 0,1) -> 0
... H31: {=IF(AND(ISBLANK(F31), NOT(ISBLANK(B31:E31))), 1,0)} -> 0 | I31: =IF(AND(B31 = "", C31="", D31="",F31=""), 0,1) -> 0
H32: =IF(AND(COUNTA(B32:E32)=1, ISBLANK(B32) +ISBLANK(F26)=1),1,0) -> 0 | I32: =IF(AND(B32 = "", C32="", D32="",F32=""), 0,1) -> 0

Sheet Buildings - Grid Electricity
N1: Cell colour codes: | O1: Information cell or question | Q1: Activity data. Numeric data entry
B2: Buildings - Grid Electricity | O2: Information entry. Some cells have drop down lists | Q2: Calculated data
B3: Guidance for users This sheet contains two tables - Buildings - Grid Electricity and Streetlighting. Please see Section 7 of the Welsh Net Zero Public Sector Reporting Guide for further guidance.
B4: Instructions for users • Use the [+] symbols to the left of column A to show/hide the data tables for entry. • Input information into the orange and blue cells. Grey cells should not be edited. • Activity data entered in the 'data' column should only be in units specified in the 'units' column drop down list. If your data is in units that are not included in this drop down list, you will need to convert it before entering it into this sheet. • When completing a row, fill in the columns from left to right. The drop down lists in later columns will change to provide valid combinations based on your previous selections. • You can copy and paste between rows but please avoid copying data from one column to another, as this is likely to break the drop down lists. • Fill in the notes column with a description of the method and data source used for each row. • Please note that the 'Outside of scopes' emissions are not included in the 'Total emissions'.
B5: Buildings - Grid Electricity | J5: =IF($AA$6=0,"No data entered",IF($Z$6=0,"No errors in this table","There are errors in this table see highlighted row(s)")) -> No data entered | O5: Emission data breakdown (kg CO2e) | Z5: Error Test | AA5: Blank Test
B6: Site name | C6: Unique Reference Number (e.g. MPAN) | D6: Ownership structure | E6: Fuel/emission source | F6: Category 1 | G6: Methodology | H6: RSD | I6: Data | J6: Units | K6: Converted data | L6: Standard units | M6: Total EF (kgCO2e/unit) | N6: Total emissions (kgCO2e) | O6: Notes | P6: Ease of collection | Q6: Direct | R6: Indirect generation | S6: Indirect service | T6: Indirect T&D | U6: Indirect WTT | V6: High | W6: Low | X6: Outside of scopes | Z6: =SUM(Z7:Z500) -> 0 | AA6: =SUM(AA7:AA500) -> 0
D7: =IFERROR(INDEX(BuildingInformationTable[Site type],MATCH(BuildingsElectricityTable[[#This Row],[Site name]],BuildingInformationTable[Site name],0)),"") | E7: =IF(B7="", "", "Grid electricity") | F7: =IF(E7="Grid electricity", "Consumption based", "") | H7: =IF(G7="","",INDEX(Lists!$BA$4:$BC$31,MATCH(E7,Lists!$AZ$4:$AZ$31,0),MATCH(G7,Lists!$BA$3:$BC$3,0))) | J7: =IF(I7="", "", "kWh") | K7: {=IF(OR($E7="",$D7="",$I7="",$J7=""),"",IF(J7=L7,I7,(INDEX('Emission factors'!$K$3:$V$201,MATCH(E7&F7,'Emission factors'!$J$3:$J$201&'Emission factors'!$K$3:$K$201,0),MATCH(K$6,'Emission factors'!$K$2:$V$2,0)))*I7))} | L7: =IF(OR($E7="",$D7="",$I7="",$J7=""),"",INDEX('Emission factors'!$K$3:$V$201,MATCH('Buildings - Grid Electricity'!$E7,'Emission factors'!$J$3:$J$201,0),MATCH($L$6,'Emission factors'!$K$2:$V$2,0))) | M7: {=IF(OR(E7="",I7="",BuildingsElectricityTable[[#This Row],[Units]]=""),"",INDEX('Emission factors'!$K$3:$V$201,MATCH('Buildings - Grid Electricity'!$E7&F7,'Emission factors'!$J$3:$J$201&'Emission factors'!$K$3:$K$201,0),MATCH('Buildings - Grid Electricity'!$M$6,'Emission factors'!$K$2:$V$2,0)))} | N7: =IF(OR(K7="",M7=""),"",SUM(BuildingsElectricityTable[[#This Row],[Direct]:[Indirect WTT]])) | Q7: {=IF(OR($E7="",$I7=""),"",(INDEX('Emission factors'!$K$3:$V$201,MATCH('Buildings - Grid Electricity'!$E7&$F7,'Emission factors'!$J$3:$J$201&'Emission factors'!$K$3:$K$201,0),MATCH('Buildings - Grid Electricity'!Q$6,'Emission factors'!$K$2:$V$2,0)))*$K7)} | R7: {=IF(OR($E7="",$I7=""),"",(INDEX('Emission factors'!$K$3:$V$201,MATCH('Buildings - Grid Electricity'!$E7&$F7,'Emission factors'!$J$3:$J$201&'Emission factors'!$K$3:$K$201,0),MATCH('Buildings - Grid Electricity'!R$6,'Emission factors'!$K$2:$V$2,0)))*$K7)} | S7: {=IF(OR($E7="",$I7=""),"",(INDEX('Emission factors'!$K$3:$V$201,MATCH('Buildings - Grid Electricity'!$E7&$F7,'Emission factors'!$J$3:$J$201&'Emission factors'!$K$3:$K$201,0),MATCH('Buildings - Grid Electricity'!S$6,'Emission factors'!$K$2:$V$2,0)))*$K7)} | T7: {=IF(OR($E7="",$I7=""),"",(INDEX('Emission factors'!$K$3:$V$201,MATCH('Buildings - Grid Electricity'!$E7&$F7,'Emission factors'!$J$3:$J$201&'Emission factors'!$K$3:$K$201,0),MATCH('Buildings - Grid Electricity'!T$6,'Emission factors'!$K$2:$V$2,0)))*$K7)} | U7: {=IF(OR($E7="",$I7=""),"",(INDEX('Emission factors'!$K$3:$V$201,MATCH('Buildings - Grid Electricity'!$E7&$F7,'Emission factors'!$J$3:$J$201&'Emission factors'!$K$3:$K$201,0),MATCH('Buildings - Grid Electricity'!U$6,'Emission factors'!$K$2:$V$2,0)))*$K7)} | V7: =IF(OR($N7="",BuildingsElectricityTable[[#This Row],[RSD]]=""),"",BuildingsElectricityTable[[#This Row],[Total emissions (kgCO2e)]]*(1+BuildingsElectricityTable[[#This Row],[RSD]])) | W7: =IF(OR($N7="",BuildingsElectricityTable[[#This Row],[RSD]]=""),"",BuildingsElectricityTable[[#This Row],[Total emissions (kgCO2e)]]*(1-BuildingsElectricityTable[[#This Row],[RSD]])) | X7: {=IF(OR($E7="",$I7=""),"",(INDEX('Emission factors'!$K$3:$V$201,MATCH('Buildings - Grid Electricity'!$E7&$F7,'Emission factors'!$J$3:$J$201&'Emission factors'!$K$3:$K$201,0),MATCH('Buildings - Grid Electricity'!X$6,'Emission factors'!$K$2:$V$2,0)))*$K7)} | Z7: {=IF(OR(ISERROR(B7:X7)),1,0)} -> 0 | AA7: =IF(AND(B7="",E7="",I7="",J7=""),0,1) -> 0
D8: =IFERROR(INDEX(BuildingInformationTable[Site type],MATCH(BuildingsElectricityTable[[#This Row],[Site name]],BuildingInformationTable[Site name],0)),"") | E8: =IF(B8="", "", "Grid electricity") | F8: =IF(E8="Grid electricity", "Consumption based", "") | H8: =IF(G8="","",INDEX(Lists!$BA$4:$BC$31,MATCH(E8,Lists!$AZ$4:$AZ$31,0),MATCH(G8,Lists!$BA$3:$BC$3,0))) | J8: =IF(I8="", "", "kWh") | K8: {=IF(OR($E8="",$D8="",$I8="",$J8=""),"",IF(J8=L8,I8,(INDEX('Emission factors'!$K$3:$V$201,MATCH(E8&F8,'Emission factors'!$J$3:$J$201&'Emission factors'!$K$3:$K$201,0),MATCH(K$6,'Emission factors'!$K$2:$V$2,0)))*I8))} | L8: =IF(OR($E8="",$D8="",$I8="",$J8=""),"",INDEX('Emission factors'!$K$3:$V$201,MATCH('Buildings - Grid Electricity'!$E8,'Emission factors'!$J$3:$J$201,0),MATCH($L$6,'Emission factors'!$K$2:$V$2,0))) | M8: {=IF(OR(E8="",I8="",BuildingsElectricityTable[[#This Row],[Units]]=""),"",INDEX('Emission factors'!$K$3:$V$201,MATCH('Buildings - Grid Electricity'!$E8&F8,'Emission factors'!$J$3:$J$201&'Emission factors'!$K$3:$K$201,0),MATCH('Buildings - Grid Electricity'!$M$6,'Emission factors'!$K$2:$V$2,0)))} | N8: =IF(OR(K8="",M8=""),"",SUM(BuildingsElectricityTable[[#This Row],[Direct]:[Indirect WTT]])) | Q8: {=IF(OR($E8="",$I8=""),"",(INDEX('Emission factors'!$K$3:$V$201,MATCH('Buildings - Grid Electricity'!$E8&$F8,'Emission factors'!$J$3:$J$201&'Emission factors'!$K$3:$K$201,0),MATCH('Buildings - Grid Electricity'!Q$6,'Emission factors'!$K$2:$V$2,0)))*$K8)} | R8: {=IF(OR($E8="",$I8=""),"",(INDEX('Emission factors'!$K$3:$V$201,MATCH('Buildings - Grid Electricity'!$E8&$F8,'Emission factors'!$J$3:$J$201&'Emission factors'!$K$3:$K$201,0),MATCH('Buildings - Grid Electricity'!R$6,'Emission factors'!$K$2:$V$2,0)))*$K8)} | S8: {=IF(OR($E8="",$I8=""),"",(INDEX('Emission factors'!$K$3:$V$201,MATCH('Buildings - Grid Electricity'!$E8&$F8,'Emission factors'!$J$3:$J$201&'Emission factors'!$K$3:$K$201,0),MATCH('Buildings - Grid Electricity'!S$6,'Emission factors'!$K$2:$V$2,0)))*$K8)} | T8: {=IF(OR($E8="",$I8=""),"",(INDEX('Emission factors'!$K$3:$V$201,MATCH('Buildings - Grid Electricity'!$E8&$F8,'Emission factors'!$J$3:$J$201&'Emission factors'!$K$3:$K$201,0),MATCH('Buildings - Grid Electricity'!T$6,'Emission factors'!$K$2:$V$2,0)))*$K8)} | U8: {=IF(OR($E8="",$I8=""),"",(INDEX('Emission factors'!$K$3:$V$201,MATCH('Buildings - Grid Electricity'!$E8&$F8,'Emission factors'!$J$3:$J$201&'Emission factors'!$K$3:$K$201,0),MATCH('Buildings - Grid Electricity'!U$6,'Emission factors'!$K$2:$V$2,0)))*$K8)} | V8: =IF(OR($N8="",BuildingsElectricityTable[[#This Row],[RSD]]=""),"",BuildingsElectricityTable[[#This Row],[Total emissions (kgCO2e)]]*(1+BuildingsElectricityTable[[#This Row],[RSD]])) | W8: =IF(OR($N8="",BuildingsElectricityTable[[#This Row],[RSD]]=""),"",BuildingsElectricityTable[[#This Row],[Total emissions (kgCO2e)]]*(1-BuildingsElectricityTable[[#This Row],[RSD]])) | X8: {=IF(OR($E8="",$I8=""),"",(INDEX('Emission factors'!$K$3:$V$201,MATCH('Buildings - Grid Electricity'!$E8&$F8,'Emission factors'!$J$3:$J$201&'Emission factors'!$K$3:$K$201,0),MATCH('Buildings - Grid Electricity'!X$6,'Emission factors'!$K$2:$V$2,0)))*$K8)} | Z8: {=IF(OR(ISERROR(B8:X8)),1,0)} -> 0 | AA8: =IF(AND(B8="",E8="",I8="",J8=""),0,1) -> 0
D9: =IFERROR(INDEX(BuildingInformationTable[Site type],MATCH(BuildingsElectricityTable[[#This Row],[Site name]],BuildingInformationTable[Site name],0)),"") | E9: =IF(B9="", "", "Grid electricity") | F9: =IF(E9="Grid electricity", "Consumption based", "") | H9: =IF(G9="","",INDEX(Lists!$BA$4:$BC$31,MATCH(E9,Lists!$AZ$4:$AZ$31,0),MATCH(G9,Lists!$BA$3:$BC$3,0))) | J9: =IF(I9="", "", "kWh") | K9: {=IF(OR($E9="",$D9="",$I9="",$J9=""),"",IF(J9=L9,I9,(INDEX('Emission factors'!$K$3:$V$201,MATCH(E9&F9,'Emission factors'!$J$3:$J$201&'Emission factors'!$K$3:$K$201,0),MATCH(K$6,'Emission factors'!$K$2:$V$2,0)))*I9))} | L9: =IF(OR($E9="",$D9="",$I9="",$J9=""),"",INDEX('Emission factors'!$K$3:$V$201,MATCH('Buildings - Grid Electricity'!$E9,'Emission factors'!$J$3:$J$201,0),MATCH($L$6,'Emission factors'!$K$2:$V$2,0))) | M9: {=IF(OR(E9="",I9="",BuildingsElectricityTable[[#This Row],[Units]]=""),"",INDEX('Emission factors'!$K$3:$V$201,MATCH('Buildings - Grid Electricity'!$E9&F9,'Emission factors'!$J$3:$J$201&'Emission factors'!$K$3:$K$201,0),MATCH('Buildings - Grid Electricity'!$M$6,'Emission factors'!$K$2:$V$2,0)))} | N9: =IF(OR(K9="",M9=""),"",SUM(BuildingsElectricityTable[[#This Row],[Direct]:[Indirect WTT]])) | Q9: {=IF(OR($E9="",$I9=""),"",(INDEX('Emission factors'!$K$3:$V$201,MATCH('Buildings - Grid Electricity'!$E9&$F9,'Emission factors'!$J$3:$J$201&'Emission factors'!$K$3:$K$201,0),MATCH('Buildings - Grid Electricity'!Q$6,'Emission factors'!$K$2:$V$2,0)))*$K9)} | R9: {=IF(OR($E9="",$I9=""),"",(INDEX('Emission factors'!$K$3:$V$201,MATCH('Buildings - Grid Electricity'!$E9&$F9,'Emission factors'!$J$3:$J$201&'Emission factors'!$K$3:$K$201,0),MATCH('Buildings - Grid Electricity'!R$6,'Emission factors'!$K$2:$V$2,0)))*$K9)} | S9: {=IF(OR($E9="",$I9=""),"",(INDEX('Emission factors'!$K$3:$V$201,MATCH('Buildings - Grid Electricity'!$E9&$F9,'Emission factors'!$J$3:$J$201&'Emission factors'!$K$3:$K$201,0),MATCH('Buildings - Grid Electricity'!S$6,'Emission factors'!$K$2:$V$2,0)))*$K9)} | T9: {=IF(OR($E9="",$I9=""),"",(INDEX('Emission factors'!$K$3:$V$201,MATCH('Buildings - Grid Electricity'!$E9&$F9,'Emission factors'!$J$3:$J$201&'Emission factors'!$K$3:$K$201,0),MATCH('Buildings - Grid Electricity'!T$6,'Emission factors'!$K$2:$V$2,0)))*$K9)} | U9: {=IF(OR($E9="",$I9=""),"",(INDEX('Emission factors'!$K$3:$V$201,MATCH('Buildings - Grid Electricity'!$E9&$F9,'Emission factors'!$J$3:$J$201&'Emission factors'!$K$3:$K$201,0),MATCH('Buildings - Grid Electricity'!U$6,'Emission factors'!$K$2:$V$2,0)))*$K9)} | V9: =IF(OR($N9="",BuildingsElectricityTable[[#This Row],[RSD]]=""),"",BuildingsElectricityTable[[#This Row],[Total emissions (kgCO2e)]]*(1+BuildingsElectricityTable[[#This Row],[RSD]])) | W9: =IF(OR($N9="",BuildingsElectricityTable[[#This Row],[RSD]]=""),"",BuildingsElectricityTable[[#This Row],[Total emissions (kgCO2e)]]*(1-BuildingsElectricityTable[[#This Row],[RSD]])) | X9: {=IF(OR($E9="",$I9=""),"",(INDEX('Emission factors'!$K$3:$V$201,MATCH('Buildings - Grid Electricity'!$E9&$F9,'Emission factors'!$J$3:$J$201&'Emission factors'!$K$3:$K$201,0),MATCH('Buildings - Grid Electricity'!X$6,'Emission factors'!$K$2:$V$2,0)))*$K9)} | Z9: {=IF(OR(ISERROR(B9:X9)),1,0)} -> 0 | AA9: =IF(AND(B9="",E9="",I9="",J9=""),0,1) -> 0
D10: =IFERROR(INDEX(BuildingInformationTable[Site type],MATCH(BuildingsElectricityTable[[#This Row],[Site name]],BuildingInformationTable[Site name],0)),"") | E10: =IF(B10="", "", "Grid electricity") | F10: =IF(E10="Grid electricity", "Consumption based", "") | H10: =IF(G10="","",INDEX(Lists!$BA$4:$BC$31,MATCH(E10,Lists!$AZ$4:$AZ$31,0),MATCH(G10,Lists!$BA$3:$BC$3,0))) | J10: =IF(I10="", "", "kWh") | K10: {=IF(OR($E10="",$D10="",$I10="",$J10=""),"",IF(J10=L10,I10,(INDEX('Emission factors'!$K$3:$V$201,MATCH(E10&F10,'Emission factors'!$J$3:$J$201&'Emission factors'!$K$3:$K$201,0),MATCH(K$6,'Emission factors'!$K$2:$V$2,0)))*I10))} | L10: =IF(OR($E10="",$D10="",$I10="",$J10=""),"",INDEX('Emission factors'!$K$3:$V$201,MATCH('Buildings - Grid Electricity'!$E10,'Emission factors'!$J$3:$J$201,0),MATCH($L$6,'Emission factors'!$K$2:$V$2,0))) | M10: {=IF(OR(E10="",I10="",BuildingsElectricityTable[[#This Row],[Units]]=""),"",INDEX('Emission factors'!$K$3:$V$201,MATCH('Buildings - Grid Electricity'!$E10&F10,'Emission factors'!$J$3:$J$201&'Emission factors'!$K$3:$K$201,0),MATCH('Buildings - Grid Electricity'!$M$6,'Emission factors'!$K$2:$V$2,0)))} | N10: =IF(OR(K10="",M10=""),"",SUM(BuildingsElectricityTable[[#This Row],[Direct]:[Indirect WTT]])) | Q10: {=IF(OR($E10="",$I10=""),"",(INDEX('Emission factors'!$K$3:$V$201,MATCH('Buildings - Grid Electricity'!$E10&$F10,'Emission factors'!$J$3:$J$201&'Emission factors'!$K$3:$K$201,0),MATCH('Buildings - Grid Electricity'!Q$6,'Emission factors'!$K$2:$V$2,0)))*$K10)} | R10: {=IF(OR($E10="",$I10=""),"",(INDEX('Emission factors'!$K$3:$V$201,MATCH('Buildings - Grid Electricity'!$E10&$F10,'Emission factors'!$J$3:$J$201&'Emission factors'!$K$3:$K$201,0),MATCH('Buildings - Grid Electricity'!R$6,'Emission factors'!$K$2:$V$2,0)))*$K10)} | S10: {=IF(OR($E10="",$I10=""),"",(INDEX('Emission factors'!$K$3:$V$201,MATCH('Buildings - Grid Electricity'!$E10&$F10,'Emission factors'!$J$3:$J$201&'Emission factors'!$K$3:$K$201,0),MATCH('Buildings - Grid Electricity'!S$6,'Emission factors'!$K$2:$V$2,0)))*$K10)} | T10: {=IF(OR($E10="",$I10=""),"",(INDEX('Emission factors'!$K$3:$V$201,MATCH('Buildings - Grid Electricity'!$E10&$F10,'Emission factors'!$J$3:$J$201&'Emission factors'!$K$3:$K$201,0),MATCH('Buildings - Grid Electricity'!T$6,'Emission factors'!$K$2:$V$2,0)))*$K10)} | U10: {=IF(OR($E10="",$I10=""),"",(INDEX('Emission factors'!$K$3:$V$201,MATCH('Buildings - Grid Electricity'!$E10&$F10,'Emission factors'!$J$3:$J$201&'Emission factors'!$K$3:$K$201,0),MATCH('Buildings - Grid Electricity'!U$6,'Emission factors'!$K$2:$V$2,0)))*$K10)} | V10: =IF(OR($N10="",BuildingsElectricityTable[[#This Row],[RSD]]=""),"",BuildingsElectricityTable[[#This Row],[Total emissions (kgCO2e)]]*(1+BuildingsElectricityTable[[#This Row],[RSD]])) | W10: =IF(OR($N10="",BuildingsElectricityTable[[#This Row],[RSD]]=""),"",BuildingsElectricityTable[[#This Row],[Total emissions (kgCO2e)]]*(1-BuildingsElectricityTable[[#This Row],[RSD]])) | X10: {=IF(OR($E10="",$I10=""),"",(INDEX('Emission factors'!$K$3:$V$201,MATCH('Buildings - Grid Electricity'!$E10&$F10,'Emission factors'!$J$3:$J$201&'Emission factors'!$K$3:$K$201,0),MATCH('Buildings - Grid Electricity'!X$6,'Emission factors'!$K$2:$V$2,0)))*$K10)} | Z10: {=IF(OR(ISERROR(B10:X10)),1,0)} -> 0 | AA10: =IF(AND(B10="",E10="",I10="",J10=""),0,1) -> 0
D11: =IFERROR(INDEX(BuildingInformationTable[Site type],MATCH(BuildingsElectricityTable[[#This Row],[Site name]],BuildingInformationTable[Site name],0)),"") | E11: =IF(B11="", "", "Grid electricity") | F11: =IF(E11="Grid electricity", "Consumption based", "") | H11: =IF(G11="","",INDEX(Lists!$BA$4:$BC$31,MATCH(E11,Lists!$AZ$4:$AZ$31,0),MATCH(G11,Lists!$BA$3:$BC$3,0))) | J11: =IF(I11="", "", "kWh") | K11: {=IF(OR($E11="",$D11="",$I11="",$J11=""),"",IF(J11=L11,I11,(INDEX('Emission factors'!$K$3:$V$201,MATCH(E11&F11,'Emission factors'!$J$3:$J$201&'Emission factors'!$K$3:$K$201,0),MATCH(K$6,'Emission factors'!$K$2:$V$2,0)))*I11))} | L11: =IF(OR($E11="",$D11="",$I11="",$J11=""),"",INDEX('Emission factors'!$K$3:$V$201,MATCH('Buildings - Grid Electricity'!$E11,'Emission factors'!$J$3:$J$201,0),MATCH($L$6,'Emission factors'!$K$2:$V$2,0))) | M11: {=IF(OR(E11="",I11="",BuildingsElectricityTable[[#This Row],[Units]]=""),"",INDEX('Emission factors'!$K$3:$V$201,MATCH('Buildings - Grid Electricity'!$E11&F11,'Emission factors'!$J$3:$J$201&'Emission factors'!$K$3:$K$201,0),MATCH('Buildings - Grid Electricity'!$M$6,'Emission factors'!$K$2:$V$2,0)))} | N11: =IF(OR(K11="",M11=""),"",SUM(BuildingsElectricityTable[[#This Row],[Direct]:[Indirect WTT]])) | Q11: {=IF(OR($E11="",$I11=""),"",(INDEX('Emission factors'!$K$3:$V$201,MATCH('Buildings - Grid Electricity'!$E11&$F11,'Emission factors'!$J$3:$J$201&'Emission factors'!$K$3:$K$201,0),MATCH('Buildings - Grid Electricity'!Q$6,'Emission factors'!$K$2:$V$2,0)))*$K11)} | R11: {=IF(OR($E11="",$I11=""),"",(INDEX('Emission factors'!$K$3:$V$201,MATCH('Buildings - Grid Electricity'!$E11&$F11,'Emission factors'!$J$3:$J$201&'Emission factors'!$K$3:$K$201,0),MATCH('Buildings - Grid Electricity'!R$6,'Emission factors'!$K$2:$V$2,0)))*$K11)} | S11: {=IF(OR($E11="",$I11=""),"",(INDEX('Emission factors'!$K$3:$V$201,MATCH('Buildings - Grid Electricity'!$E11&$F11,'Emission factors'!$J$3:$J$201&'Emission factors'!$K$3:$K$201,0),MATCH('Buildings - Grid Electricity'!S$6,'Emission factors'!$K$2:$V$2,0)))*$K11)} | T11: {=IF(OR($E11="",$I11=""),"",(INDEX('Emission factors'!$K$3:$V$201,MATCH('Buildings - Grid Electricity'!$E11&$F11,'Emission factors'!$J$3:$J$201&'Emission factors'!$K$3:$K$201,0),MATCH('Buildings - Grid Electricity'!T$6,'Emission factors'!$K$2:$V$2,0)))*$K11)} | U11: {=IF(OR($E11="",$I11=""),"",(INDEX('Emission factors'!$K$3:$V$201,MATCH('Buildings - Grid Electricity'!$E11&$F11,'Emission factors'!$J$3:$J$201&'Emission factors'!$K$3:$K$201,0),MATCH('Buildings - Grid Electricity'!U$6,'Emission factors'!$K$2:$V$2,0)))*$K11)} | V11: =IF(OR($N11="",BuildingsElectricityTable[[#This Row],[RSD]]=""),"",BuildingsElectricityTable[[#This Row],[Total emissions (kgCO2e)]]*(1+BuildingsElectricityTable[[#This Row],[RSD]])) | W11: =IF(OR($N11="",BuildingsElectricityTable[[#This Row],[RSD]]=""),"",BuildingsElectricityTable[[#This Row],[Total emissions (kgCO2e)]]*(1-BuildingsElectricityTable[[#This Row],[RSD]])) | X11: {=IF(OR($E11="",$I11=""),"",(INDEX('Emission factors'!$K$3:$V$201,MATCH('Buildings - Grid Electricity'!$E11&$F11,'Emission factors'!$J$3:$J$201&'Emission factors'!$K$3:$K$201,0),MATCH('Buildings - Grid Electricity'!X$6,'Emission factors'!$K$2:$V$2,0)))*$K11)} | Z11: {=IF(OR(ISERROR(B11:X11)),1,0)} -> 0 | AA11: =IF(AND(B11="",E11="",I11="",J11=""),0,1) -> 0
D12: =IFERROR(INDEX(BuildingInformationTable[Site type],MATCH(BuildingsElectricityTable[[#This Row],[Site name]],BuildingInformationTable[Site name],0)),"") | E12: =IF(B12="", "", "Grid electricity") | F12: =IF(E12="Grid electricity", "Consumption based", "") | H12: =IF(G12="","",INDEX(Lists!$BA$4:$BC$31,MATCH(E12,Lists!$AZ$4:$AZ$31,0),MATCH(G12,Lists!$BA$3:$BC$3,0))) | J12: =IF(I12="", "", "kWh") | K12: {=IF(OR($E12="",$D12="",$I12="",$J12=""),"",IF(J12=L12,I12,(INDEX('Emission factors'!$K$3:$V$201,MATCH(E12&F12,'Emission factors'!$J$3:$J$201&'Emission factors'!$K$3:$K$201,0),MATCH(K$6,'Emission factors'!$K$2:$V$2,0)))*I12))} | L12: =IF(OR($E12="",$D12="",$I12="",$J12=""),"",INDEX('Emission factors'!$K$3:$V$201,MATCH('Buildings - Grid Electricity'!$E12,'Emission factors'!$J$3:$J$201,0),MATCH($L$6,'Emission factors'!$K$2:$V$2,0))) | M12: {=IF(OR(E12="",I12="",BuildingsElectricityTable[[#This Row],[Units]]=""),"",INDEX('Emission factors'!$K$3:$V$201,MATCH('Buildings - Grid Electricity'!$E12&F12,'Emission factors'!$J$3:$J$201&'Emission factors'!$K$3:$K$201,0),MATCH('Buildings - Grid Electricity'!$M$6,'Emission factors'!$K$2:$V$2,0)))} | N12: =IF(OR(K12="",M12=""),"",SUM(BuildingsElectricityTable[[#This Row],[Direct]:[Indirect WTT]])) | Q12: {=IF(OR($E12="",$I12=""),"",(INDEX('Emission factors'!$K$3:$V$201,MATCH('Buildings - Grid Electricity'!$E12&$F12,'Emission factors'!$J$3:$J$201&'Emission factors'!$K$3:$K$201,0),MATCH('Buildings - Grid Electricity'!Q$6,'Emission factors'!$K$2:$V$2,0)))*$K12)} | R12: {=IF(OR($E12="",$I12=""),"",(INDEX('Emission factors'!$K$3:$V$201,MATCH('Buildings - Grid Electricity'!$E12&$F12,'Emission factors'!$J$3:$J$201&'Emission factors'!$K$3:$K$201,0),MATCH('Buildings - Grid Electricity'!R$6,'Emission factors'!$K$2:$V$2,0)))*$K12)} | S12: {=IF(OR($E12="",$I12=""),"",(INDEX('Emission factors'!$K$3:$V$201,MATCH('Buildings - Grid Electricity'!$E12&$F12,'Emission factors'!$J$3:$J$201&'Emission factors'!$K$3:$K$201,0),MATCH('Buildings - Grid Electricity'!S$6,'Emission factors'!$K$2:$V$2,0)))*$K12)} | T12: {=IF(OR($E12="",$I12=""),"",(INDEX('Emission factors'!$K$3:$V$201,MATCH('Buildings - Grid Electricity'!$E12&$F12,'Emission factors'!$J$3:$J$201&'Emission factors'!$K$3:$K$201,0),MATCH('Buildings - Grid Electricity'!T$6,'Emission factors'!$K$2:$V$2,0)))*$K12)} | U12: {=IF(OR($E12="",$I12=""),"",(INDEX('Emission factors'!$K$3:$V$201,MATCH('Buildings - Grid Electricity'!$E12&$F12,'Emission factors'!$J$3:$J$201&'Emission factors'!$K$3:$K$201,0),MATCH('Buildings - Grid Electricity'!U$6,'Emission factors'!$K$2:$V$2,0)))*$K12)} | V12: =IF(OR($N12="",BuildingsElectricityTable[[#This Row],[RSD]]=""),"",BuildingsElectricityTable[[#This Row],[Total emissions (kgCO2e)]]*(1+BuildingsElectricityTable[[#This Row],[RSD]])) | W12: =IF(OR($N12="",BuildingsElectricityTable[[#This Row],[RSD]]=""),"",BuildingsElectricityTable[[#This Row],[Total emissions (kgCO2e)]]*(1-BuildingsElectricityTable[[#This Row],[RSD]])) | X12: {=IF(OR($E12="",$I12=""),"",(INDEX('Emission factors'!$K$3:$V$201,MATCH('Buildings - Grid Electricity'!$E12&$F12,'Emission factors'!$J$3:$J$201&'Emission factors'!$K$3:$K$201,0),MATCH('Buildings - Grid Electricity'!X$6,'Emission factors'!$K$2:$V$2,0)))*$K12)} | Z12: {=IF(OR(ISERROR(B12:X12)),1,0)} -> 0 | AA12: =IF(AND(B12="",E12="",I12="",J12=""),0,1) -> 0
D13: =IFERROR(INDEX(BuildingInformationTable[Site type],MATCH(BuildingsElectricityTable[[#This Row],[Site name]],BuildingInformationTable[Site name],0)),"") | E13: =IF(B13="", "", "Grid electricity") | F13: =IF(E13="Grid electricity", "Consumption based", "") | H13: =IF(G13="","",INDEX(Lists!$BA$4:$BC$31,MATCH(E13,Lists!$AZ$4:$AZ$31,0),MATCH(G13,Lists!$BA$3:$BC$3,0))) | J13: =IF(I13="", "", "kWh") | K13: {=IF(OR($E13="",$D13="",$I13="",$J13=""),"",IF(J13=L13,I13,(INDEX('Emission factors'!$K$3:$V$201,MATCH(E13&F13,'Emission factors'!$J$3:$J$201&'Emission factors'!$K$3:$K$201,0),MATCH(K$6,'Emission factors'!$K$2:$V$2,0)))*I13))} | L13: =IF(OR($E13="",$D13="",$I13="",$J13=""),"",INDEX('Emission factors'!$K$3:$V$201,MATCH('Buildings - Grid Electricity'!$E13,'Emission factors'!$J$3:$J$201,0),MATCH($L$6,'Emission factors'!$K$2:$V$2,0))) | M13: {=IF(OR(E13="",I13="",BuildingsElectricityTable[[#This Row],[Units]]=""),"",INDEX('Emission factors'!$K$3:$V$201,MATCH('Buildings - Grid Electricity'!$E13&F13,'Emission factors'!$J$3:$J$201&'Emission factors'!$K$3:$K$201,0),MATCH('Buildings - Grid Electricity'!$M$6,'Emission factors'!$K$2:$V$2,0)))} | N13: =IF(OR(K13="",M13=""),"",SUM(BuildingsElectricityTable[[#This Row],[Direct]:[Indirect WTT]])) | Q13: {=IF(OR($E13="",$I13=""),"",(INDEX('Emission factors'!$K$3:$V$201,MATCH('Buildings - Grid Electricity'!$E13&$F13,'Emission factors'!$J$3:$J$201&'Emission factors'!$K$3:$K$201,0),MATCH('Buildings - Grid Electricity'!Q$6,'Emission factors'!$K$2:$V$2,0)))*$K13)} | R13: {=IF(OR($E13="",$I13=""),"",(INDEX('Emission factors'!$K$3:$V$201,MATCH('Buildings - Grid Electricity'!$E13&$F13,'Emission factors'!$J$3:$J$201&'Emission factors'!$K$3:$K$201,0),MATCH('Buildings - Grid Electricity'!R$6,'Emission factors'!$K$2:$V$2,0)))*$K13)} | S13: {=IF(OR($E13="",$I13=""),"",(INDEX('Emission factors'!$K$3:$V$201,MATCH('Buildings - Grid Electricity'!$E13&$F13,'Emission factors'!$J$3:$J$201&'Emission factors'!$K$3:$K$201,0),MATCH('Buildings - Grid Electricity'!S$6,'Emission factors'!$K$2:$V$2,0)))*$K13)} | T13: {=IF(OR($E13="",$I13=""),"",(INDEX('Emission factors'!$K$3:$V$201,MATCH('Buildings - Grid Electricity'!$E13&$F13,'Emission factors'!$J$3:$J$201&'Emission factors'!$K$3:$K$201,0),MATCH('Buildings - Grid Electricity'!T$6,'Emission factors'!$K$2:$V$2,0)))*$K13)} | U13: {=IF(OR($E13="",$I13=""),"",(INDEX('Emission factors'!$K$3:$V$201,MATCH('Buildings - Grid Electricity'!$E13&$F13,'Emission factors'!$J$3:$J$201&'Emission factors'!$K$3:$K$201,0),MATCH('Buildings - Grid Electricity'!U$6,'Emission factors'!$K$2:$V$2,0)))*$K13)} | V13: =IF(OR($N13="",BuildingsElectricityTable[[#This Row],[RSD]]=""),"",BuildingsElectricityTable[[#This Row],[Total emissions (kgCO2e)]]*(1+BuildingsElectricityTable[[#This Row],[RSD]])) | W13: =IF(OR($N13="",BuildingsElectricityTable[[#This Row],[RSD]]=""),"",BuildingsElectricityTable[[#This Row],[Total emissions (kgCO2e)]]*(1-BuildingsElectricityTable[[#This Row],[RSD]])) | X13: {=IF(OR($E13="",$I13=""),"",(INDEX('Emission factors'!$K$3:$V$201,MATCH('Buildings - Grid Electricity'!$E13&$F13,'Emission factors'!$J$3:$J$201&'Emission factors'!$K$3:$K$201,0),MATCH('Buildings - Grid Electricity'!X$6,'Emission factors'!$K$2:$V$2,0)))*$K13)} | Z13: {=IF(OR(ISERROR(B13:X13)),1,0)} -> 0 | AA13: =IF(AND(B13="",E13="",I13="",J13=""),0,1) -> 0
D14: =IFERROR(INDEX(BuildingInformationTable[Site type],MATCH(BuildingsElectricityTable[[#This Row],[Site name]],BuildingInformationTable[Site name],0)),"") | E14: =IF(B14="", "", "Grid electricity") | F14: =IF(E14="Grid electricity", "Consumption based", "") | H14: =IF(G14="","",INDEX(Lists!$BA$4:$BC$31,MATCH(E14,Lists!$AZ$4:$AZ$31,0),MATCH(G14,Lists!$BA$3:$BC$3,0))) | J14: =IF(I14="", "", "kWh") | K14: {=IF(OR($E14="",$D14="",$I14="",$J14=""),"",IF(J14=L14,I14,(INDEX('Emission factors'!$K$3:$V$201,MATCH(E14&F14,'Emission factors'!$J$3:$J$201&'Emission factors'!$K$3:$K$201,0),MATCH(K$6,'Emission factors'!$K$2:$V$2,0)))*I14))} | L14: =IF(OR($E14="",$D14="",$I14="",$J14=""),"",INDEX('Emission factors'!$K$3:$V$201,MATCH('Buildings - Grid Electricity'!$E14,'Emission factors'!$J$3:$J$201,0),MATCH($L$6,'Emission factors'!$K$2:$V$2,0))) | M14: {=IF(OR(E14="",I14="",BuildingsElectricityTable[[#This Row],[Units]]=""),"",INDEX('Emission factors'!$K$3:$V$201,MATCH('Buildings - Grid Electricity'!$E14&F14,'Emission factors'!$J$3:$J$201&'Emission factors'!$K$3:$K$201,0),MATCH('Buildings - Grid Electricity'!$M$6,'Emission factors'!$K$2:$V$2,0)))} | N14: =IF(OR(K14="",M14=""),"",SUM(BuildingsElectricityTable[[#This Row],[Direct]:[Indirect WTT]])) | Q14: {=IF(OR($E14="",$I14=""),"",(INDEX('Emission factors'!$K$3:$V$201,MATCH('Buildings - Grid Electricity'!$E14&$F14,'Emission factors'!$J$3:$J$201&'Emission factors'!$K$3:$K$201,0),MATCH('Buildings - Grid Electricity'!Q$6,'Emission factors'!$K$2:$V$2,0)))*$K14)} | R14: {=IF(OR($E14="",$I14=""),"",(INDEX('Emission factors'!$K$3:$V$201,MATCH('Buildings - Grid Electricity'!$E14&$F14,'Emission factors'!$J$3:$J$201&'Emission factors'!$K$3:$K$201,0),MATCH('Buildings - Grid Electricity'!R$6,'Emission factors'!$K$2:$V$2,0)))*$K14)} | S14: {=IF(OR($E14="",$I14=""),"",(INDEX('Emission factors'!$K$3:$V$201,MATCH('Buildings - Grid Electricity'!$E14&$F14,'Emission factors'!$J$3:$J$201&'Emission factors'!$K$3:$K$201,0),MATCH('Buildings - Grid Electricity'!S$6,'Emission factors'!$K$2:$V$2,0)))*$K14)} | T14: {=IF(OR($E14="",$I14=""),"",(INDEX('Emission factors'!$K$3:$V$201,MATCH('Buildings - Grid Electricity'!$E14&$F14,'Emission factors'!$J$3:$J$201&'Emission factors'!$K$3:$K$201,0),MATCH('Buildings - Grid Electricity'!T$6,'Emission factors'!$K$2:$V$2,0)))*$K14)} | U14: {=IF(OR($E14="",$I14=""),"",(INDEX('Emission factors'!$K$3:$V$201,MATCH('Buildings - Grid Electricity'!$E14&$F14,'Emission factors'!$J$3:$J$201&'Emission factors'!$K$3:$K$201,0),MATCH('Buildings - Grid Electricity'!U$6,'Emission factors'!$K$2:$V$2,0)))*$K14)} | V14: =IF(OR($N14="",BuildingsElectricityTable[[#This Row],[RSD]]=""),"",BuildingsElectricityTable[[#This Row],[Total emissions (kgCO2e)]]*(1+BuildingsElectricityTable[[#This Row],[RSD]])) | W14: =IF(OR($N14="",BuildingsElectricityTable[[#This Row],[RSD]]=""),"",BuildingsElectricityTable[[#This Row],[Total emissions (kgCO2e)]]*(1-BuildingsElectricityTable[[#This Row],[RSD]])) | X14: {=IF(OR($E14="",$I14=""),"",(INDEX('Emission factors'!$K$3:$V$201,MATCH('Buildings - Grid Electricity'!$E14&$F14,'Emission factors'!$J$3:$J$201&'Emission factors'!$K$3:$K$201,0),MATCH('Buildings - Grid Electricity'!X$6,'Emission factors'!$K$2:$V$2,0)))*$K14)} | Z14: {=IF(OR(ISERROR(B14:X14)),1,0)} -> 0 | AA14: =IF(AND(B14="",E14="",I14="",J14=""),0,1) -> 0
D15: =IFERROR(INDEX(BuildingInformationTable[Site type],MATCH(BuildingsElectricityTable[[#This Row],[Site name]],BuildingInformationTable[Site name],0)),"") | E15: =IF(B15="", "", "Grid electricity") | F15: =IF(E15="Grid electricity", "Consumption based", "") | H15: =IF(G15="","",INDEX(Lists!$BA$4:$BC$31,MATCH(E15,Lists!$AZ$4:$AZ$31,0),MATCH(G15,Lists!$BA$3:$BC$3,0))) | J15: =IF(I15="", "", "kWh") | K15: {=IF(OR($E15="",$D15="",$I15="",$J15=""),"",IF(J15=L15,I15,(INDEX('Emission factors'!$K$3:$V$201,MATCH(E15&F15,'Emission factors'!$J$3:$J$201&'Emission factors'!$K$3:$K$201,0),MATCH(K$6,'Emission factors'!$K$2:$V$2,0)))*I15))} | L15: =IF(OR($E15="",$D15="",$I15="",$J15=""),"",INDEX('Emission factors'!$K$3:$V$201,MATCH('Buildings - Grid Electricity'!$E15,'Emission factors'!$J$3:$J$201,0),MATCH($L$6,'Emission factors'!$K$2:$V$2,0))) | M15: {=IF(OR(E15="",I15="",BuildingsElectricityTable[[#This Row],[Units]]=""),"",INDEX('Emission factors'!$K$3:$V$201,MATCH('Buildings - Grid Electricity'!$E15&F15,'Emission factors'!$J$3:$J$201&'Emission factors'!$K$3:$K$201,0),MATCH('Buildings - Grid Electricity'!$M$6,'Emission factors'!$K$2:$V$2,0)))} | N15: =IF(OR(K15="",M15=""),"",SUM(BuildingsElectricityTable[[#This Row],[Direct]:[Indirect WTT]])) | Q15: {=IF(OR($E15="",$I15=""),"",(INDEX('Emission factors'!$K$3:$V$201,MATCH('Buildings - Grid Electricity'!$E15&$F15,'Emission factors'!$J$3:$J$201&'Emission factors'!$K$3:$K$201,0),MATCH('Buildings - Grid Electricity'!Q$6,'Emission factors'!$K$2:$V$2,0)))*$K15)} | R15: {=IF(OR($E15="",$I15=""),"",(INDEX('Emission factors'!$K$3:$V$201,MATCH('Buildings - Grid Electricity'!$E15&$F15,'Emission factors'!$J$3:$J$201&'Emission factors'!$K$3:$K$201,0),MATCH('Buildings - Grid Electricity'!R$6,'Emission factors'!$K$2:$V$2,0)))*$K15)} | S15: {=IF(OR($E15="",$I15=""),"",(INDEX('Emission factors'!$K$3:$V$201,MATCH('Buildings - Grid Electricity'!$E15&$F15,'Emission factors'!$J$3:$J$201&'Emission factors'!$K$3:$K$201,0),MATCH('Buildings - Grid Electricity'!S$6,'Emission factors'!$K$2:$V$2,0)))*$K15)} | T15: {=IF(OR($E15="",$I15=""),"",(INDEX('Emission factors'!$K$3:$V$201,MATCH('Buildings - Grid Electricity'!$E15&$F15,'Emission factors'!$J$3:$J$201&'Emission factors'!$K$3:$K$201,0),MATCH('Buildings - Grid Electricity'!T$6,'Emission factors'!$K$2:$V$2,0)))*$K15)} | U15: {=IF(OR($E15="",$I15=""),"",(INDEX('Emission factors'!$K$3:$V$201,MATCH('Buildings - Grid Electricity'!$E15&$F15,'Emission factors'!$J$3:$J$201&'Emission factors'!$K$3:$K$201,0),MATCH('Buildings - Grid Electricity'!U$6,'Emission factors'!$K$2:$V$2,0)))*$K15)} | V15: =IF(OR($N15="",BuildingsElectricityTable[[#This Row],[RSD]]=""),"",BuildingsElectricityTable[[#This Row],[Total emissions (kgCO2e)]]*(1+BuildingsElectricityTable[[#This Row],[RSD]])) | W15: =IF(OR($N15="",BuildingsElectricityTable[[#This Row],[RSD]]=""),"",BuildingsElectricityTable[[#This Row],[Total emissions (kgCO2e)]]*(1-BuildingsElectricityTable[[#This Row],[RSD]])) | X15: {=IF(OR($E15="",$I15=""),"",(INDEX('Emission factors'!$K$3:$V$201,MATCH('Buildings - Grid Electricity'!$E15&$F15,'Emission factors'!$J$3:$J$201&'Emission factors'!$K$3:$K$201,0),MATCH('Buildings - Grid Electricity'!X$6,'Emission factors'!$K$2:$V$2,0)))*$K15)} | Z15: {=IF(OR(ISERROR(B15:X15)),1,0)} -> 0 | AA15: =IF(AND(B15="",E15="",I15="",J15=""),0,1) -> 0
D16: =IFERROR(INDEX(BuildingInformationTable[Site type],MATCH(BuildingsElectricityTable[[#This Row],[Site name]],BuildingInformationTable[Site name],0)),"") | E16: =IF(B16="", "", "Grid electricity") | F16: =IF(E16="Grid electricity", "Consumption based", "") | H16: =IF(G16="","",INDEX(Lists!$BA$4:$BC$31,MATCH(E16,Lists!$AZ$4:$AZ$31,0),MATCH(G16,Lists!$BA$3:$BC$3,0))) | J16: =IF(I16="", "", "kWh") | K16: {=IF(OR($E16="",$D16="",$I16="",$J16=""),"",IF(J16=L16,I16,(INDEX('Emission factors'!$K$3:$V$201,MATCH(E16&F16,'Emission factors'!$J$3:$J$201&'Emission factors'!$K$3:$K$201,0),MATCH(K$6,'Emission factors'!$K$2:$V$2,0)))*I16))} | L16: =IF(OR($E16="",$D16="",$I16="",$J16=""),"",INDEX('Emission factors'!$K$3:$V$201,MATCH('Buildings - Grid Electricity'!$E16,'Emission factors'!$J$3:$J$201,0),MATCH($L$6,'Emission factors'!$K$2:$V$2,0))) | M16: {=IF(OR(E16="",I16="",BuildingsElectricityTable[[#This Row],[Units]]=""),"",INDEX('Emission factors'!$K$3:$V$201,MATCH('Buildings - Grid Electricity'!$E16&F16,'Emission factors'!$J$3:$J$201&'Emission factors'!$K$3:$K$201,0),MATCH('Buildings - Grid Electricity'!$M$6,'Emission factors'!$K$2:$V$2,0)))} | N16: =IF(OR(K16="",M16=""),"",SUM(BuildingsElectricityTable[[#This Row],[Direct]:[Indirect WTT]])) | Q16: {=IF(OR($E16="",$I16=""),"",(INDEX('Emission factors'!$K$3:$V$201,MATCH('Buildings - Grid Electricity'!$E16&$F16,'Emission factors'!$J$3:$J$201&'Emission factors'!$K$3:$K$201,0),MATCH('Buildings - Grid Electricity'!Q$6,'Emission factors'!$K$2:$V$2,0)))*$K16)} | R16: {=IF(OR($E16="",$I16=""),"",(INDEX('Emission factors'!$K$3:$V$201,MATCH('Buildings - Grid Electricity'!$E16&$F16,'Emission factors'!$J$3:$J$201&'Emission factors'!$K$3:$K$201,0),MATCH('Buildings - Grid Electricity'!R$6,'Emission factors'!$K$2:$V$2,0)))*$K16)} | S16: {=IF(OR($E16="",$I16=""),"",(INDEX('Emission factors'!$K$3:$V$201,MATCH('Buildings - Grid Electricity'!$E16&$F16,'Emission factors'!$J$3:$J$201&'Emission factors'!$K$3:$K$201,0),MATCH('Buildings - Grid Electricity'!S$6,'Emission factors'!$K$2:$V$2,0)))*$K16)} | T16: {=IF(OR($E16="",$I16=""),"",(INDEX('Emission factors'!$K$3:$V$201,MATCH('Buildings - Grid Electricity'!$E16&$F16,'Emission factors'!$J$3:$J$201&'Emission factors'!$K$3:$K$201,0),MATCH('Buildings - Grid Electricity'!T$6,'Emission factors'!$K$2:$V$2,0)))*$K16)} | U16: {=IF(OR($E16="",$I16=""),"",(INDEX('Emission factors'!$K$3:$V$201,MATCH('Buildings - Grid Electricity'!$E16&$F16,'Emission factors'!$J$3:$J$201&'Emission factors'!$K$3:$K$201,0),MATCH('Buildings - Grid Electricity'!U$6,'Emission factors'!$K$2:$V$2,0)))*$K16)} | V16: =IF(OR($N16="",BuildingsElectricityTable[[#This Row],[RSD]]=""),"",BuildingsElectricityTable[[#This Row],[Total emissions (kgCO2e)]]*(1+BuildingsElectricityTable[[#This Row],[RSD]])) | W16: =IF(OR($N16="",BuildingsElectricityTable[[#This Row],[RSD]]=""),"",BuildingsElectricityTable[[#This Row],[Total emissions (kgCO2e)]]*(1-BuildingsElectricityTable[[#This Row],[RSD]])) | X16: {=IF(OR($E16="",$I16=""),"",(INDEX('Emission factors'!$K$3:$V$201,MATCH('Buildings - Grid Electricity'!$E16&$F16,'Emission factors'!$J$3:$J$201&'Emission factors'!$K$3:$K$201,0),MATCH('Buildings - Grid Electricity'!X$6,'Emission factors'!$K$2:$V$2,0)))*$K16)} | Z16: {=IF(OR(ISERROR(B16:X16)),1,0)} -> 0 | AA16: =IF(AND(B16="",E16="",I16="",J16=""),0,1) -> 0
