Workbook
Name _RA: Services!$B$16:$E$172
Name _RACol: Services!$B$14:$E$14
Name _RAG: Grants!$B$12:$E$74
Name _RAGCol: Grants!$B$9:$E$9
Name _RAM: #REF!
Name _RAMCol: #REF!
Name _RAS52: Education!$B$18:$O$39
Name _RAS52Col: Education!$B$16:$O$16
Name _tab1: Transfer!$B$1:$G$420
Name address: Details!$E$3:$L$34
Name authority: Details!$A$3:$C$35
Name cap_grant: Grants!$E$78:$E$175
Name CTax_sup: Details!$V$5:$X$26
Name Data: Details!$N$3:$S$34
Name EducCheck: Education!$D$18:$J$39
Name GList: Grants!$A$78:$E$175
Name grant: Grants!$D$78:$D$175
Name GrantCheck: Grants!$D$12:$E$74
Name Grants_Other: Grants!$B$78:$E$175
Name MainCheck: Services!$D$16:$E$169
Name number: Grants!$B$78:$B$175
Name TCheck: Details!#REF!
Name UANumber: Details!$C$1
Name ValRA: Services!$K$16:$AD$170
Name ValRAG: Grants!$G$12:$R$74
Name ValRAS52: Education!$Q$18:$AK$39
Name ValYOY: ValData!$B$3:$Q$218
Name VNum: FrontPage!$N$2
Name vtab: Transfer!$A$2:$G$420
Name Year: Details!$G$1

Sheet FrontPage
C2: =Text!G4&", "&Details!H1 -> Revenue Account Return, 2026-27 | M2: RA | N2: 1
E5: 2
D7: =Text!G5 -> Please select your authority and if necessary, amend any incorrect details
F9: 1
F11: =IF(UANumber=0,"",VLOOKUP(UANumber,address,3,FALSE))
F12: =IF(UANumber=0,"",VLOOKUP(UANumber,address,4,FALSE))
F13: =IF(UANumber=0,"",VLOOKUP(UANumber,address,5,FALSE))
F14: =IF(UANumber=0,"",VLOOKUP(UANumber,address,6,FALSE))
F15: =IF(UANumber=0,"",VLOOKUP(UANumber,address,7,FALSE))
F16: =IF(UANumber=0,"",VLOOKUP(UANumber,address,8,FALSE))
F19: =Text!G6&" " -> Name:
F21: =Text!G7&" " -> E-mail (please enter N/A if unavailable):
F23: =Text!G8&" " -> Telephone:
C26: =Text!G25 -> Information specified on this return must be submitted under section 139A of the 1988 Local Government Finance Act (as inserted by paragraph 68 of schedule 5 to the Local Government and Housing Act 1989)
C28: =Text!G10&" "&Details!B42 -> The latest date for return is 3 April 2026
D31: =Text!G12 -> It is a Welsh Government audit requirement that all cells are completed. Please ensure that all blank cells are populated with zeros, those that are not will be assumed to be zero.
D32: =Text!G11 -> Any queries on completion of the form or spreadsheet should be directed in the first instance, via telephone or e-mail, as directed below:
D35: =Text!G13 -> Local Government Financial Statistics Unit,
D36: =Text!G14 -> Welsh Government,
D37: =Text!G15 -> CP2,
D38: =Text!G16 -> Cathays Park,
D39: =Text!G17 -> CARDIFF,
D40: =Text!G18 -> CF10 3NQ.
C41: =Text!G19 -> E-mail: | F41: =Text!G20 -> lgfs.transfer@gov.wales
C42: =Text!G21 -> Telephone: | F42: Frank Kelly 0300 025 5673 / Jack Tennant 300 025 9221

Sheet Education
B2: ="RA (S52) "&FrontPage!C2 -> RA (S52) Revenue Account Return, 2026-27
A4: =Text!G27 -> Authority
A5: =Details!D1 -> Please select your authority | D5: =Text!G25 -> Information specified on this return must be submitted under section 139A of the 1988 Local Government Finance Act (as inserted by paragraph 68 of schedule 5 to the Local Government and Housing Act 1989) | H5: =Text!G26 -> Information recorded in respect of education services should include that budgeted to be funded by specific and special government grants but exclude that budgeted to be funded by other non-grant income. The grants themselves should be recorded in column 6.1 to 7
W9: =ValData!AP67 -> Default Tolerance Levels
W10: =ValData!AP53 -> Value | X10: 50
A11: =UANumber -> 0 | W11: ="% "&ValData!AP42 -> % tolerance: | X11: 0
B14: =Text!G31 -> Non-FRS17 | J14: =Text!G29 -> GRANTS (record as negative) | O14: =Text!G30 -> £ thousand | AD14: =X16 -> 202526 | AE14: =Y16 -> 202627 | AG14: =SUM(AG17:AG40) -> #N/A | AH14: =SUM(AH17:AH40) -> 0 | AI14: =SUM(AI17:AI40) -> 0
B15: RA | D15: =Text!G34 -> Nursery schools | E15: =Text!G35 -> Primary schools | F15: =Text!G36 -> Secondary schools | G15: =Text!G37 -> Special schools | H15: =Text!G38 -> Middle schools | I15: =Text!G39 -> Budget Estimates (at outturn prices) | J15: =Text!G40 -> Grants Nursery schools | K15: =Text!G41 -> Grants Primary schools | L15: =Text!G42 -> Grants Secondary schools | M15: =Text!G43 -> Grants Special schools | N15: =Text!G44 -> Grants Middle schools | O15: =Text!G45 -> Total Grants | W15: =ValData!AP47 -> YOY Figures | Z15: =ValData!AP52 -> Tolerance Levels | AB15: =ValData!AP41 -> difference | AF15: =ValData!AP32 -> type | AG15: =ValData!AP33 -> auto | AH15: =ValData!AP34 -> mark | AI15: =ValData!AP35 -> check | AJ15: =ValData!AP36 -> status
B16: =Text!G32 -> Line | C16: =Text!G33 -> Description | D16: 0.10 | E16: 1.00 | F16: 2.00 | G16: 3.00 | H16: 3.50 | I16: 4.00 | J16: 6.10 | K16: 6.20 | L16: 6.30 | M16: 6.40 | N16: 6.50 | O16: 7.00 | W16: =X16-101 -> 202425 | X16: =Y16-101 -> 202526 | Y16: =Year -> 202627 | Z16: =AB16 -> value | AA16: % | AB16: =ValData!AP31 -> value | AC16: % | AK16: =ValData!AP37 -> Your comments
B18: 1 | C18: =Text!G46 -> Individual School's budget and other funding devolved to schools | D18: 0 | E18: 0 | F18: 0 | G18: 0 | H18: 0 | I18: =SUM(D18:H18) -> 0 | J18: 0 | K18: 0 | L18: 0 | M18: 0 | N18: 0 | O18: =SUM(J18:N18) -> 0 | Q18: =B18 -> 1 | W18: =VLOOKUP("RAS52"&"_"&UANumber&"_"&$B18&"_"&4&"_"&W$16,ValData!$AE$4:$AL$13475,8,FALSE) -> #N/A | X18: =VLOOKUP("RAS52"&"_"&UANumber&"_"&$B18&"_"&4&"_"&X$16,ValData!$AE$4:$AL$13475,8,FALSE) -> #N/A | Y18: =I18 -> 0 | Z18: =IF(VLOOKUP("RAS52"&"_"&$B18,ValData!$AS$4:$AV$253,3,FALSE)<>"",VLOOKUP("RAS52"&"_"&$B18,ValData!$AS$4:$AV$253,3,FALSE),$X$10) -> 50 | AA18: =IF(VLOOKUP("RAS52"&"_"&$B18,ValData!$AS$4:$AV$253,4,FALSE)<>"",VLOOKUP("RAS52"&"_"&$B18,ValData!$AS$4:$AV$253,4,FALSE),$X$11) -> 0 | AB18: =Y18-X18 -> #N/A | AC18: =IF(OR(X18=0,Y18=0),0,AB18/X18*100) -> #N/A | AD18: =IF(X18=0,1,"") -> #N/A | AE18: =IF(Y18=0,1,"") -> 1 | AF18: =IF(SUM(AD18:AE18)=2,"",IF(AND(SUM(AD18:AE18)=1,ABS(ROUND(AB18,2))>Z18),9,IF(AND(ABS(ROUND(AB18,2))>Z18,ABS(ROUND(AC18,2))>AA18),3,IF(ABS(ROUND(AC18,2))>AA18,2,IF(ABS(ROUND(AB18,2))>Z18,1,""))))) -> #N/A | AG18: =IF(OR(AF18=3,AF18=9),1,"") -> #N/A | AI18: =IF(AJ18="C","",IF(AH18=1,1,""))
B19: 4 | C19: =Text!G47 -> Additional learning needs | D19: 0 | E19: 0 | F19: 0 | G19: 0 | H19: 0 | I19: =SUM(D19:H19) -> 0 | J19: 0 | K19: 0 | L19: 0 | M19: 0 | N19: 0 | O19: =SUM(J19:N19) -> 0 | Q19: =B19 -> 4 | W19: =VLOOKUP("RAS52"&"_"&UANumber&"_"&$B19&"_"&4&"_"&W$16,ValData!$AE$4:$AL$13475,8,FALSE) -> #N/A | X19: =VLOOKUP("RAS52"&"_"&UANumber&"_"&$B19&"_"&4&"_"&X$16,ValData!$AE$4:$AL$13475,8,FALSE) -> #N/A | Y19: =I19 -> 0 | Z19: =IF(VLOOKUP("RAS52"&"_"&$B19,ValData!$AS$4:$AV$253,3,FALSE)<>"",VLOOKUP("RAS52"&"_"&$B19,ValData!$AS$4:$AV$253,3,FALSE),$X$10) -> 700 | AA19: =IF(VLOOKUP("RAS52"&"_"&$B19,ValData!$AS$4:$AV$253,4,FALSE)<>"",VLOOKUP("RAS52"&"_"&$B19,ValData!$AS$4:$AV$253,4,FALSE),$X$11) -> 0 | AB19: =Y19-X19 -> #N/A | AC19: =IF(OR(X19=0,Y19=0),0,AB19/X19*100) -> #N/A | AD19: =IF(X19=0,1,"") -> #N/A | AE19: =IF(Y19=0,1,"") -> 1 | AF19: =IF(SUM(AD19:AE19)=2,"",IF(AND(SUM(AD19:AE19)=1,ABS(ROUND(AB19,2))>Z19),9,IF(AND(ABS(ROUND(AB19,2))>Z19,ABS(ROUND(AC19,2))>AA19),3,IF(ABS(ROUND(AC19,2))>AA19,2,IF(ABS(ROUND(AB19,2))>Z19,1,""))))) -> #N/A | AG19: =IF(OR(AF19=3,AF19=9),1,"") -> #N/A | AI19: =IF(AJ19="C","",IF(AH19=1,1,""))
B20: 4.1 | C20: =Text!G48 -> Inter authority recoupment | D20: 0 | E20: 0 | F20: 0 | G20: 0 | H20: 0 | I20: =SUM(D20:H20) -> 0 | J20: 0 | K20: 0 | L20: 0 | M20: 0 | N20: 0 | O20: =SUM(J20:N20) -> 0 | Q20: =B20 -> 4.1 | W20: =VLOOKUP("RAS52"&"_"&UANumber&"_"&$B20&"_"&4&"_"&W$16,ValData!$AE$4:$AL$13475,8,FALSE) -> #N/A | X20: =VLOOKUP("RAS52"&"_"&UANumber&"_"&$B20&"_"&4&"_"&X$16,ValData!$AE$4:$AL$13475,8,FALSE) -> #N/A | Y20: =I20 -> 0 | Z20: =IF(VLOOKUP("RAS52"&"_"&$B20,ValData!$AS$4:$AV$253,3,FALSE)<>"",VLOOKUP("RAS52"&"_"&$B20,ValData!$AS$4:$AV$253,3,FALSE),$X$10) -> 900 | AA20: =IF(VLOOKUP("RAS52"&"_"&$B20,ValData!$AS$4:$AV$253,4,FALSE)<>"",VLOOKUP("RAS52"&"_"&$B20,ValData!$AS$4:$AV$253,4,FALSE),$X$11) -> 0 | AB20: =Y20-X20 -> #N/A | AC20: =IF(OR(X20=0,Y20=0),0,AB20/X20*100) -> #N/A | AD20: =IF(X20=0,1,"") -> #N/A | AE20: =IF(Y20=0,1,"") -> 1 | AF20: =IF(SUM(AD20:AE20)=2,"",IF(AND(SUM(AD20:AE20)=1,ABS(ROUND(AB20,2))>Z20),9,IF(AND(ABS(ROUND(AB20,2))>Z20,ABS(ROUND(AC20,2))>AA20),3,IF(ABS(ROUND(AC20,2))>AA20,2,IF(ABS(ROUND(AB20,2))>Z20,1,""))))) -> #N/A | AG20: =IF(OR(AF20=3,AF20=9),1,"") -> #N/A | AI20: =IF(AJ20="C","",IF(AH20=1,1,""))
B21: 5 | C21: =Text!G49 -> Staff | D21: 0 | E21: 0 | F21: 0 | G21: 0 | H21: 0 | I21: =SUM(D21:H21) -> 0 | J21: 0 | K21: 0 | L21: 0 | M21: 0 | N21: 0 | O21: =SUM(J21:N21) -> 0 | Q21: =B21 -> 5 | W21: =VLOOKUP("RAS52"&"_"&UANumber&"_"&$B21&"_"&4&"_"&W$16,ValData!$AE$4:$AL$13475,8,FALSE) -> #N/A | X21: =VLOOKUP("RAS52"&"_"&UANumber&"_"&$B21&"_"&4&"_"&X$16,ValData!$AE$4:$AL$13475,8,FALSE) -> #N/A | Y21: =I21 -> 0 | Z21: =IF(VLOOKUP("RAS52"&"_"&$B21,ValData!$AS$4:$AV$253,3,FALSE)<>"",VLOOKUP("RAS52"&"_"&$B21,ValData!$AS$4:$AV$253,3,FALSE),$X$10) -> 50 | AA21: =IF(VLOOKUP("RAS52"&"_"&$B21,ValData!$AS$4:$AV$253,4,FALSE)<>"",VLOOKUP("RAS52"&"_"&$B21,ValData!$AS$4:$AV$253,4,FALSE),$X$11) -> 0 | AB21: =Y21-X21 -> #N/A | AC21: =IF(OR(X21=0,Y21=0),0,AB21/X21*100) -> #N/A | AD21: =IF(X21=0,1,"") -> #N/A | AE21: =IF(Y21=0,1,"") -> 1 | AF21: =IF(SUM(AD21:AE21)=2,"",IF(AND(SUM(AD21:AE21)=1,ABS(ROUND(AB21,2))>Z21),9,IF(AND(ABS(ROUND(AB21,2))>Z21,ABS(ROUND(AC21,2))>AA21),3,IF(ABS(ROUND(AC21,2))>AA21,2,IF(ABS(ROUND(AB21,2))>Z21,1,""))))) -> #N/A | AG21: =IF(OR(AF21=3,AF21=9),1,"") -> #N/A | AI21: =IF(AJ21="C","",IF(AH21=1,1,""))
B22: 6 | C22: =Text!G50 -> Other Schools budget | D22: 0 | E22: 0 | F22: 0 | G22: 0 | H22: 0 | I22: =SUM(D22:H22) -> 0 | J22: 0 | K22: 0 | L22: 0 | M22: 0 | N22: 0 | O22: =SUM(J22:N22) -> 0 | Q22: =B22 -> 6 | W22: =VLOOKUP("RAS52"&"_"&UANumber&"_"&$B22&"_"&4&"_"&W$16,ValData!$AE$4:$AL$13475,8,FALSE) -> #N/A | X22: =VLOOKUP("RAS52"&"_"&UANumber&"_"&$B22&"_"&4&"_"&X$16,ValData!$AE$4:$AL$13475,8,FALSE) -> #N/A | Y22: =I22 -> 0 | Z22: =IF(VLOOKUP("RAS52"&"_"&$B22,ValData!$AS$4:$AV$253,3,FALSE)<>"",VLOOKUP("RAS52"&"_"&$B22,ValData!$AS$4:$AV$253,3,FALSE),$X$10) -> 50 | AA22: =IF(VLOOKUP("RAS52"&"_"&$B22,ValData!$AS$4:$AV$253,4,FALSE)<>"",VLOOKUP("RAS52"&"_"&$B22,ValData!$AS$4:$AV$253,4,FALSE),$X$11) -> 0 | AB22: =Y22-X22 -> #N/A | AC22: =IF(OR(X22=0,Y22=0),0,AB22/X22*100) -> #N/A | AD22: =IF(X22=0,1,"") -> #N/A | AE22: =IF(Y22=0,1,"") -> 1 | AF22: =IF(SUM(AD22:AE22)=2,"",IF(AND(SUM(AD22:AE22)=1,ABS(ROUND(AB22,2))>Z22),9,IF(AND(ABS(ROUND(AB22,2))>Z22,ABS(ROUND(AC22,2))>AA22),3,IF(ABS(ROUND(AC22,2))>AA22,2,IF(ABS(ROUND(AB22,2))>Z22,1,""))))) -> #N/A | AG22: =IF(OR(AF22=3,AF22=9),1,"") -> #N/A | AI22: =IF(AJ22="C","",IF(AH22=1,1,""))
B23: 6.1 | C23: =Text!G51 -> Capital expenditure charged to revenue account | D23: 0 | E23: 0 | F23: 0 | G23: 0 | H23: 0 | I23: =SUM(D23:H23) -> 0 | J23: 0 | K23: 0 | L23: 0 | M23: 0 | N23: 0 | O23: =SUM(J23:N23) -> 0 | Q23: =B23 -> 6.1 | W23: =VLOOKUP("RAS52"&"_"&UANumber&"_"&$B23&"_"&4&"_"&W$16,ValData!$AE$4:$AL$13475,8,FALSE) -> #N/A | X23: =VLOOKUP("RAS52"&"_"&UANumber&"_"&$B23&"_"&4&"_"&X$16,ValData!$AE$4:$AL$13475,8,FALSE) -> #N/A | Y23: =I23 -> 0 | Z23: =IF(VLOOKUP("RAS52"&"_"&$B23,ValData!$AS$4:$AV$253,3,FALSE)<>"",VLOOKUP("RAS52"&"_"&$B23,ValData!$AS$4:$AV$253,3,FALSE),$X$10) -> 50 | AA23: =IF(VLOOKUP("RAS52"&"_"&$B23,ValData!$AS$4:$AV$253,4,FALSE)<>"",VLOOKUP("RAS52"&"_"&$B23,ValData!$AS$4:$AV$253,4,FALSE),$X$11) -> 0 | AB23: =Y23-X23 -> #N/A | AC23: =IF(OR(X23=0,Y23=0),0,AB23/X23*100) -> #N/A | AD23: =IF(X23=0,1,"") -> #N/A | AE23: =IF(Y23=0,1,"") -> 1 | AF23: =IF(SUM(AD23:AE23)=2,"",IF(AND(SUM(AD23:AE23)=1,ABS(ROUND(AB23,2))>Z23),9,IF(AND(ABS(ROUND(AB23,2))>Z23,ABS(ROUND(AC23,2))>AA23),3,IF(ABS(ROUND(AC23,2))>AA23,2,IF(ABS(ROUND(AB23,2))>Z23,1,""))))) -> #N/A | AG23: =IF(OR(AF23=3,AF23=9),1,"") -> #N/A | AI23: =IF(AJ23="C","",IF(AH23=1,1,""))
B24: 7 | C24: =Text!G52 -> Schools budget (lines 1 to 6.1) | D24: =SUM(D18:D23) -> 0 | E24: =SUM(E18:E23) -> 0 | F24: =SUM(F18:F23) -> 0 | G24: =SUM(G18:G23) -> 0 | H24: =SUM(H18:H23) -> 0 | I24: =SUM(D24:H24) -> 0 | J24: =SUM(J18:J23) -> 0 | K24: =SUM(K18:K23) -> 0 | L24: =SUM(L18:L23) -> 0 | M24: =SUM(M18:M23) -> 0 | N24: =SUM(N18:N23) -> 0 | O24: =SUM(J24:N24) -> 0 | Q24: =B24 -> 7 | W24: =VLOOKUP("RAS52"&"_"&UANumber&"_"&$B24&"_"&4&"_"&W$16,ValData!$AE$4:$AL$13475,8,FALSE) -> #N/A | X24: =VLOOKUP("RAS52"&"_"&UANumber&"_"&$B24&"_"&4&"_"&X$16,ValData!$AE$4:$AL$13475,8,FALSE) -> #N/A | Y24: =I24 -> 0 | Z24: =IF(VLOOKUP("RAS52"&"_"&$B24,ValData!$AS$4:$AV$253,3,FALSE)<>"",VLOOKUP("RAS52"&"_"&$B24,ValData!$AS$4:$AV$253,3,FALSE),$X$10) -> 50 | AA24: =IF(VLOOKUP("RAS52"&"_"&$B24,ValData!$AS$4:$AV$253,4,FALSE)<>"",VLOOKUP("RAS52"&"_"&$B24,ValData!$AS$4:$AV$253,4,FALSE),$X$11) -> 0 | AB24: =Y24-X24 -> #N/A | AC24: =IF(OR(X24=0,Y24=0),0,AB24/X24*100) -> #N/A | AD24: =IF(X24=0,1,"") -> #N/A | AE24: =IF(Y24=0,1,"") -> 1 | AF24: =IF(SUM(AD24:AE24)=2,"",IF(AND(SUM(AD24:AE24)=1,ABS(ROUND(AB24,2))>Z24),9,IF(AND(ABS(ROUND(AB24,2))>Z24,ABS(ROUND(AC24,2))>AA24),3,IF(ABS(ROUND(AC24,2))>AA24,2,IF(ABS(ROUND(AB24,2))>Z24,1,""))))) -> #N/A | AG24: =IF(OR(AF24=3,AF24=9),1,"") -> #N/A | AI24: =IF(AJ24="C","",IF(AH24=1,1,""))
B25: 8 | C25: =Text!G53 -> Additional learning needs | I25: 0 | O25: 0 | Q25: =B25 -> 8 | W25: =VLOOKUP("RAS52"&"_"&UANumber&"_"&$B25&"_"&4&"_"&W$16,ValData!$AE$4:$AL$13475,8,FALSE) -> #N/A | X25: =VLOOKUP("RAS52"&"_"&UANumber&"_"&$B25&"_"&4&"_"&X$16,ValData!$AE$4:$AL$13475,8,FALSE) -> #N/A | Y25: =I25 -> 0 | Z25: =IF(VLOOKUP("RAS52"&"_"&$B25,ValData!$AS$4:$AV$253,3,FALSE)<>"",VLOOKUP("RAS52"&"_"&$B25,ValData!$AS$4:$AV$253,3,FALSE),$X$10) -> 50 | AA25: =IF(VLOOKUP("RAS52"&"_"&$B25,ValData!$AS$4:$AV$253,4,FALSE)<>"",VLOOKUP("RAS52"&"_"&$B25,ValData!$AS$4:$AV$253,4,FALSE),$X$11) -> 0 | AB25: =Y25-X25 -> #N/A | AC25: =IF(OR(X25=0,Y25=0),0,AB25/X25*100) -> #N/A | AD25: =IF(X25=0,1,"") -> #N/A | AE25: =IF(Y25=0,1,"") -> 1 | AF25: =IF(SUM(AD25:AE25)=2,"",IF(AND(SUM(AD25:AE25)=1,ABS(ROUND(AB25,2))>Z25),9,IF(AND(ABS(ROUND(AB25,2))>Z25,ABS(ROUND(AC25,2))>AA25),3,IF(ABS(ROUND(AC25,2))>AA25,2,IF(ABS(ROUND(AB25,2))>Z25,1,""))))) -> #N/A | AG25: =IF(OR(AF25=3,AF25=9),1,"") -> #N/A | AI25: =IF(AJ25="C","",IF(AH25=1,1,""))
B26: 9 | C26: =Text!G54 -> School improvement | I26: 0 | O26: 0 | Q26: =B26 -> 9 | W26: =VLOOKUP("RAS52"&"_"&UANumber&"_"&$B26&"_"&4&"_"&W$16,ValData!$AE$4:$AL$13475,8,FALSE) -> #N/A | X26: =VLOOKUP("RAS52"&"_"&UANumber&"_"&$B26&"_"&4&"_"&X$16,ValData!$AE$4:$AL$13475,8,FALSE) -> #N/A | Y26: =I26 -> 0 | Z26: =IF(VLOOKUP("RAS52"&"_"&$B26,ValData!$AS$4:$AV$253,3,FALSE)<>"",VLOOKUP("RAS52"&"_"&$B26,ValData!$AS$4:$AV$253,3,FALSE),$X$10) -> 500 | AA26: =IF(VLOOKUP("RAS52"&"_"&$B26,ValData!$AS$4:$AV$253,4,FALSE)<>"",VLOOKUP("RAS52"&"_"&$B26,ValData!$AS$4:$AV$253,4,FALSE),$X$11) -> 0 | AB26: =Y26-X26 -> #N/A | AC26: =IF(OR(X26=0,Y26=0),0,AB26/X26*100) -> #N/A | AD26: =IF(X26=0,1,"") -> #N/A | AE26: =IF(Y26=0,1,"") -> 1 | AF26: =IF(SUM(AD26:AE26)=2,"",IF(AND(SUM(AD26:AE26)=1,ABS(ROUND(AB26,2))>Z26),9,IF(AND(ABS(ROUND(AB26,2))>Z26,ABS(ROUND(AC26,2))>AA26),3,IF(ABS(ROUND(AC26,2))>AA26,2,IF(ABS(ROUND(AB26,2))>Z26,1,""))))) -> #N/A | AG26: =IF(OR(AF26=3,AF26=9),1,"") -> #N/A | AI26: =IF(AJ26="C","",IF(AH26=1,1,""))
B27: 10.1 | C27: =Text!G55 -> Access to education (excluding transport) - schools | I27: 0 | O27: 0 | Q27: =B27 -> 10.1 | W27: =VLOOKUP("RAS52"&"_"&UANumber&"_"&$B27&"_"&4&"_"&W$16,ValData!$AE$4:$AL$13475,8,FALSE) -> #N/A | X27: =VLOOKUP("RAS52"&"_"&UANumber&"_"&$B27&"_"&4&"_"&X$16,ValData!$AE$4:$AL$13475,8,FALSE) -> #N/A | Y27: =I27 -> 0 | Z27: =IF(VLOOKUP("RAS52"&"_"&$B27,ValData!$AS$4:$AV$253,3,FALSE)<>"",VLOOKUP("RAS52"&"_"&$B27,ValData!$AS$4:$AV$253,3,FALSE),$X$10) -> 400 | AA27: =IF(VLOOKUP("RAS52"&"_"&$B27,ValData!$AS$4:$AV$253,4,FALSE)<>"",VLOOKUP("RAS52"&"_"&$B27,ValData!$AS$4:$AV$253,4,FALSE),$X$11) -> 0 | AB27: =Y27-X27 -> #N/A | AC27: =IF(OR(X27=0,Y27=0),0,AB27/X27*100) -> #N/A | AD27: =IF(X27=0,1,"") -> #N/A | AE27: =IF(Y27=0,1,"") -> 1 | AF27: =IF(SUM(AD27:AE27)=2,"",IF(AND(SUM(AD27:AE27)=1,ABS(ROUND(AB27,2))>Z27),9,IF(AND(ABS(ROUND(AB27,2))>Z27,ABS(ROUND(AC27,2))>AA27),3,IF(ABS(ROUND(AC27,2))>AA27,2,IF(ABS(ROUND(AB27,2))>Z27,1,""))))) -> #N/A | AG27: =IF(OR(AF27=3,AF27=9),1,"") -> #N/A | AI27: =IF(AJ27="C","",IF(AH27=1,1,""))
B28: 10.2 | C28: =Text!G56 -> Access to education (excluding transport) - non-school | I28: 0 | O28: 0 | Q28: =B28 -> 10.2 | W28: =VLOOKUP("RAS52"&"_"&UANumber&"_"&$B28&"_"&4&"_"&W$16,ValData!$AE$4:$AL$13475,8,FALSE) -> #N/A | X28: =VLOOKUP("RAS52"&"_"&UANumber&"_"&$B28&"_"&4&"_"&X$16,ValData!$AE$4:$AL$13475,8,FALSE) -> #N/A | Y28: =I28 -> 0 | Z28: =IF(VLOOKUP("RAS52"&"_"&$B28,ValData!$AS$4:$AV$253,3,FALSE)<>"",VLOOKUP("RAS52"&"_"&$B28,ValData!$AS$4:$AV$253,3,FALSE),$X$10) -> 400 | AA28: =IF(VLOOKUP("RAS52"&"_"&$B28,ValData!$AS$4:$AV$253,4,FALSE)<>"",VLOOKUP("RAS52"&"_"&$B28,ValData!$AS$4:$AV$253,4,FALSE),$X$11) -> 0 | AB28: =Y28-X28 -> #N/A | AC28: =IF(OR(X28=0,Y28=0),0,AB28/X28*100) -> #N/A | AD28: =IF(X28=0,1,"") -> #N/A | AE28: =IF(Y28=0,1,"") -> 1 | AF28: =IF(SUM(AD28:AE28)=2,"",IF(AND(SUM(AD28:AE28)=1,ABS(ROUND(AB28,2))>Z28),9,IF(AND(ABS(ROUND(AB28,2))>Z28,ABS(ROUND(AC28,2))>AA28),3,IF(ABS(ROUND(AC28,2))>AA28,2,IF(ABS(ROUND(AB28,2))>Z28,1,""))))) -> #N/A | AG28: =IF(OR(AF28=3,AF28=9),1,"") -> #N/A | AI28: =IF(AJ28="C","",IF(AH28=1,1,""))
B29: 11 | C29: =Text!G57 -> Home to school transport | I29: 0 | O29: 0 | Q29: =B29 -> 11 | W29: =VLOOKUP("RAS52"&"_"&UANumber&"_"&$B29&"_"&4&"_"&W$16,ValData!$AE$4:$AL$13475,8,FALSE) -> #N/A | X29: =VLOOKUP("RAS52"&"_"&UANumber&"_"&$B29&"_"&4&"_"&X$16,ValData!$AE$4:$AL$13475,8,FALSE) -> #N/A | Y29: =I29 -> 0 | Z29: =IF(VLOOKUP("RAS52"&"_"&$B29,ValData!$AS$4:$AV$253,3,FALSE)<>"",VLOOKUP("RAS52"&"_"&$B29,ValData!$AS$4:$AV$253,3,FALSE),$X$10) -> 300 | AA29: =IF(VLOOKUP("RAS52"&"_"&$B29,ValData!$AS$4:$AV$253,4,FALSE)<>"",VLOOKUP("RAS52"&"_"&$B29,ValData!$AS$4:$AV$253,4,FALSE),$X$11) -> 0 | AB29: =Y29-X29 -> #N/A | AC29: =IF(OR(X29=0,Y29=0),0,AB29/X29*100) -> #N/A | AD29: =IF(X29=0,1,"") -> #N/A | AE29: =IF(Y29=0,1,"") -> 1 | AF29: =IF(SUM(AD29:AE29)=2,"",IF(AND(SUM(AD29:AE29)=1,ABS(ROUND(AB29,2))>Z29),9,IF(AND(ABS(ROUND(AB29,2))>Z29,ABS(ROUND(AC29,2))>AA29),3,IF(ABS(ROUND(AC29,2))>AA29,2,IF(ABS(ROUND(AB29,2))>Z29,1,""))))) -> #N/A | AG29: =IF(OR(AF29=3,AF29=9),1,"") -> #N/A | AI29: =IF(AJ29="C","",IF(AH29=1,1,""))
B30: 12 | C30: =Text!G58 -> Home to college transport | I30: 0 | O30: 0 | Q30: =B30 -> 12 | W30: =VLOOKUP("RAS52"&"_"&UANumber&"_"&$B30&"_"&4&"_"&W$16,ValData!$AE$4:$AL$13475,8,FALSE) -> #N/A | X30: =VLOOKUP("RAS52"&"_"&UANumber&"_"&$B30&"_"&4&"_"&X$16,ValData!$AE$4:$AL$13475,8,FALSE) -> #N/A | Y30: =I30 -> 0 | Z30: =IF(VLOOKUP("RAS52"&"_"&$B30,ValData!$AS$4:$AV$253,3,FALSE)<>"",VLOOKUP("RAS52"&"_"&$B30,ValData!$AS$4:$AV$253,3,FALSE),$X$10) -> 150 | AA30: =IF(VLOOKUP("RAS52"&"_"&$B30,ValData!$AS$4:$AV$253,4,FALSE)<>"",VLOOKUP("RAS52"&"_"&$B30,ValData!$AS$4:$AV$253,4,FALSE),$X$11) -> 0 | AB30: =Y30-X30 -> #N/A | AC30: =IF(OR(X30=0,Y30=0),0,AB30/X30*100) -> #N/A | AD30: =IF(X30=0,1,"") -> #N/A | AE30: =IF(Y30=0,1,"") -> 1 | AF30: =IF(SUM(AD30:AE30)=2,"",IF(AND(SUM(AD30:AE30)=1,ABS(ROUND(AB30,2))>Z30),9,IF(AND(ABS(ROUND(AB30,2))>Z30,ABS(ROUND(AC30,2))>AA30),3,IF(ABS(ROUND(AC30,2))>AA30,2,IF(ABS(ROUND(AB30,2))>Z30,1,""))))) -> #N/A | AG30: =IF(OR(AF30=3,AF30=9),1,"") -> #N/A | AI30: =IF(AJ30="C","",IF(AH30=1,1,""))
B31: 13.1 | C31: =Text!G59 -> Further education and training for young persons and adults (excluding Youth Service) | I31: 0 | O31: 0 | Q31: =B31 -> 13.1 | W31: =VLOOKUP("RAS52"&"_"&UANumber&"_"&$B31&"_"&4&"_"&W$16,ValData!$AE$4:$AL$13475,8,FALSE) -> #N/A | X31: =VLOOKUP("RAS52"&"_"&UANumber&"_"&$B31&"_"&4&"_"&X$16,ValData!$AE$4:$AL$13475,8,FALSE) -> #N/A | Y31: =I31 -> 0 | Z31: =IF(VLOOKUP("RAS52"&"_"&$B31,ValData!$AS$4:$AV$253,3,FALSE)<>"",VLOOKUP("RAS52"&"_"&$B31,ValData!$AS$4:$AV$253,3,FALSE),$X$10) -> 500 | AA31: =IF(VLOOKUP("RAS52"&"_"&$B31,ValData!$AS$4:$AV$253,4,FALSE)<>"",VLOOKUP("RAS52"&"_"&$B31,ValData!$AS$4:$AV$253,4,FALSE),$X$11) -> 0 | AB31: =Y31-X31 -> #N/A | AC31: =IF(OR(X31=0,Y31=0),0,AB31/X31*100) -> #N/A | AD31: =IF(X31=0,1,"") -> #N/A | AE31: =IF(Y31=0,1,"") -> 1 | AF31: =IF(SUM(AD31:AE31)=2,"",IF(AND(SUM(AD31:AE31)=1,ABS(ROUND(AB31,2))>Z31),9,IF(AND(ABS(ROUND(AB31,2))>Z31,ABS(ROUND(AC31,2))>AA31),3,IF(ABS(ROUND(AC31,2))>AA31,2,IF(ABS(ROUND(AB31,2))>Z31,1,""))))) -> #N/A | AG31: =IF(OR(AF31=3,AF31=9),1,"") -> #N/A | AI31: =IF(AJ31="C","",IF(AH31=1,1,""))
B32: 13.2 | C32: =Text!G60 -> Youth service | I32: 0 | O32: 0 | Q32: =B32 -> 13.2 | W32: =VLOOKUP("RAS52"&"_"&UANumber&"_"&$B32&"_"&4&"_"&W$16,ValData!$AE$4:$AL$13475,8,FALSE) -> #N/A | X32: =VLOOKUP("RAS52"&"_"&UANumber&"_"&$B32&"_"&4&"_"&X$16,ValData!$AE$4:$AL$13475,8,FALSE) -> #N/A | Y32: =I32 -> 0 | Z32: =IF(VLOOKUP("RAS52"&"_"&$B32,ValData!$AS$4:$AV$253,3,FALSE)<>"",VLOOKUP("RAS52"&"_"&$B32,ValData!$AS$4:$AV$253,3,FALSE),$X$10) -> 500 | AA32: =IF(VLOOKUP("RAS52"&"_"&$B32,ValData!$AS$4:$AV$253,4,FALSE)<>"",VLOOKUP("RAS52"&"_"&$B32,ValData!$AS$4:$AV$253,4,FALSE),$X$11) -> 0 | AB32: =Y32-X32 -> #N/A | AC32: =IF(OR(X32=0,Y32=0),0,AB32/X32*100) -> #N/A | AD32: =IF(X32=0,1,"") -> #N/A | AE32: =IF(Y32=0,1,"") -> 1 | AF32: =IF(SUM(AD32:AE32)=2,"",IF(AND(SUM(AD32:AE32)=1,ABS(ROUND(AB32,2))>Z32),9,IF(AND(ABS(ROUND(AB32,2))>Z32,ABS(ROUND(AC32,2))>AA32),3,IF(ABS(ROUND(AC32,2))>AA32,2,IF(ABS(ROUND(AB32,2))>Z32,1,""))))) -> #N/A | AG32: =IF(OR(AF32=3,AF32=9),1,"") -> #N/A | AI32: =IF(AJ32="C","",IF(AH32=1,1,""))
B33: 14.1 | C33: =Text!G61 -> Strategic management - schools | I33: 0 | O33: 0 | Q33: =B33 -> 14.1 | W33: =VLOOKUP("RAS52"&"_"&UANumber&"_"&$B33&"_"&4&"_"&W$16,ValData!$AE$4:$AL$13475,8,FALSE) -> #N/A | X33: =VLOOKUP("RAS52"&"_"&UANumber&"_"&$B33&"_"&4&"_"&X$16,ValData!$AE$4:$AL$13475,8,FALSE) -> #N/A | Y33: =I33 -> 0 | Z33: =IF(VLOOKUP("RAS52"&"_"&$B33,ValData!$AS$4:$AV$253,3,FALSE)<>"",VLOOKUP("RAS52"&"_"&$B33,ValData!$AS$4:$AV$253,3,FALSE),$X$10) -> 500 | AA33: =IF(VLOOKUP("RAS52"&"_"&$B33,ValData!$AS$4:$AV$253,4,FALSE)<>"",VLOOKUP("RAS52"&"_"&$B33,ValData!$AS$4:$AV$253,4,FALSE),$X$11) -> 0 | AB33: =Y33-X33 -> #N/A | AC33: =IF(OR(X33=0,Y33=0),0,AB33/X33*100) -> #N/A | AD33: =IF(X33=0,1,"") -> #N/A | AE33: =IF(Y33=0,1,"") -> 1 | AF33: =IF(SUM(AD33:AE33)=2,"",IF(AND(SUM(AD33:AE33)=1,ABS(ROUND(AB33,2))>Z33),9,IF(AND(ABS(ROUND(AB33,2))>Z33,ABS(ROUND(AC33,2))>AA33),3,IF(ABS(ROUND(AC33,2))>AA33,2,IF(ABS(ROUND(AB33,2))>Z33,1,""))))) -> #N/A | AG33: =IF(OR(AF33=3,AF33=9),1,"") -> #N/A | AI33: =IF(AJ33="C","",IF(AH33=1,1,""))
B34: 14.2 | C34: =Text!G62 -> Strategic management - non-school | I34: 0 | O34: 0 | Q34: =B34 -> 14.2 | W34: =VLOOKUP("RAS52"&"_"&UANumber&"_"&$B34&"_"&4&"_"&W$16,ValData!$AE$4:$AL$13475,8,FALSE) -> #N/A | X34: =VLOOKUP("RAS52"&"_"&UANumber&"_"&$B34&"_"&4&"_"&X$16,ValData!$AE$4:$AL$13475,8,FALSE) -> #N/A | Y34: =I34 -> 0 | Z34: =IF(VLOOKUP("RAS52"&"_"&$B34,ValData!$AS$4:$AV$253,3,FALSE)<>"",VLOOKUP("RAS52"&"_"&$B34,ValData!$AS$4:$AV$253,3,FALSE),$X$10) -> 300 | AA34: =IF(VLOOKUP("RAS52"&"_"&$B34,ValData!$AS$4:$AV$253,4,FALSE)<>"",VLOOKUP("RAS52"&"_"&$B34,ValData!$AS$4:$AV$253,4,FALSE),$X$11) -> 0 | AB34: =Y34-X34 -> #N/A | AC34: =IF(OR(X34=0,Y34=0),0,AB34/X34*100) -> #N/A | AD34: =IF(X34=0,1,"") -> #N/A | AE34: =IF(Y34=0,1,"") -> 1 | AF34: =IF(SUM(AD34:AE34)=2,"",IF(AND(SUM(AD34:AE34)=1,ABS(ROUND(AB34,2))>Z34),9,IF(AND(ABS(ROUND(AB34,2))>Z34,ABS(ROUND(AC34,2))>AA34),3,IF(ABS(ROUND(AC34,2))>AA34,2,IF(ABS(ROUND(AB34,2))>Z34,1,""))))) -> #N/A | AG34: =IF(OR(AF34=3,AF34=9),1,"") -> #N/A | AI34: =IF(AJ34="C","",IF(AH34=1,1,""))
B35: 15.1 | C35: =Text!G63 -> Other LEA budget - schools | I35: 0 | O35: 0 | Q35: =B35 -> 15.1 | W35: =VLOOKUP("RAS52"&"_"&UANumber&"_"&$B35&"_"&4&"_"&W$16,ValData!$AE$4:$AL$13475,8,FALSE) -> #N/A | X35: =VLOOKUP("RAS52"&"_"&UANumber&"_"&$B35&"_"&4&"_"&X$16,ValData!$AE$4:$AL$13475,8,FALSE) -> #N/A | Y35: =I35 -> 0 | Z35: =IF(VLOOKUP("RAS52"&"_"&$B35,ValData!$AS$4:$AV$253,3,FALSE)<>"",VLOOKUP("RAS52"&"_"&$B35,ValData!$AS$4:$AV$253,3,FALSE),$X$10) -> 500 | AA35: =IF(VLOOKUP("RAS52"&"_"&$B35,ValData!$AS$4:$AV$253,4,FALSE)<>"",VLOOKUP("RAS52"&"_"&$B35,ValData!$AS$4:$AV$253,4,FALSE),$X$11) -> 0 | AB35: =Y35-X35 -> #N/A | AC35: =IF(OR(X35=0,Y35=0),0,AB35/X35*100) -> #N/A | AD35: =IF(X35=0,1,"") -> #N/A | AE35: =IF(Y35=0,1,"") -> 1 | AF35: =IF(SUM(AD35:AE35)=2,"",IF(AND(SUM(AD35:AE35)=1,ABS(ROUND(AB35,2))>Z35),9,IF(AND(ABS(ROUND(AB35,2))>Z35,ABS(ROUND(AC35,2))>AA35),3,IF(ABS(ROUND(AC35,2))>AA35,2,IF(ABS(ROUND(AB35,2))>Z35,1,""))))) -> #N/A | AG35: =IF(OR(AF35=3,AF35=9),1,"") -> #N/A | AI35: =IF(AJ35="C","",IF(AH35=1,1,""))
B36: 15.2 | C36: =Text!G64 -> Other LEA budget - non-schools | I36: 0 | O36: 0 | Q36: =B36 -> 15.2 | W36: =VLOOKUP("RAS52"&"_"&UANumber&"_"&$B36&"_"&4&"_"&W$16,ValData!$AE$4:$AL$13475,8,FALSE) -> #N/A | X36: =VLOOKUP("RAS52"&"_"&UANumber&"_"&$B36&"_"&4&"_"&X$16,ValData!$AE$4:$AL$13475,8,FALSE) -> #N/A | Y36: =I36 -> 0 | Z36: =IF(VLOOKUP("RAS52"&"_"&$B36,ValData!$AS$4:$AV$253,3,FALSE)<>"",VLOOKUP("RAS52"&"_"&$B36,ValData!$AS$4:$AV$253,3,FALSE),$X$10) -> 500 | AA36: =IF(VLOOKUP("RAS52"&"_"&$B36,ValData!$AS$4:$AV$253,4,FALSE)<>"",VLOOKUP("RAS52"&"_"&$B36,ValData!$AS$4:$AV$253,4,FALSE),$X$11) -> 0 | AB36: =Y36-X36 -> #N/A | AC36: =IF(OR(X36=0,Y36=0),0,AB36/X36*100) -> #N/A | AD36: =IF(X36=0,1,"") -> #N/A | AE36: =IF(Y36=0,1,"") -> 1 | AF36: =IF(SUM(AD36:AE36)=2,"",IF(AND(SUM(AD36:AE36)=1,ABS(ROUND(AB36,2))>Z36),9,IF(AND(ABS(ROUND(AB36,2))>Z36,ABS(ROUND(AC36,2))>AA36),3,IF(ABS(ROUND(AC36,2))>AA36,2,IF(ABS(ROUND(AB36,2))>Z36,1,""))))) -> #N/A | AG36: =IF(OR(AF36=3,AF36=9),1,"") -> #N/A | AI36: =IF(AJ36="C","",IF(AH36=1,1,""))
B37: 16 | C37: =Text!G65 -> LEA budget (lines 8 to 15) | I37: =SUM(I25:I36) -> 0 | O37: =SUM(O25:O36) -> 0 | Q37: =B37 -> 16 | W37: =VLOOKUP("RAS52"&"_"&UANumber&"_"&$B37&"_"&4&"_"&W$16,ValData!$AE$4:$AL$13475,8,FALSE) -> #N/A | X37: =VLOOKUP("RAS52"&"_"&UANumber&"_"&$B37&"_"&4&"_"&X$16,ValData!$AE$4:$AL$13475,8,FALSE) -> #N/A | Y37: =I37 -> 0 | Z37: =IF(VLOOKUP("RAS52"&"_"&$B37,ValData!$AS$4:$AV$253,3,FALSE)<>"",VLOOKUP("RAS52"&"_"&$B37,ValData!$AS$4:$AV$253,3,FALSE),$X$10) -> 50 | AA37: =IF(VLOOKUP("RAS52"&"_"&$B37,ValData!$AS$4:$AV$253,4,FALSE)<>"",VLOOKUP("RAS52"&"_"&$B37,ValData!$AS$4:$AV$253,4,FALSE),$X$11) -> 0 | AB37: =Y37-X37 -> #N/A | AC37: =IF(OR(X37=0,Y37=0),0,AB37/X37*100) -> #N/A | AD37: =IF(X37=0,1,"") -> #N/A | AE37: =IF(Y37=0,1,"") -> 1 | AF37: =IF(SUM(AD37:AE37)=2,"",IF(AND(SUM(AD37:AE37)=1,ABS(ROUND(AB37,2))>Z37),9,IF(AND(ABS(ROUND(AB37,2))>Z37,ABS(ROUND(AC37,2))>AA37),3,IF(ABS(ROUND(AC37,2))>AA37,2,IF(ABS(ROUND(AB37,2))>Z37,1,""))))) -> #N/A | AG37: =IF(OR(AF37=3,AF37=9),1,"") -> #N/A | AI37: =IF(AJ37="C","",IF(AH37=1,1,""))
B39: 23 | C39: =Text!G66 -> Total Education Revenue Expenditure(line 7 plus line 16) | D39: =D24 -> 0 | E39: =E24 -> 0 | F39: =F24 -> 0 | G39: =G24 -> 0 | H39: =H24 -> 0 | I39: =I37+I24 -> 0 | J39: =J24 -> 0 | K39: =K24 -> 0 | L39: =L24 -> 0 | M39: =M24 -> 0 | N39: =N24 -> 0 | O39: =O37+O24 -> 0 | Q39: =B39 -> 23 | W39: =VLOOKUP("RAS52"&"_"&UANumber&"_"&$B39&"_"&4&"_"&W$16,ValData!$AE$4:$AL$13475,8,FALSE) -> #N/A | X39: =VLOOKUP("RAS52"&"_"&UANumber&"_"&$B39&"_"&4&"_"&X$16,ValData!$AE$4:$AL$13475,8,FALSE) -> #N/A | Y39: =I39 -> 0 | Z39: =IF(VLOOKUP("RAS52"&"_"&$B39,ValData!$AS$4:$AV$253,3,FALSE)<>"",VLOOKUP("RAS52"&"_"&$B39,ValData!$AS$4:$AV$253,3,FALSE),$X$10) -> 50 | AA39: =IF(VLOOKUP("RAS52"&"_"&$B39,ValData!$AS$4:$AV$253,4,FALSE)<>"",VLOOKUP("RAS52"&"_"&$B39,ValData!$AS$4:$AV$253,4,FALSE),$X$11) -> 3 | AB39: =Y39-X39 -> #N/A | AC39: =IF(OR(X39=0,Y39=0),0,AB39/X39*100) -> #N/A | AD39: =IF(X39=0,1,"") -> #N/A | AE39: =IF(Y39=0,1,"") -> 1 | AF39: =IF(SUM(AD39:AE39)=2,"",IF(SUM(AD39:AE39)=1,9,IF(AND(ABS(ROUND(AB39,2))>Z39,ABS(ROUND(AC39,2))>AA39),3,IF(ABS(ROUND(AC39,2))>AA39,2,IF(ABS(ROUND(AB39,2))>Z39,1,""))))) -> #N/A | AG39: =IF(OR(AF39=3,AF39=9),1,"") -> #N/A | AI39: =IF(AJ39="C","",IF(AH39=1,1,""))

Sheet Services
G2: =ValData!AP77 -> Grant/Budget checks
K3: UA only | L3: =IF(AND(UANumber>=512,UANumber<=552),-(10^20),0) -> 0 | M3: =IF(AND(UANumber>=512,UANumber<=552),(10^20),0) -> 0
K4: PA only | L4: =IF(AND(UANumber>=562,UANumber<=568),-(10^20),0) -> 0 | M4: =IF(AND(UANumber>=562,UANumber<=568),(10^20),0) -> 0
K5: FA only | L5: =IF(AND(UANumber>=572,UANumber<=576),-(10^20),0) -> 0 | M5: =IF(AND(UANumber>=572,UANumber<=576),(10^20),0) -> 0
B6: RA | C6: =FrontPage!C2 -> Revenue Account Return, 2026-27 | K6: NPA only | L6: =IF(AND(UANumber>=582,UANumber<=586),-(10^20),0) -> 0 | M6: =IF(AND(UANumber>=582,UANumber<=586),(10^20),0) -> 0
B7: =Text!G25 -> Information specified on this return must be submitted under section 139A of the 1988 Local Government Finance Act (as inserted by paragraph 68 of schedule 5 to the Local Government and Housing Act 1989) | K7: NPA Grants | L7: =IF(AND(UANumber>=582,UANumber<=586),-(10^20),0) -> 0 | M7: =IF(AND(UANumber>=582,UANumber<=586),(10^20),0) -> 0
K8: UA / PA | L8: =IF(AND(UANumber>=512,UANumber<=552),-(10^20),IF(AND(UANumber>=562,UANumber<=568),-(10^20),0)) -> 0 | M8: =IF(AND(UANumber>=512,UANumber<=552),(10^20),IF(AND(UANumber>=562,UANumber<=568),(10^20),0)) -> 0
P9: =ValData!AP67 -> Default Tolerance Levels
B10: =Text!G23 -> Authority | K10: UA / FA | L10: =IF(AND(UANumber>=512,UANumber<=552),0,IF(AND(UANumber>=572,UANumber<=576),-(10^20),0)) -> 0 | M10: =IF(AND(UANumber>=512,UANumber<=552),(10^20),IF(AND(UANumber>=572,UANumber<=576),0,0)) -> 0 | P10: =U14 -> value | Q10: 500
B11: =Details!D1 -> Please select your authority | H11: =ValData!AP66 -> Check any red or green highlighted lines & add comments to 'Your Comments' column if needed | K11: UA / NPA | L11: =IF(AND(UANumber>=512,UANumber<=552),0,IF(AND(UANumber>=582,UANumber<=586),-(10^20),0)) -> 0 | M11: =IF(AND(UANumber>=512,UANumber<=552),(10^20),IF(AND(UANumber>=582,UANumber<=586),0,0)) -> 0 | P11: ="% "&ValData!AP42 -> % tolerance: | Q11: 10 | W11: =ValData!AP43 -> zero? | Z11: =ValData!AP44 -> Totals
D12: =Text!G30 -> £ thousand | K12: DO NOT Delete | W12: =Q14 -> 202526 | X12: =R14 -> 202627 | Z12: =SUM(Z15:Z170) -> 0 | AA12: =SUM(AA15:AA38) -> 0 | AB12: =SUM(AB15:AB170) -> 0
B13: RA | D13: =Text!G69 -> BUDGET ESTIMATES (at outturn prices) | E13: =Text!G70 -> GRANTS (record as negative) | P13: =ValData!AP47 -> YOY Figures | S13: =ValData!AP52 -> Tolerance Levels | U13: =ValData!AP41 -> difference | Y13: =ValData!AP32 -> type | Z13: =ValData!AP33 -> auto | AA13: =ValData!AP34 -> mark | AB13: =ValData!AP35 -> check | AC13: =ValData!AP36 -> status
B14: =Text!G32 -> Line | C14: =Text!G33 -> Description | D14: 4.00 | E14: 7.00 | K14: =VLOOKUP(UANumber,LAType[],3,FALSE) -> #N/A | P14: =Q14-101 -> 202425 | Q14: =R14-101 -> 202526 | R14: =Year -> 202627 | S14: =U14 -> value | T14: % | U14: =ValData!AP31 -> value | V14: % | AD14: =ValData!AP37 -> Your comments
B16: 24 | C16: =Text!G97 -> Education (totals carried forward from RA(S52)) | D16: =+Education!I39 -> 0 | E16: =+Education!O39 -> 0 | H16: =IF(D16<0,1,IF(-E16>D16,2,"")) | K16: =B16 -> 24 | L16: =VLOOKUP("RA"&"_"&K16,RARows[],5,FALSE) -> T | M16: =IF(ISNUMBER(SEARCH($K$14,VLOOKUP("RA"&"_"&K16,RARows[],6,FALSE))),1,"") | P16: =VLOOKUP("RA"&"_"&UANumber&"_"&$B16&"_"&4&"_"&P$14,ValData!$AE$4:$AL$13475,8,FALSE) -> #N/A | Q16: =ROUND(VLOOKUP("RA"&"_"&UANumber&"_"&$B16&"_"&4&"_"&Q$14,ValData!$AE$4:$AL$13475,8,FALSE),3) -> #N/A | R16: =D16 -> 0 | S16: =IF(VLOOKUP("RA"&"_"&$B16,ValData!$AS$4:$AV$253,3,FALSE)<>"",VLOOKUP("RA"&"_"&$B16,ValData!$AS$4:$AV$253,3,FALSE),$Q$10) -> 500 | T16: =IF(VLOOKUP("RA"&"_"&$B16,ValData!$AS$4:$AV$253,4,FALSE)<>"",VLOOKUP("RA"&"_"&$B16,ValData!$AS$4:$AV$253,4,FALSE),$Q$11) -> 10 | U16: =R16-Q16 -> #N/A | V16: =IF(OR(Q16=0,R16=0),0,U16/Q16*100) -> #N/A | W16: =IF(Q16=0,1,"") -> #N/A | X16: =IF(R16=0,1,"") -> 1 | Y16: =IF(SUM(W16:X16)=2,"",IF(AND(SUM(W16:X16)=1,ABS(ROUND(U16,2))>S16),9,IF(AND(ABS(ROUND(U16,2))>S16,ABS(ROUND(V16,2))>T16),3,IF(ABS(ROUND(V16,2))>T16,2,IF(ABS(ROUND(U16,2))>S16,1,""))))) -> #N/A | Z16: =IF(M16="","",IF(AND(OR(Y16=3,Y16=9),L16<>"T"),1,"")) | AB16: =IF(AC16="C","",IF(AA16=1,1,""))
B17: =Text!G98 -> Highways and Transport Services | H17: =ValData!AP69 -> Unitaries | M17: =IF(ISNUMBER(SEARCH($K$14,VLOOKUP("RA"&"_"&K17,RARows[],6,FALSE))),1,"")
B18: 25 | C18: =Text!G99 -> Transport planning, policy and strategy | D18: 0 | E18: 0 | H18: =IF(D18<0,1,IF(-E18>D18,2,"")) | K18: =B18 -> 25 | L18: =VLOOKUP("RA"&"_"&K18,RARows[],5,FALSE) -> 0 | M18: =IF(ISNUMBER(SEARCH($K$14,VLOOKUP("RA"&"_"&K18,RARows[],6,FALSE))),1,"") | P18: =VLOOKUP("RA"&"_"&UANumber&"_"&$B18&"_"&4&"_"&P$14,ValData!$AE$4:$AL$13475,8,FALSE) -> #N/A | Q18: =ROUND(VLOOKUP("RA"&"_"&UANumber&"_"&$B18&"_"&4&"_"&Q$14,ValData!$AE$4:$AL$13475,8,FALSE),3) -> #N/A | R18: =D18 -> 0 | S18: =IF(VLOOKUP("RA"&"_"&$B18,ValData!$AS$4:$AV$253,3,FALSE)<>"",VLOOKUP("RA"&"_"&$B18,ValData!$AS$4:$AV$253,3,FALSE),$Q$10) -> 500 | T18: =IF(VLOOKUP("RA"&"_"&$B18,ValData!$AS$4:$AV$253,4,FALSE)<>"",VLOOKUP("RA"&"_"&$B18,ValData!$AS$4:$AV$253,4,FALSE),$Q$11) -> 10 | U18: =R18-Q18 -> #N/A | V18: =IF(OR(Q18=0,R18=0),0,U18/Q18*100) -> #N/A | W18: =IF(Q18=0,1,"") -> #N/A | X18: =IF(R18=0,1,"") -> 1 | Y18: =IF(SUM(W18:X18)=2,"",IF(AND(SUM(W18:X18)=1,ABS(ROUND(U18,2))>S18),9,IF(AND(ABS(ROUND(U18,2))>S18,ABS(ROUND(V18,2))>T18),3,IF(ABS(ROUND(V18,2))>T18,2,IF(ABS(ROUND(U18,2))>S18,1,""))))) -> #N/A | Z18: =IF(M18="","",IF(AND(OR(Y18=3,Y18=9),L18<>"T"),1,"")) | AB18: =IF(AC18="C","",IF(AA18=1,1,""))
B19: 26 | C19: =Text!G100 -> Structural maintenance | D19: 0 | E19: 0 | H19: =IF(D19<0,1,IF(-E19>D19,2,"")) | K19: =B19 -> 26 | L19: =VLOOKUP("RA"&"_"&K19,RARows[],5,FALSE) -> 0 | M19: =IF(ISNUMBER(SEARCH($K$14,VLOOKUP("RA"&"_"&K19,RARows[],6,FALSE))),1,"") | P19: =VLOOKUP("RA"&"_"&UANumber&"_"&$B19&"_"&4&"_"&P$14,ValData!$AE$4:$AL$13475,8,FALSE) -> #N/A | Q19: =ROUND(VLOOKUP("RA"&"_"&UANumber&"_"&$B19&"_"&4&"_"&Q$14,ValData!$AE$4:$AL$13475,8,FALSE),3) -> #N/A | R19: =D19 -> 0 | S19: =IF(VLOOKUP("RA"&"_"&$B19,ValData!$AS$4:$AV$253,3,FALSE)<>"",VLOOKUP("RA"&"_"&$B19,ValData!$AS$4:$AV$253,3,FALSE),$Q$10) -> 500 | T19: =IF(VLOOKUP("RA"&"_"&$B19,ValData!$AS$4:$AV$253,4,FALSE)<>"",VLOOKUP("RA"&"_"&$B19,ValData!$AS$4:$AV$253,4,FALSE),$Q$11) -> 10 | U19: =R19-Q19 -> #N/A | V19: =IF(OR(Q19=0,R19=0),0,U19/Q19*100) -> #N/A | W19: =IF(Q19=0,1,"") -> #N/A | X19: =IF(R19=0,1,"") -> 1 | Y19: =IF(SUM(W19:X19)=2,"",IF(AND(SUM(W19:X19)=1,ABS(ROUND(U19,2))>S19),9,IF(AND(ABS(ROUND(U19,2))>S19,ABS(ROUND(V19,2))>T19),3,IF(ABS(ROUND(V19,2))>T19,2,IF(ABS(ROUND(U19,2))>S19,1,""))))) -> #N/A | Z19: =IF(M19="","",IF(AND(OR(Y19=3,Y19=9),L19<>"T"),1,"")) | AB19: =IF(AC19="C","",IF(AA19=1,1,""))
B20: 27 | C20: =Text!G101 -> Capital charges relating to construction projects | D20: 0 | E20: 0 | H20: =IF(D20<0,1,IF(-E20>D20,2,"")) | K20: =B20 -> 27 | L20: =VLOOKUP("RA"&"_"&K20,RARows[],5,FALSE) -> 0 | M20: =IF(ISNUMBER(SEARCH($K$14,VLOOKUP("RA"&"_"&K20,RARows[],6,FALSE))),1,"") | P20: =VLOOKUP("RA"&"_"&UANumber&"_"&$B20&"_"&4&"_"&P$14,ValData!$AE$4:$AL$13475,8,FALSE) -> #N/A | Q20: =ROUND(VLOOKUP("RA"&"_"&UANumber&"_"&$B20&"_"&4&"_"&Q$14,ValData!$AE$4:$AL$13475,8,FALSE),3) -> #N/A | R20: =D20 -> 0 | S20: =IF(VLOOKUP("RA"&"_"&$B20,ValData!$AS$4:$AV$253,3,FALSE)<>"",VLOOKUP("RA"&"_"&$B20,ValData!$AS$4:$AV$253,3,FALSE),$Q$10) -> 500 | T20: =IF(VLOOKUP("RA"&"_"&$B20,ValData!$AS$4:$AV$253,4,FALSE)<>"",VLOOKUP("RA"&"_"&$B20,ValData!$AS$4:$AV$253,4,FALSE),$Q$11) -> 10 | U20: =R20-Q20 -> #N/A | V20: =IF(OR(Q20=0,R20=0),0,U20/Q20*100) -> #N/A | W20: =IF(Q20=0,1,"") -> #N/A | X20: =IF(R20=0,1,"") -> 1 | Y20: =IF(SUM(W20:X20)=2,"",IF(AND(SUM(W20:X20)=1,ABS(ROUND(U20,2))>S20),9,IF(AND(ABS(ROUND(U20,2))>S20,ABS(ROUND(V20,2))>T20),3,IF(ABS(ROUND(V20,2))>T20,2,IF(ABS(ROUND(U20,2))>S20,1,""))))) -> #N/A | Z20: =IF(M20="","",IF(AND(OR(Y20=3,Y20=9),L20<>"T"),1,"")) | AB20: =IF(AC20="C","",IF(AA20=1,1,""))
B21: 28 | C21: =Text!G102 -> Environment, safety and routine maintenance | D21: 0 | E21: 0 | H21: =IF(D21<0,1,IF(-E21>D21,2,"")) | K21: =B21 -> 28 | L21: =VLOOKUP("RA"&"_"&K21,RARows[],5,FALSE) -> 0 | M21: =IF(ISNUMBER(SEARCH($K$14,VLOOKUP("RA"&"_"&K21,RARows[],6,FALSE))),1,"") | P21: =VLOOKUP("RA"&"_"&UANumber&"_"&$B21&"_"&4&"_"&P$14,ValData!$AE$4:$AL$13475,8,FALSE) -> #N/A | Q21: =ROUND(VLOOKUP("RA"&"_"&UANumber&"_"&$B21&"_"&4&"_"&Q$14,ValData!$AE$4:$AL$13475,8,FALSE),3) -> #N/A | R21: =D21 -> 0 | S21: =IF(VLOOKUP("RA"&"_"&$B21,ValData!$AS$4:$AV$253,3,FALSE)<>"",VLOOKUP("RA"&"_"&$B21,ValData!$AS$4:$AV$253,3,FALSE),$Q$10) -> 500 | T21: =IF(VLOOKUP("RA"&"_"&$B21,ValData!$AS$4:$AV$253,4,FALSE)<>"",VLOOKUP("RA"&"_"&$B21,ValData!$AS$4:$AV$253,4,FALSE),$Q$11) -> 10 | U21: =R21-Q21 -> #N/A | V21: =IF(OR(Q21=0,R21=0),0,U21/Q21*100) -> #N/A | W21: =IF(Q21=0,1,"") -> #N/A | X21: =IF(R21=0,1,"") -> 1 | Y21: =IF(SUM(W21:X21)=2,"",IF(AND(SUM(W21:X21)=1,ABS(ROUND(U21,2))>S21),9,IF(AND(ABS(ROUND(U21,2))>S21,ABS(ROUND(V21,2))>T21),3,IF(ABS(ROUND(V21,2))>T21,2,IF(ABS(ROUND(U21,2))>S21,1,""))))) -> #N/A | Z21: =IF(M21="","",IF(AND(OR(Y21=3,Y21=9),L21<>"T"),1,"")) | AB21: =IF(AC21="C","",IF(AA21=1,1,""))
B22: 29.1 | C22: =Text!G103 -> Street lighting (including energy costs) | D22: 0 | E22: 0 | H22: =IF(D22<0,1,IF(-E22>D22,2,"")) | K22: =B22 -> 29.1 | L22: =VLOOKUP("RA"&"_"&K22,RARows[],5,FALSE) -> 0 | M22: =IF(ISNUMBER(SEARCH($K$14,VLOOKUP("RA"&"_"&K22,RARows[],6,FALSE))),1,"") | P22: =VLOOKUP("RA"&"_"&UANumber&"_"&$B22&"_"&4&"_"&P$14,ValData!$AE$4:$AL$13475,8,FALSE) -> #N/A | Q22: =ROUND(VLOOKUP("RA"&"_"&UANumber&"_"&$B22&"_"&4&"_"&Q$14,ValData!$AE$4:$AL$13475,8,FALSE),3) -> #N/A | R22: =D22 -> 0 | S22: =IF(VLOOKUP("RA"&"_"&$B22,ValData!$AS$4:$AV$253,3,FALSE)<>"",VLOOKUP("RA"&"_"&$B22,ValData!$AS$4:$AV$253,3,FALSE),$Q$10) -> 500 | T22: =IF(VLOOKUP("RA"&"_"&$B22,ValData!$AS$4:$AV$253,4,FALSE)<>"",VLOOKUP("RA"&"_"&$B22,ValData!$AS$4:$AV$253,4,FALSE),$Q$11) -> 10 | U22: =R22-Q22 -> #N/A | V22: =IF(OR(Q22=0,R22=0),0,U22/Q22*100) -> #N/A | W22: =IF(Q22=0,1,"") -> #N/A | X22: =IF(R22=0,1,"") -> 1 | Y22: =IF(SUM(W22:X22)=2,"",IF(AND(SUM(W22:X22)=1,ABS(ROUND(U22,2))>S22),9,IF(AND(ABS(ROUND(U22,2))>S22,ABS(ROUND(V22,2))>T22),3,IF(ABS(ROUND(V22,2))>T22,2,IF(ABS(ROUND(U22,2))>S22,1,""))))) -> #N/A | Z22: =IF(M22="","",IF(AND(OR(Y22=3,Y22=9),L22<>"T"),1,"")) | AB22: =IF(AC22="C","",IF(AA22=1,1,""))
B23: 29.2 | C23: =Text!G104 -> Winter service | D23: 0 | E23: 0 | H23: =IF(D23<0,1,IF(-E23>D23,2,"")) | K23: =B23 -> 29.2 | L23: =VLOOKUP("RA"&"_"&K23,RARows[],5,FALSE) -> 0 | M23: =IF(ISNUMBER(SEARCH($K$14,VLOOKUP("RA"&"_"&K23,RARows[],6,FALSE))),1,"") | P23: =VLOOKUP("RA"&"_"&UANumber&"_"&$B23&"_"&4&"_"&P$14,ValData!$AE$4:$AL$13475,8,FALSE) -> #N/A | Q23: =ROUND(VLOOKUP("RA"&"_"&UANumber&"_"&$B23&"_"&4&"_"&Q$14,ValData!$AE$4:$AL$13475,8,FALSE),3) -> #N/A | R23: =D23 -> 0 | S23: =IF(VLOOKUP("RA"&"_"&$B23,ValData!$AS$4:$AV$253,3,FALSE)<>"",VLOOKUP("RA"&"_"&$B23,ValData!$AS$4:$AV$253,3,FALSE),$Q$10) -> 500 | T23: =IF(VLOOKUP("RA"&"_"&$B23,ValData!$AS$4:$AV$253,4,FALSE)<>"",VLOOKUP("RA"&"_"&$B23,ValData!$AS$4:$AV$253,4,FALSE),$Q$11) -> 10 | U23: =R23-Q23 -> #N/A | V23: =IF(OR(Q23=0,R23=0),0,U23/Q23*100) -> #N/A | W23: =IF(Q23=0,1,"") -> #N/A | X23: =IF(R23=0,1,"") -> 1 | Y23: =IF(SUM(W23:X23)=2,"",IF(AND(SUM(W23:X23)=1,ABS(ROUND(U23,2))>S23),9,IF(AND(ABS(ROUND(U23,2))>S23,ABS(ROUND(V23,2))>T23),3,IF(ABS(ROUND(V23,2))>T23,2,IF(ABS(ROUND(U23,2))>S23,1,""))))) -> #N/A | Z23: =IF(M23="","",IF(AND(OR(Y23=3,Y23=9),L23<>"T"),1,"")) | AB23: =IF(AC23="C","",IF(AA23=1,1,""))
B24: 30 | C24: =Text!G105 -> Traffic management and road safety | D24: 0 | E24: 0 | H24: =IF(D24<0,1,IF(-E24>D24,2,"")) | K24: =B24 -> 30 | L24: =VLOOKUP("RA"&"_"&K24,RARows[],5,FALSE) -> 0 | M24: =IF(ISNUMBER(SEARCH($K$14,VLOOKUP("RA"&"_"&K24,RARows[],6,FALSE))),1,"") | P24: =VLOOKUP("RA"&"_"&UANumber&"_"&$B24&"_"&4&"_"&P$14,ValData!$AE$4:$AL$13475,8,FALSE) -> #N/A | Q24: =ROUND(VLOOKUP("RA"&"_"&UANumber&"_"&$B24&"_"&4&"_"&Q$14,ValData!$AE$4:$AL$13475,8,FALSE),3) -> #N/A | R24: =D24 -> 0 | S24: =IF(VLOOKUP("RA"&"_"&$B24,ValData!$AS$4:$AV$253,3,FALSE)<>"",VLOOKUP("RA"&"_"&$B24,ValData!$AS$4:$AV$253,3,FALSE),$Q$10) -> 500 | T24: =IF(VLOOKUP("RA"&"_"&$B24,ValData!$AS$4:$AV$253,4,FALSE)<>"",VLOOKUP("RA"&"_"&$B24,ValData!$AS$4:$AV$253,4,FALSE),$Q$11) -> 10 | U24: =R24-Q24 -> #N/A | V24: =IF(OR(Q24=0,R24=0),0,U24/Q24*100) -> #N/A | W24: =IF(Q24=0,1,"") -> #N/A | X24: =IF(R24=0,1,"") -> 1 | Y24: =IF(SUM(W24:X24)=2,"",IF(AND(SUM(W24:X24)=1,ABS(ROUND(U24,2))>S24),9,IF(AND(ABS(ROUND(U24,2))>S24,ABS(ROUND(V24,2))>T24),3,IF(ABS(ROUND(V24,2))>T24,2,IF(ABS(ROUND(U24,2))>S24,1,""))))) -> #N/A | Z24: =IF(M24="","",IF(AND(OR(Y24=3,Y24=9),L24<>"T"),1,"")) | AB24: =IF(AC24="C","",IF(AA24=1,1,""))
B25: 32 | C25: =Text!G106 -> Parking services | D25: 0 | E25: 0 | H25: =IF(D25<0,1,IF(-E25>D25,2,"")) | K25: =B25 -> 32 | L25: =VLOOKUP("RA"&"_"&K25,RARows[],5,FALSE) -> 0 | M25: =IF(ISNUMBER(SEARCH($K$14,VLOOKUP("RA"&"_"&K25,RARows[],6,FALSE))),1,"") | P25: =VLOOKUP("RA"&"_"&UANumber&"_"&$B25&"_"&4&"_"&P$14,ValData!$AE$4:$AL$13475,8,FALSE) -> #N/A | Q25: =ROUND(VLOOKUP("RA"&"_"&UANumber&"_"&$B25&"_"&4&"_"&Q$14,ValData!$AE$4:$AL$13475,8,FALSE),3) -> #N/A | R25: =D25 -> 0 | S25: =IF(VLOOKUP("RA"&"_"&$B25,ValData!$AS$4:$AV$253,3,FALSE)<>"",VLOOKUP("RA"&"_"&$B25,ValData!$AS$4:$AV$253,3,FALSE),$Q$10) -> 500 | T25: =IF(VLOOKUP("RA"&"_"&$B25,ValData!$AS$4:$AV$253,4,FALSE)<>"",VLOOKUP("RA"&"_"&$B25,ValData!$AS$4:$AV$253,4,FALSE),$Q$11) -> 10 | U25: =R25-Q25 -> #N/A | V25: =IF(OR(Q25=0,R25=0),0,U25/Q25*100) -> #N/A | W25: =IF(Q25=0,1,"") -> #N/A | X25: =IF(R25=0,1,"") -> 1 | Y25: =IF(SUM(W25:X25)=2,"",IF(AND(SUM(W25:X25)=1,ABS(ROUND(U25,2))>S25),9,IF(AND(ABS(ROUND(U25,2))>S25,ABS(ROUND(V25,2))>T25),3,IF(ABS(ROUND(V25,2))>T25,2,IF(ABS(ROUND(U25,2))>S25,1,""))))) -> #N/A | Z25: =IF(M25="","",IF(AND(OR(Y25=3,Y25=9),L25<>"T"),1,"")) | AB25: =IF(AC25="C","",IF(AA25=1,1,""))
B26: 36.1 | C26: =Text!G107 -> Public transport | D26: 0 | E26: 0 | H26: =IF(D26<0,1,IF(-E26>D26,2,"")) | K26: =B26 -> 36.1 | L26: =VLOOKUP("RA"&"_"&K26,RARows[],5,FALSE) -> 0 | M26: =IF(ISNUMBER(SEARCH($K$14,VLOOKUP("RA"&"_"&K26,RARows[],6,FALSE))),1,"") | P26: =VLOOKUP("RA"&"_"&UANumber&"_"&$B26&"_"&4&"_"&P$14,ValData!$AE$4:$AL$13475,8,FALSE) -> #N/A | Q26: =ROUND(VLOOKUP("RA"&"_"&UANumber&"_"&$B26&"_"&4&"_"&Q$14,ValData!$AE$4:$AL$13475,8,FALSE),3) -> #N/A | R26: =D26 -> 0 | S26: =IF(VLOOKUP("RA"&"_"&$B26,ValData!$AS$4:$AV$253,3,FALSE)<>"",VLOOKUP("RA"&"_"&$B26,ValData!$AS$4:$AV$253,3,FALSE),$Q$10) -> 500 | T26: =IF(VLOOKUP("RA"&"_"&$B26,ValData!$AS$4:$AV$253,4,FALSE)<>"",VLOOKUP("RA"&"_"&$B26,ValData!$AS$4:$AV$253,4,FALSE),$Q$11) -> 10 | U26: =R26-Q26 -> #N/A | V26: =IF(OR(Q26=0,R26=0),0,U26/Q26*100) -> #N/A | W26: =IF(Q26=0,1,"") -> #N/A | X26: =IF(R26=0,1,"") -> 1 | Y26: =IF(SUM(W26:X26)=2,"",IF(AND(SUM(W26:X26)=1,ABS(ROUND(U26,2))>S26),9,IF(AND(ABS(ROUND(U26,2))>S26,ABS(ROUND(V26,2))>T26),3,IF(ABS(ROUND(V26,2))>T26,2,IF(ABS(ROUND(U26,2))>S26,1,""))))) -> #N/A | Z26: =IF(M26="","",IF(AND(OR(Y26=3,Y26=9),L26<>"T"),1,"")) | AB26: =IF(AC26="C","",IF(AA26=1,1,""))
B27: 37 | C27: =Text!G108 -> Airports, harbours and toll facilities | D27: 0 | E27: 0 | H27: =IF(D27<0,1,IF(-E27>D27,2,"")) | K27: =B27 -> 37 | L27: =VLOOKUP("RA"&"_"&K27,RARows[],5,FALSE) -> 0 | M27: =IF(ISNUMBER(SEARCH($K$14,VLOOKUP("RA"&"_"&K27,RARows[],6,FALSE))),1,"") | P27: =VLOOKUP("RA"&"_"&UANumber&"_"&$B27&"_"&4&"_"&P$14,ValData!$AE$4:$AL$13475,8,FALSE) -> #N/A | Q27: =ROUND(VLOOKUP("RA"&"_"&UANumber&"_"&$B27&"_"&4&"_"&Q$14,ValData!$AE$4:$AL$13475,8,FALSE),3) -> #N/A | R27: =D27 -> 0 | S27: =IF(VLOOKUP("RA"&"_"&$B27,ValData!$AS$4:$AV$253,3,FALSE)<>"",VLOOKUP("RA"&"_"&$B27,ValData!$AS$4:$AV$253,3,FALSE),$Q$10) -> 500 | T27: =IF(VLOOKUP("RA"&"_"&$B27,ValData!$AS$4:$AV$253,4,FALSE)<>"",VLOOKUP("RA"&"_"&$B27,ValData!$AS$4:$AV$253,4,FALSE),$Q$11) -> 10 | U27: =R27-Q27 -> #N/A | V27: =IF(OR(Q27=0,R27=0),0,U27/Q27*100) -> #N/A | W27: =IF(Q27=0,1,"") -> #N/A | X27: =IF(R27=0,1,"") -> 1 | Y27: =IF(SUM(W27:X27)=2,"",IF(AND(SUM(W27:X27)=1,ABS(ROUND(U27,2))>S27),9,IF(AND(ABS(ROUND(U27,2))>S27,ABS(ROUND(V27,2))>T27),3,IF(ABS(ROUND(V27,2))>T27,2,IF(ABS(ROUND(U27,2))>S27,1,""))))) -> #N/A | Z27: =IF(M27="","",IF(AND(OR(Y27=3,Y27=9),L27<>"T"),1,"")) | AB27: =IF(AC27="C","",IF(AA27=1,1,""))
B28: =Text!G109 -> Children's Social Care | H28: =ValData!AP69 -> Unitaries | M28: =IF(ISNUMBER(SEARCH($K$14,VLOOKUP("RA"&"_"&K28,RARows[],6,FALSE))),1,"") | Z28: =IF(M28="","",IF(AND(OR(Y28=3,Y28=9),L28<>"T"),1,""))
B29: 38.6 | C29: =Text!G110 -> Children's Centres/Flying Start and Early Years | D29: 0 | E29: 0 | H29: =IF(D29<0,1,IF(-E29>D29,2,"")) | K29: =B29 -> 38.6 | L29: =VLOOKUP("RA"&"_"&K29,RARows[],5,FALSE) -> 0 | M29: =IF(ISNUMBER(SEARCH($K$14,VLOOKUP("RA"&"_"&K29,RARows[],6,FALSE))),1,"") | P29: =VLOOKUP("RA"&"_"&UANumber&"_"&$B29&"_"&4&"_"&P$14,ValData!$AE$4:$AL$13475,8,FALSE) -> #N/A | Q29: =ROUND(VLOOKUP("RA"&"_"&UANumber&"_"&$B29&"_"&4&"_"&Q$14,ValData!$AE$4:$AL$13475,8,FALSE),3) -> #N/A | R29: =D29 -> 0 | S29: =IF(VLOOKUP("RA"&"_"&$B29,ValData!$AS$4:$AV$253,3,FALSE)<>"",VLOOKUP("RA"&"_"&$B29,ValData!$AS$4:$AV$253,3,FALSE),$Q$10) -> 500 | T29: =IF(VLOOKUP("RA"&"_"&$B29,ValData!$AS$4:$AV$253,4,FALSE)<>"",VLOOKUP("RA"&"_"&$B29,ValData!$AS$4:$AV$253,4,FALSE),$Q$11) -> 10 | U29: =R29-Q29 -> #N/A | V29: =IF(OR(Q29=0,R29=0),0,U29/Q29*100) -> #N/A | W29: =IF(Q29=0,1,"") -> #N/A | X29: =IF(R29=0,1,"") -> 1 | Y29: =IF(SUM(W29:X29)=2,"",IF(AND(SUM(W29:X29)=1,ABS(ROUND(U29,2))>S29),9,IF(AND(ABS(ROUND(U29,2))>S29,ABS(ROUND(V29,2))>T29),3,IF(ABS(ROUND(V29,2))>T29,2,IF(ABS(ROUND(U29,2))>S29,1,""))))) -> #N/A | Z29: =IF(M29="","",IF(AND(OR(Y29=3,Y29=9),L29<>"T"),1,"")) | AB29: =IF(AC29="C","",IF(AA29=1,1,""))
B30: 39.2 | C30: =Text!G111 -> Children looked after | D30: 0 | E30: 0 | H30: =IF(D30<0,1,IF(-E30>D30,2,"")) | K30: =B30 -> 39.2 | L30: =VLOOKUP("RA"&"_"&K30,RARows[],5,FALSE) -> 0 | M30: =IF(ISNUMBER(SEARCH($K$14,VLOOKUP("RA"&"_"&K30,RARows[],6,FALSE))),1,"") | P30: =VLOOKUP("RA"&"_"&UANumber&"_"&$B30&"_"&4&"_"&P$14,ValData!$AE$4:$AL$13475,8,FALSE) -> #N/A | Q30: =ROUND(VLOOKUP("RA"&"_"&UANumber&"_"&$B30&"_"&4&"_"&Q$14,ValData!$AE$4:$AL$13475,8,FALSE),3) -> #N/A | R30: =D30 -> 0 | S30: =IF(VLOOKUP("RA"&"_"&$B30,ValData!$AS$4:$AV$253,3,FALSE)<>"",VLOOKUP("RA"&"_"&$B30,ValData!$AS$4:$AV$253,3,FALSE),$Q$10) -> 500 | T30: =IF(VLOOKUP("RA"&"_"&$B30,ValData!$AS$4:$AV$253,4,FALSE)<>"",VLOOKUP("RA"&"_"&$B30,ValData!$AS$4:$AV$253,4,FALSE),$Q$11) -> 10 | U30: =R30-Q30 -> #N/A | V30: =IF(OR(Q30=0,R30=0),0,U30/Q30*100) -> #N/A | W30: =IF(Q30=0,1,"") -> #N/A | X30: =IF(R30=0,1,"") -> 1 | Y30: =IF(SUM(W30:X30)=2,"",IF(AND(SUM(W30:X30)=1,ABS(ROUND(U30,2))>S30),9,IF(AND(ABS(ROUND(U30,2))>S30,ABS(ROUND(V30,2))>T30),3,IF(ABS(ROUND(V30,2))>T30,2,IF(ABS(ROUND(U30,2))>S30,1,""))))) -> #N/A | Z30: =IF(M30="","",IF(AND(OR(Y30=3,Y30=9),L30<>"T"),1,"")) | AB30: =IF(AC30="C","",IF(AA30=1,1,""))
B31: 39.3 | C31: =Text!G112 -> Family support services | D31: 0 | E31: 0 | H31: =IF(D31<0,1,IF(-E31>D31,2,"")) | K31: =B31 -> 39.3 | L31: =VLOOKUP("RA"&"_"&K31,RARows[],5,FALSE) -> 0 | M31: =IF(ISNUMBER(SEARCH($K$14,VLOOKUP("RA"&"_"&K31,RARows[],6,FALSE))),1,"") | P31: =VLOOKUP("RA"&"_"&UANumber&"_"&$B31&"_"&4&"_"&P$14,ValData!$AE$4:$AL$13475,8,FALSE) -> #N/A | Q31: =ROUND(VLOOKUP("RA"&"_"&UANumber&"_"&$B31&"_"&4&"_"&Q$14,ValData!$AE$4:$AL$13475,8,FALSE),3) -> #N/A | R31: =D31 -> 0 | S31: =IF(VLOOKUP("RA"&"_"&$B31,ValData!$AS$4:$AV$253,3,FALSE)<>"",VLOOKUP("RA"&"_"&$B31,ValData!$AS$4:$AV$253,3,FALSE),$Q$10) -> 500 | T31: =IF(VLOOKUP("RA"&"_"&$B31,ValData!$AS$4:$AV$253,4,FALSE)<>"",VLOOKUP("RA"&"_"&$B31,ValData!$AS$4:$AV$253,4,FALSE),$Q$11) -> 10 | U31: =R31-Q31 -> #N/A | V31: =IF(OR(Q31=0,R31=0),0,U31/Q31*100) -> #N/A | W31: =IF(Q31=0,1,"") -> #N/A | X31: =IF(R31=0,1,"") -> 1 | Y31: =IF(SUM(W31:X31)=2,"",IF(AND(SUM(W31:X31)=1,ABS(ROUND(U31,2))>S31),9,IF(AND(ABS(ROUND(U31,2))>S31,ABS(ROUND(V31,2))>T31),3,IF(ABS(ROUND(V31,2))>T31,2,IF(ABS(ROUND(U31,2))>S31,1,""))))) -> #N/A | Z31: =IF(M31="","",IF(AND(OR(Y31=3,Y31=9),L31<>"T"),1,"")) | AB31: =IF(AC31="C","",IF(AA31=1,1,""))
B32: 39.4 | C32: =Text!G113 -> Youth justice | D32: 0 | E32: 0 | H32: =IF(D32<0,1,IF(-E32>D32,2,"")) | K32: =B32 -> 39.4 | L32: =VLOOKUP("RA"&"_"&K32,RARows[],5,FALSE) -> 0 | M32: =IF(ISNUMBER(SEARCH($K$14,VLOOKUP("RA"&"_"&K32,RARows[],6,FALSE))),1,"") | P32: =VLOOKUP("RA"&"_"&UANumber&"_"&$B32&"_"&4&"_"&P$14,ValData!$AE$4:$AL$13475,8,FALSE) -> #N/A | Q32: =ROUND(VLOOKUP("RA"&"_"&UANumber&"_"&$B32&"_"&4&"_"&Q$14,ValData!$AE$4:$AL$13475,8,FALSE),3) -> #N/A | R32: =D32 -> 0 | S32: =IF(VLOOKUP("RA"&"_"&$B32,ValData!$AS$4:$AV$253,3,FALSE)<>"",VLOOKUP("RA"&"_"&$B32,ValData!$AS$4:$AV$253,3,FALSE),$Q$10) -> 500 | T32: =IF(VLOOKUP("RA"&"_"&$B32,ValData!$AS$4:$AV$253,4,FALSE)<>"",VLOOKUP("RA"&"_"&$B32,ValData!$AS$4:$AV$253,4,FALSE),$Q$11) -> 10 | U32: =R32-Q32 -> #N/A | V32: =IF(OR(Q32=0,R32=0),0,U32/Q32*100) -> #N/A | W32: =IF(Q32=0,1,"") -> #N/A | X32: =IF(R32=0,1,"") -> 1 | Y32: =IF(SUM(W32:X32)=2,"",IF(AND(SUM(W32:X32)=1,ABS(ROUND(U32,2))>S32),9,IF(AND(ABS(ROUND(U32,2))>S32,ABS(ROUND(V32,2))>T32),3,IF(ABS(ROUND(V32,2))>T32,2,IF(ABS(ROUND(U32,2))>S32,1,""))))) -> #N/A | Z32: =IF(M32="","",IF(AND(OR(Y32=3,Y32=9),L32<>"T"),1,"")) | AB32: =IF(AC32="C","",IF(AA32=1,1,""))
B33: 39.44 | C33: =Text!G114 -> Safeguarding children and young peoples services | D33: 0 | E33: 0 | H33: =IF(D33<0,1,IF(-E33>D33,2,"")) | K33: =B33 -> 39.44 | L33: =VLOOKUP("RA"&"_"&K33,RARows[],5,FALSE) -> 0 | M33: =IF(ISNUMBER(SEARCH($K$14,VLOOKUP("RA"&"_"&K33,RARows[],6,FALSE))),1,"") | P33: =VLOOKUP("RA"&"_"&UANumber&"_"&$B33&"_"&4&"_"&P$14,ValData!$AE$4:$AL$13475,8,FALSE) -> #N/A | Q33: =ROUND(VLOOKUP("RA"&"_"&UANumber&"_"&$B33&"_"&4&"_"&Q$14,ValData!$AE$4:$AL$13475,8,FALSE),3) -> #N/A | R33: =D33 -> 0 | S33: =IF(VLOOKUP("RA"&"_"&$B33,ValData!$AS$4:$AV$253,3,FALSE)<>"",VLOOKUP("RA"&"_"&$B33,ValData!$AS$4:$AV$253,3,FALSE),$Q$10) -> 500 | T33: =IF(VLOOKUP("RA"&"_"&$B33,ValData!$AS$4:$AV$253,4,FALSE)<>"",VLOOKUP("RA"&"_"&$B33,ValData!$AS$4:$AV$253,4,FALSE),$Q$11) -> 10 | U33: =R33-Q33 -> #N/A | V33: =IF(OR(Q33=0,R33=0),0,U33/Q33*100) -> #N/A | W33: =IF(Q33=0,1,"") -> #N/A | X33: =IF(R33=0,1,"") -> 1 | Y33: =IF(SUM(W33:X33)=2,"",IF(AND(SUM(W33:X33)=1,ABS(ROUND(U33,2))>S33),9,IF(AND(ABS(ROUND(U33,2))>S33,ABS(ROUND(V33,2))>T33),3,IF(ABS(ROUND(V33,2))>T33,2,IF(ABS(ROUND(U33,2))>S33,1,""))))) -> #N/A | Z33: =IF(M33="","",IF(AND(OR(Y33=3,Y33=9),L33<>"T"),1,"")) | AB33: =IF(AC33="C","",IF(AA33=1,1,""))
B34: 39.45 | C34: =Text!G115 -> Asylum seekers | D34: 0 | E34: 0 | H34: =IF(D34<0,1,IF(-E34>D34,2,"")) | K34: =B34 -> 39.45 | L34: =VLOOKUP("RA"&"_"&K34,RARows[],5,FALSE) -> 0 | M34: =IF(ISNUMBER(SEARCH($K$14,VLOOKUP("RA"&"_"&K34,RARows[],6,FALSE))),1,"") | P34: =VLOOKUP("RA"&"_"&UANumber&"_"&$B34&"_"&4&"_"&P$14,ValData!$AE$4:$AL$13475,8,FALSE) -> #N/A | Q34: =ROUND(VLOOKUP("RA"&"_"&UANumber&"_"&$B34&"_"&4&"_"&Q$14,ValData!$AE$4:$AL$13475,8,FALSE),3) -> #N/A | R34: =D34 -> 0 | S34: =IF(VLOOKUP("RA"&"_"&$B34,ValData!$AS$4:$AV$253,3,FALSE)<>"",VLOOKUP("RA"&"_"&$B34,ValData!$AS$4:$AV$253,3,FALSE),$Q$10) -> 500 | T34: =IF(VLOOKUP("RA"&"_"&$B34,ValData!$AS$4:$AV$253,4,FALSE)<>"",VLOOKUP("RA"&"_"&$B34,ValData!$AS$4:$AV$253,4,FALSE),$Q$11) -> 10 | U34: =R34-Q34 -> #N/A | V34: =IF(OR(Q34=0,R34=0),0,U34/Q34*100) -> #N/A | W34: =IF(Q34=0,1,"") -> #N/A | X34: =IF(R34=0,1,"") -> 1 | Y34: =IF(SUM(W34:X34)=2,"",IF(AND(SUM(W34:X34)=1,ABS(ROUND(U34,2))>S34),9,IF(AND(ABS(ROUND(U34,2))>S34,ABS(ROUND(V34,2))>T34),3,IF(ABS(ROUND(V34,2))>T34,2,IF(ABS(ROUND(U34,2))>S34,1,""))))) -> #N/A | Z34: =IF(M34="","",IF(AND(OR(Y34=3,Y34=9),L34<>"T"),1,"")) | AB34: =IF(AC34="C","",IF(AA34=1,1,""))
B35: 39.47 | C35: =Text!G116 -> Services for young people | D35: 0 | E35: 0 | H35: =IF(D35<0,1,IF(-E35>D35,2,"")) | K35: =B35 -> 39.47 | L35: =VLOOKUP("RA"&"_"&K35,RARows[],5,FALSE) -> 0 | M35: =IF(ISNUMBER(SEARCH($K$14,VLOOKUP("RA"&"_"&K35,RARows[],6,FALSE))),1,"") | P35: =VLOOKUP("RA"&"_"&UANumber&"_"&$B35&"_"&4&"_"&P$14,ValData!$AE$4:$AL$13475,8,FALSE) -> #N/A | Q35: =ROUND(VLOOKUP("RA"&"_"&UANumber&"_"&$B35&"_"&4&"_"&Q$14,ValData!$AE$4:$AL$13475,8,FALSE),3) -> #N/A | R35: =D35 -> 0 | S35: =IF(VLOOKUP("RA"&"_"&$B35,ValData!$AS$4:$AV$253,3,FALSE)<>"",VLOOKUP("RA"&"_"&$B35,ValData!$AS$4:$AV$253,3,FALSE),$Q$10) -> 500 | T35: =IF(VLOOKUP("RA"&"_"&$B35,ValData!$AS$4:$AV$253,4,FALSE)<>"",VLOOKUP("RA"&"_"&$B35,ValData!$AS$4:$AV$253,4,FALSE),$Q$11) -> 10 | U35: =R35-Q35 -> #N/A | V35: =IF(OR(Q35=0,R35=0),0,U35/Q35*100) -> #N/A | W35: =IF(Q35=0,1,"") -> #N/A | X35: =IF(R35=0,1,"") -> 1 | Y35: =IF(SUM(W35:X35)=2,"",IF(AND(SUM(W35:X35)=1,ABS(ROUND(U35,2))>S35),9,IF(AND(ABS(ROUND(U35,2))>S35,ABS(ROUND(V35,2))>T35),3,IF(ABS(ROUND(V35,2))>T35,2,IF(ABS(ROUND(U35,2))>S35,1,""))))) -> #N/A | Z35: =IF(M35="","",IF(AND(OR(Y35=3,Y35=9),L35<>"T"),1,"")) | AB35: =IF(AC35="C","",IF(AA35=1,1,""))
B36: 39.5 | C36: =Text!G117 -> Other children's and families' services | D36: 0 | E36: 0 | H36: =IF(D36<0,1,IF(-E36>D36,2,"")) | K36: =B36 -> 39.5 | L36: =VLOOKUP("RA"&"_"&K36,RARows[],5,FALSE) -> 0 | M36: =IF(ISNUMBER(SEARCH($K$14,VLOOKUP("RA"&"_"&K36,RARows[],6,FALSE))),1,"") | P36: =VLOOKUP("RA"&"_"&UANumber&"_"&$B36&"_"&4&"_"&P$14,ValData!$AE$4:$AL$13475,8,FALSE) -> #N/A | Q36: =ROUND(VLOOKUP("RA"&"_"&UANumber&"_"&$B36&"_"&4&"_"&Q$14,ValData!$AE$4:$AL$13475,8,FALSE),3) -> #N/A | R36: =D36 -> 0 | S36: =IF(VLOOKUP("RA"&"_"&$B36,ValData!$AS$4:$AV$253,3,FALSE)<>"",VLOOKUP("RA"&"_"&$B36,ValData!$AS$4:$AV$253,3,FALSE),$Q$10) -> 500 | T36: =IF(VLOOKUP("RA"&"_"&$B36,ValData!$AS$4:$AV$253,4,FALSE)<>"",VLOOKUP("RA"&"_"&$B36,ValData!$AS$4:$AV$253,4,FALSE),$Q$11) -> 10 | U36: =R36-Q36 -> #N/A | V36: =IF(OR(Q36=0,R36=0),0,U36/Q36*100) -> #N/A | W36: =IF(Q36=0,1,"") -> #N/A | X36: =IF(R36=0,1,"") -> 1 | Y36: =IF(SUM(W36:X36)=2,"",IF(AND(SUM(W36:X36)=1,ABS(ROUND(U36,2))>S36),9,IF(AND(ABS(ROUND(U36,2))>S36,ABS(ROUND(V36,2))>T36),3,IF(ABS(ROUND(V36,2))>T36,2,IF(ABS(ROUND(U36,2))>S36,1,""))))) -> #N/A | Z36: =IF(M36="","",IF(AND(OR(Y36=3,Y36=9),L36<>"T"),1,"")) | AB36: =IF(AC36="C","",IF(AA36=1,1,""))
B37: =Text!G118 -> Adult Social Care | H37: =ValData!AP69 -> Unitaries | M37: =IF(ISNUMBER(SEARCH($K$14,VLOOKUP("RA"&"_"&K37,RARows[],6,FALSE))),1,"") | Z37: =IF(M37="","",IF(AND(OR(Y37=3,Y37=9),L37<>"T"),1,""))
B38: 39.8 | C38: =Text!G119 -> Service strategy - adults social care | D38: 0 | E38: 0 | H38: =IF(D38<0,1,IF(-E38>D38,2,"")) | K38: =B38 -> 39.8 | L38: =VLOOKUP("RA"&"_"&K38,RARows[],5,FALSE) -> 0 | M38: =IF(ISNUMBER(SEARCH($K$14,VLOOKUP("RA"&"_"&K38,RARows[],6,FALSE))),1,"") | P38: =VLOOKUP("RA"&"_"&UANumber&"_"&$B38&"_"&4&"_"&P$14,ValData!$AE$4:$AL$13475,8,FALSE) -> #N/A | Q38: =ROUND(VLOOKUP("RA"&"_"&UANumber&"_"&$B38&"_"&4&"_"&Q$14,ValData!$AE$4:$AL$13475,8,FALSE),3) -> #N/A | R38: =D38 -> 0 | S38: =IF(VLOOKUP("RA"&"_"&$B38,ValData!$AS$4:$AV$253,3,FALSE)<>"",VLOOKUP("RA"&"_"&$B38,ValData!$AS$4:$AV$253,3,FALSE),$Q$10) -> 500 | T38: =IF(VLOOKUP("RA"&"_"&$B38,ValData!$AS$4:$AV$253,4,FALSE)<>"",VLOOKUP("RA"&"_"&$B38,ValData!$AS$4:$AV$253,4,FALSE),$Q$11) -> 10 | U38: =R38-Q38 -> #N/A | V38: =IF(OR(Q38=0,R38=0),0,U38/Q38*100) -> #N/A | W38: =IF(Q38=0,1,"") -> #N/A | X38: =IF(R38=0,1,"") -> 1 | Y38: =IF(SUM(W38:X38)=2,"",IF(AND(SUM(W38:X38)=1,ABS(ROUND(U38,2))>S38),9,IF(AND(ABS(ROUND(U38,2))>S38,ABS(ROUND(V38,2))>T38),3,IF(ABS(ROUND(V38,2))>T38,2,IF(ABS(ROUND(U38,2))>S38,1,""))))) -> #N/A | Z38: =IF(M38="","",IF(AND(OR(Y38=3,Y38=9),L38<>"T"),1,"")) | AB38: =IF(AC38="C","",IF(AA38=1,1,""))
B39: 40 | C39: =Text!G120 -> Older people (aged 65 or over) including older mentally ill | D39: 0 | E39: 0 | H39: =IF(D39<0,1,IF(-E39>D39,2,"")) | K39: =B39 -> 40 | L39: =VLOOKUP("RA"&"_"&K39,RARows[],5,FALSE) -> 0 | M39: =IF(ISNUMBER(SEARCH($K$14,VLOOKUP("RA"&"_"&K39,RARows[],6,FALSE))),1,"") | P39: =VLOOKUP("RA"&"_"&UANumber&"_"&$B39&"_"&4&"_"&P$14,ValData!$AE$4:$AL$13475,8,FALSE) -> #N/A | Q39: =ROUND(VLOOKUP("RA"&"_"&UANumber&"_"&$B39&"_"&4&"_"&Q$14,ValData!$AE$4:$AL$13475,8,FALSE),3) -> #N/A | R39: =D39 -> 0 | S39: =IF(VLOOKUP("RA"&"_"&$B39,ValData!$AS$4:$AV$253,3,FALSE)<>"",VLOOKUP("RA"&"_"&$B39,ValData!$AS$4:$AV$253,3,FALSE),$Q$10) -> 500 | T39: =IF(VLOOKUP("RA"&"_"&$B39,ValData!$AS$4:$AV$253,4,FALSE)<>"",VLOOKUP("RA"&"_"&$B39,ValData!$AS$4:$AV$253,4,FALSE),$Q$11) -> 10 | U39: =R39-Q39 -> #N/A | V39: =IF(OR(Q39=0,R39=0),0,U39/Q39*100) -> #N/A | W39: =IF(Q39=0,1,"") -> #N/A | X39: =IF(R39=0,1,"") -> 1 | Y39: =IF(SUM(W39:X39)=2,"",IF(AND(SUM(W39:X39)=1,ABS(ROUND(U39,2))>S39),9,IF(AND(ABS(ROUND(U39,2))>S39,ABS(ROUND(V39,2))>T39),3,IF(ABS(ROUND(V39,2))>T39,2,IF(ABS(ROUND(U39,2))>S39,1,""))))) -> #N/A | Z39: =IF(M39="","",IF(AND(OR(Y39=3,Y39=9),L39<>"T"),1,"")) | AB39: =IF(AC39="C","",IF(AA39=1,1,""))
B40: 41 | C40: =Text!G121 -> Adults aged under 65 with a physical disability or sensory impairment | D40: 0 | E40: 0 | H40: =IF(D40<0,1,IF(-E40>D40,2,"")) | K40: =B40 -> 41 | L40: =VLOOKUP("RA"&"_"&K40,RARows[],5,FALSE) -> 0 | M40: =IF(ISNUMBER(SEARCH($K$14,VLOOKUP("RA"&"_"&K40,RARows[],6,FALSE))),1,"") | P40: =VLOOKUP("RA"&"_"&UANumber&"_"&$B40&"_"&4&"_"&P$14,ValData!$AE$4:$AL$13475,8,FALSE) -> #N/A | Q40: =ROUND(VLOOKUP("RA"&"_"&UANumber&"_"&$B40&"_"&4&"_"&Q$14,ValData!$AE$4:$AL$13475,8,FALSE),3) -> #N/A | R40: =D40 -> 0 | S40: =IF(VLOOKUP("RA"&"_"&$B40,ValData!$AS$4:$AV$253,3,FALSE)<>"",VLOOKUP("RA"&"_"&$B40,ValData!$AS$4:$AV$253,3,FALSE),$Q$10) -> 500 | T40: =IF(VLOOKUP("RA"&"_"&$B40,ValData!$AS$4:$AV$253,4,FALSE)<>"",VLOOKUP("RA"&"_"&$B40,ValData!$AS$4:$AV$253,4,FALSE),$Q$11) -> 10 | U40: =R40-Q40 -> #N/A | V40: =IF(OR(Q40=0,R40=0),0,U40/Q40*100) -> #N/A | W40: =IF(Q40=0,1,"") -> #N/A | X40: =IF(R40=0,1,"") -> 1 | Y40: =IF(SUM(W40:X40)=2,"",IF(AND(SUM(W40:X40)=1,ABS(ROUND(U40,2))>S40),9,IF(AND(ABS(ROUND(U40,2))>S40,ABS(ROUND(V40,2))>T40),3,IF(ABS(ROUND(V40,2))>T40,2,IF(ABS(ROUND(U40,2))>S40,1,""))))) -> #N/A | Z40: =IF(M40="","",IF(AND(OR(Y40=3,Y40=9),L40<>"T"),1,"")) | AB40: =IF(AC40="C","",IF(AA40=1,1,""))
B41: 42 | C41: =Text!G122 -> Adults aged under 65 with learning disabilities | D41: 0 | E41: 0 | H41: =IF(D41<0,1,IF(-E41>D41,2,"")) | K41: =B41 -> 42 | L41: =VLOOKUP("RA"&"_"&K41,RARows[],5,FALSE) -> 0 | M41: =IF(ISNUMBER(SEARCH($K$14,VLOOKUP("RA"&"_"&K41,RARows[],6,FALSE))),1,"") | P41: =VLOOKUP("RA"&"_"&UANumber&"_"&$B41&"_"&4&"_"&P$14,ValData!$AE$4:$AL$13475,8,FALSE) -> #N/A | Q41: =ROUND(VLOOKUP("RA"&"_"&UANumber&"_"&$B41&"_"&4&"_"&Q$14,ValData!$AE$4:$AL$13475,8,FALSE),3) -> #N/A | R41: =D41 -> 0 | S41: =IF(VLOOKUP("RA"&"_"&$B41,ValData!$AS$4:$AV$253,3,FALSE)<>"",VLOOKUP("RA"&"_"&$B41,ValData!$AS$4:$AV$253,3,FALSE),$Q$10) -> 500 | T41: =IF(VLOOKUP("RA"&"_"&$B41,ValData!$AS$4:$AV$253,4,FALSE)<>"",VLOOKUP("RA"&"_"&$B41,ValData!$AS$4:$AV$253,4,FALSE),$Q$11) -> 10 | U41: =R41-Q41 -> #N/A | V41: =IF(OR(Q41=0,R41=0),0,U41/Q41*100) -> #N/A | W41: =IF(Q41=0,1,"") -> #N/A | X41: =IF(R41=0,1,"") -> 1 | Y41: =IF(SUM(W41:X41)=2,"",IF(AND(SUM(W41:X41)=1,ABS(ROUND(U41,2))>S41),9,IF(AND(ABS(ROUND(U41,2))>S41,ABS(ROUND(V41,2))>T41),3,IF(ABS(ROUND(V41,2))>T41,2,IF(ABS(ROUND(U41,2))>S41,1,""))))) -> #N/A | Z41: =IF(M41="","",IF(AND(OR(Y41=3,Y41=9),L41<>"T"),1,"")) | AB41: =IF(AC41="C","",IF(AA41=1,1,""))
