Workbook
Name _tab1: Transfer!$C$4:$H$26
Name Addresses: Details!$E$8:$R$48
Name Authority: Details!$A$36:$C$58
Name BRData: BRData!$A$4:$B$73
Name CTC_LY_Data: CTC_LY_Data!$A$4:$B$1016
Name CTCData: Transfer!$A$4:$H$26
Name CTCP1: Page1!$B$11:$Z$34
Name CTCPrev: CTC_LY_Data!$F$4:$G1013
Name Page1: Page1!$B$11:$F$34
Name Query_from_Local_Government_Finance_1: BRData!$A$4:$B$73
Name Query_from_Local_Government_Finance_1: CTC_LY_Data!$A$4:$E$1016
Name UAnumber: Details!$B$32
Name ValYOY: ValData!$A$3:$P$16
Name vtab: Transfer!$B$4:$H$26
Name Year: Details!$F$57

Sheet FrontPage
B1: =Text!C8 -> Ffurflen gasglu'r dreth gyngor ar gyfer 2025-26 | K1: =Text!C9 -> CTC | L1: 1
B3: =Text!C10 -> Cynghorau Sir a Bwrdeistref Sirol yn unig
D6: 1
B8: =Text!C11 -> Dewiswch eich awdurdod a cywirwch eich cyfeiriad os oes angen
D10: 1
D12: =IF(UAnumber=0,"",VLOOKUP(UAnumber,Addresses,3,FALSE))
D13: =IF(UAnumber=0,"",VLOOKUP(UAnumber,Addresses,5,FALSE))
D14: =IF(UAnumber=0,"",VLOOKUP(UAnumber,Addresses,6,FALSE))
D15: =IF(UAnumber=0,"",VLOOKUP(UAnumber,Addresses,7,FALSE))
D16: =IF(UAnumber=0,"",VLOOKUP(UAnumber,Addresses,8,FALSE))
D17: =IF(UAnumber=0,"",VLOOKUP(UAnumber,Addresses,9,FALSE))
D19: =Text!C12&" " -> Enw cyswllt:
D21: =Text!C13&" " -> E-bost cyswllt:
D23: =Text!C14&" " -> Rhif ffôn:
B26: =Text!C15 -> Mae'n rhaid i'r wybodaeth ar y ffurflen hon gael ei chyflwyno i Lywodraeth Cymru o dan adran 65 o Ddeddf Llywodraeth Leol a Thai 1989.
B28: =Text!C16 -> Llenwch a dychwelwch y ffurflen hon erbyn 8 Mai 2026
B30: =Text!C17 -> Anfonwch y daenlen drwy e-bost i'r cyfeiriad isod. Nodwch nad oes angen copi caled wedi'i lofnodi o'r ffurflen hon arnom bellach.
B31: =Text!C18 -> Dylid cyfeirio unrhyw ymholiadau ynghylch llenwi'r ffurflen neu'r daenlen at Jack Tennant neu Frank Kelly, dros y ffôn neu drwy e-bost fel y nodir isod.
B32: =Text!C19 -> Mae gofynion archwilio Llywodraeth Cymru yn golygu bod rhaid llenwi'r holl gelloedd. Sicrhewch bod sero yn cael ei roi ym mhob cell gwag. Os na fydd sero yn cael ei roi mewn cell, tybir y dylai gynnwys sero.
B34: =Text!C20 -> Ystadegau Cyllid Llywodraeth Leol,
B35: =Text!C21 -> Gwasanaethau Gwybodaeth a Dadansoddi,
B36: =Text!C22 -> Llywodraeth Cymru,
B37: =Text!C23 -> Parc Cathays,
B38: =Text!C24 -> CAERDYDD,
B39: =Text!C25 -> CF10 3NQ.
B40: =Text!C26 -> E-bost: | D40: =Text!C27 -> YCLLL.trosglwyddo@llyw.cymru
B41: =Text!C14 -> Rhif ffôn: | D41: 0300 025 9221 or 0300 025 5673

Sheet Page1
B1: =FrontPage!B1 -> Ffurflen gasglu'r dreth gyngor ar gyfer 2025-26 | F1: =FrontPage!K1 -> CTC
C3: =IF(UAnumber=0,"",Text!C29) | D3: =IF(UAnumber=0,Text!C31,UAnumber) -> Dewiswch eich awdurdod ar y dudalen flaen
C4: =IF(UAnumber=0,"",Text!C30) | D4: =IF(UAnumber=0,"",VLOOKUP(FrontPage!$D$10,Authority,3,FALSE))
D5: =Text!C34 -> Hyperddolen canllawiau: | F5: =Text!C36 -> £ miloedd
D6: =Text!C32 -> Dolen | E6: (1) | F6: (2)
B7: =Text!C39 -> Ni ddylai'r holl symiau gynnwys buddion y dreth gyngor (gweler y nodiadau) | E7: =Text!C37 -> Ôl-ddyledion y dreth gyngor | F7: =Text!C38 -> Y dreth gyngor yn ystod y flwyddyn
E8: =Text!C40 -> 1 Ebrill 1993 i 31 Mawrth 2025 | F8: =Year -> 2025-26 | P8: =ValData!T19 -> sero? | S8: =SUM(S11:S34) -> #N/A | T8: =SUM(T11:T34) -> 0 | U8: =SUM(U11:U34) -> 0
I9: =ValData!T23 -> Ffigyrau blwyddyn-wrth-flwyddyn | L9: =ValData!T18 -> goddefiant: | N9: =ValData!T17 -> gwahaniaeth | P9: =J10 -> 202425 | Q9: =K10 -> 202526 | R9: =ValData!T8 -> deipio | S9: =ValData!T9 -> awto | T9: =ValData!T10 -> marcio | U9: =ValData!T11 -> wirio | V9: =ValData!T12 -> statws
B10: =Text!C35 -> ADRAN A – y Dreth Gyngor | I10: =Details!H59 -> 202324 | J10: =Details!H58 -> 202425 | K10: =Details!H57 -> 202526 | L10: =ValData!T29 -> Prisio | M10: % | N10: =ValData!T7 -> prisio | O10: % | W10: =ValData!T13 -> Eich sylwadau | X10: =ValData!T14 -> Ein sylwadau | Y10: =ValData!T15 -> arwydd gan | Z10: =ValData!T16 -> dyddiad
B11: 1 | C11: =Text!C41 -> Cyfanswm yr ôl-ddyledion a gafodd eu dwyn ymlaen ar ddechrau'r flwyddyn | E11: 0 | I11: =VLOOKUP(I$10&"_"&UAnumber&"_"&$B11&"_"&2,CTCPrev,2,FALSE) -> #N/A | J11: =VLOOKUP(J$10&"_"&UAnumber&"_"&$B11&"_"&2,CTCPrev,2,FALSE) -> #N/A | K11: =E11 -> 0 | L11: 500 | M11: 10 | N11: =K11-J11 -> #N/A | O11: =IF(OR(J11=0,K11=0),0,N11/J11*100) -> #N/A | P11: =IF(J11=0,1,"") -> #N/A | Q11: =IF(K11=0,1,"") -> 1 | R11: =IF(SUM(P11:Q11)=2,"",IF(SUM(P11:Q11)=1,9,IF(AND(ABS(ROUND(N11,2))>L11,ABS(ROUND(O11,2))>M11),3,IF(ABS(ROUND(O11,2))>M11,2,IF(ABS(ROUND(N11,2))>L11,1,""))))) -> #N/A | S11: =IF(L11="","",IF(OR(R11=3,R11=9),1,"")) -> #N/A | U11: =IF(V11="C","",IF(T11=1,1,""))
B12: 2 | C12: =Text!C42 -> Cyfanswm y debyd yn ystod y flwyddyn | E12: 0 | F12: 0 | I12: =VLOOKUP(I$10&"_"&UAnumber&"_"&$B12&"_"&3,CTCPrev,2,FALSE) -> #N/A | J12: =VLOOKUP(J$10&"_"&UAnumber&"_"&$B12&"_"&3,CTCPrev,2,FALSE) -> #N/A | K12: =F12 -> 0 | L12: 2000 | M12: 5 | N12: =K12-J12 -> #N/A | O12: =IF(OR(J12=0,K12=0),0,N12/J12*100) -> #N/A | P12: =IF(J12=0,1,"") -> #N/A | Q12: =IF(K12=0,1,"") -> 1 | R12: =IF(SUM(P12:Q12)=2,"",IF(SUM(P12:Q12)=1,9,IF(AND(ABS(ROUND(N12,2))>L12,ABS(ROUND(O12,2))>M12),3,IF(ABS(ROUND(O12,2))>M12,2,IF(ABS(ROUND(N12,2))>L12,1,""))))) -> #N/A | S12: =IF(L12="","",IF(OR(R12=3,R12=9),1,"")) -> #N/A | U12: =IF(V12="C","",IF(T12=1,1,""))
B13: 3 | C13: =Text!C43 -> Y cyfanswm sy'n ddyledus mewn blwyddyn (llinell 1 + llinell 2): | E13: =SUM(E11:E12) -> 0 | F13: =F12 -> 0 | I13: =VLOOKUP(I$10&"_"&UAnumber&"_"&$B13&"_"&3,CTCPrev,2,FALSE) -> #N/A | J13: =VLOOKUP(J$10&"_"&UAnumber&"_"&$B13&"_"&3,CTCPrev,2,FALSE) -> #N/A | K13: =F13 -> 0 | L13: 3000 | M13: 5 | N13: =K13-J13 -> #N/A | O13: =IF(OR(J13=0,K13=0),0,N13/J13*100) -> #N/A | P13: =IF(J13=0,1,"") -> #N/A | Q13: =IF(K13=0,1,"") -> 1 | R13: =IF(SUM(P13:Q13)=2,"",IF(SUM(P13:Q13)=1,9,IF(AND(ABS(ROUND(N13,2))>L13,ABS(ROUND(O13,2))>M13),3,IF(ABS(ROUND(O13,2))>M13,2,IF(ABS(ROUND(N13,2))>L13,1,""))))) -> #N/A | S13: =IF(L13="","",IF(OR(R13=3,R13=9),1,"")) -> #N/A | U13: =IF(V13="C","",IF(T13=1,1,""))
C14: =Text!C44 -> ac o hynny:
B15: 4 | C15: =Text!C45 -> Y swm a gafwyd yn ystod y flwyddyn | E15: 0 | F15: 0 | I15: =VLOOKUP(I$10&"_"&UAnumber&"_"&$B15&"_"&3,CTCPrev,2,FALSE) -> #N/A | J15: =VLOOKUP(J$10&"_"&UAnumber&"_"&$B15&"_"&3,CTCPrev,2,FALSE) -> #N/A | K15: =F15 -> 0 | L15: 2000 | M15: 5 | N15: =K15-J15 -> #N/A | O15: =IF(OR(J15=0,K15=0),0,N15/J15*100) -> #N/A | P15: =IF(J15=0,1,"") -> #N/A | Q15: =IF(K15=0,1,"") -> 1 | R15: =IF(SUM(P15:Q15)=2,"",IF(SUM(P15:Q15)=1,9,IF(AND(ABS(ROUND(N15,2))>L15,ABS(ROUND(O15,2))>M15),3,IF(ABS(ROUND(O15,2))>M15,2,IF(ABS(ROUND(N15,2))>L15,1,""))))) -> #N/A | S15: =IF(L15="","",IF(OR(R15=3,R15=9),1,"")) -> #N/A | U15: =IF(V15="C","",IF(T15=1,1,""))
B16: 5 | C16: =Text!C46 -> Y swm a gafodd ei ddileu fel dyled ddrwg yn ystod y flwyddyn | E16: 0 | F16: 0 | I16: =VLOOKUP(I$10&"_"&UAnumber&"_"&$B16&"_"&3,CTCPrev,2,FALSE) -> #N/A | J16: =VLOOKUP(J$10&"_"&UAnumber&"_"&$B16&"_"&3,CTCPrev,2,FALSE) -> #N/A | K16: =F16 -> 0 | L16: 1000 | M16: 30 | N16: =K16-J16 -> #N/A | O16: =IF(OR(J16=0,K16=0),0,N16/J16*100) -> #N/A | P16: =IF(J16=0,1,"") -> #N/A | Q16: =IF(K16=0,1,"") -> 1 | R16: =IF(SUM(P16:Q16)=2,"",IF(SUM(P16:Q16)=1,9,IF(AND(ABS(ROUND(N16,2))>L16,ABS(ROUND(O16,2))>M16),3,IF(ABS(ROUND(O16,2))>M16,2,IF(ABS(ROUND(N16,2))>L16,1,""))))) -> #N/A | S16: =IF(L16="","",IF(OR(R16=3,R16=9),1,"")) -> #N/A | U16: =IF(V16="C","",IF(T16=1,1,""))
B17: 6 | C17: =Text!C47 -> Yr ôl-ddyledion heb eu talu ar ddiwedd y flwyddyn (llinell 3 - llinell 4 - llinell 5) | E17: =E13-E15-E16 -> 0 | F17: =F13-F15-F16 -> 0 | I17: =VLOOKUP(I$10&"_"&UAnumber&"_"&$B17&"_"&3,CTCPrev,2,FALSE) -> #N/A | J17: =VLOOKUP(J$10&"_"&UAnumber&"_"&$B17&"_"&3,CTCPrev,2,FALSE) -> #N/A | K17: =F17 -> 0 | L17: 500 | M17: 5 | N17: =K17-J17 -> #N/A | O17: =IF(OR(J17=0,K17=0),0,N17/J17*100) -> #N/A | P17: =IF(J17=0,1,"") -> #N/A | Q17: =IF(K17=0,1,"") -> 1 | R17: =IF(SUM(P17:Q17)=2,"",IF(SUM(P17:Q17)=1,9,IF(AND(ABS(ROUND(N17,2))>L17,ABS(ROUND(O17,2))>M17),3,IF(ABS(ROUND(O17,2))>M17,2,IF(ABS(ROUND(N17,2))>L17,1,""))))) -> #N/A | S17: =IF(L17="","",IF(OR(R17=3,R17=9),1,"")) -> #N/A | U17: =IF(V17="C","",IF(T17=1,1,""))
B19: 7 | C19: =Text!C48 -> Y swm yn y gyllideb yn wreiddiol i'w gasglu ar gyfer y flwyddyn pan osodwyd y dreth gyngor | F19: 0 | I19: =VLOOKUP(I$10&"_"&UAnumber&"_"&$B19&"_"&3,CTCPrev,2,FALSE) -> #N/A | J19: =VLOOKUP(J$10&"_"&UAnumber&"_"&$B19&"_"&3,CTCPrev,2,FALSE) -> #N/A | K19: =F19 -> 0 | L19: 3000 | M19: 5 | N19: =K19-J19 -> #N/A | O19: =IF(OR(J19=0,K19=0),0,N19/J19*100) -> #N/A | P19: =IF(J19=0,1,"") -> #N/A | Q19: =IF(K19=0,1,"") -> 1 | R19: =IF(SUM(P19:Q19)=2,"",IF(SUM(P19:Q19)=1,9,IF(AND(ABS(ROUND(N19,2))>L19,ABS(ROUND(O19,2))>M19),3,IF(ABS(ROUND(O19,2))>M19,2,IF(ABS(ROUND(N19,2))>L19,1,""))))) -> #N/A | S19: =IF(L19="","",IF(OR(R19=3,R19=9),1,"")) -> #N/A | U19: =IF(V19="C","",IF(T19=1,1,""))
B21: =Text!C49 -> Cyfraddau casglu ar gyfer 2025-26: | F21: %
B22: 8 | C22: =Text!C50 -> Llinell 4 fel % o'r cyfanswm sy'n ddyledus: (llinell 4 / llinell 3 x 100) | F22: =IF(ISERROR(F15/F13*100),0,(F15/F13)*100) -> 0 | I22: =VLOOKUP(I$10&"_"&UAnumber&"_"&$B22&"_"&3,CTCPrev,2,FALSE) -> #N/A | J22: =VLOOKUP(J$10&"_"&UAnumber&"_"&$B22&"_"&3,CTCPrev,2,FALSE) -> #N/A | K22: =F22 -> 0
B23: 9 | C23: =Text!C51 -> Llinell 4 fel % o'r swm yn y gyllideb: (llinell 4 / llinell 7 x 100) | F23: =IF(ISERROR(F15/F19*100),0,(F15/F19)*100) -> 0 | I23: =VLOOKUP(I$10&"_"&UAnumber&"_"&$B23&"_"&3,CTCPrev,2,FALSE) -> #N/A | J23: =VLOOKUP(J$10&"_"&UAnumber&"_"&$B23&"_"&3,CTCPrev,2,FALSE) -> #N/A | K23: =F23 -> 0
B25: =Text!C52 -> Memorandwm
B26: 10.1 | C26: =Text!C53 -> Nifer o eiddo sy'n atebol am bremiwm eiddo gwag hirdymor | F26: 0
B27: 10.2 | C27: =Text!C54 -> Nifer o eiddo sy'n atebol am bremiwm ail gartref | F27: 0
B28: 10.3 | C28: =Text!C55 -> Yr incwm a dderbyniwyd drwy godi premiwm ar eiddo gwag hirdymor | F28: 0
B29: 10.4 | C29: =Text!C56 -> Yr incwm sy'n cael ei dderbyn drwy godi premiwm ar ail gartrefi | F29: 0
B30: =Text!C57 -> ADRAN B – Ardrethi annomestig
B31: 10.5 | C31: =Text!C58 -> Amcangyfrif o ddebyd net sydd i'w gasglu yn ystod y flwyddyn | F31: 0 | I31: =VLOOKUP(I$10&"_"&UAnumber&"_"&$B31&"_"&4,CTCPrev,2,FALSE) -> #N/A | J31: =VLOOKUP(J$10&"_"&UAnumber&"_"&$B31&"_"&4,CTCPrev,2,FALSE) -> #N/A | K31: =F31 -> 0 | L31: =$J$5 -> 0 | M31: 5 | N31: =K31-J31 -> #N/A | O31: =IF(OR(J31=0,K31=0),0,N31/J31*100) -> #N/A | P31: =IF(J31=0,1,"") -> #N/A | Q31: =IF(K31=0,1,"") -> 1 | R31: =IF(SUM(P31:Q31)=2,"",IF(SUM(P31:Q31)=1,9,IF(AND(ABS(ROUND(N31,2))>L31,ABS(ROUND(O31,2))>M31),3,IF(ABS(ROUND(O31,2))>M31,2,IF(ABS(ROUND(N31,2))>L31,1,""))))) -> #N/A | S31: =IF(L31="","",IF(OR(R31=3,R31=9),1,"")) -> #N/A | U31: =IF(V31="C","",IF(T31=1,1,""))
B32: 11 | C32: =Text!C59 -> Derbyniadau ardrethi annomestig yn ystod y flwyddyn (heb gynnwys ad-daliadau) | F32: 0 | I32: =VLOOKUP(I$10&"_"&UAnumber&"_"&$B32&"_"&4,CTCPrev,2,FALSE) -> #N/A | J32: =VLOOKUP(J$10&"_"&UAnumber&"_"&$B32&"_"&4,CTCPrev,2,FALSE) -> #N/A | K32: =F32 -> 0 | L32: 3000 | M32: 5 | N32: =K32-J32 -> #N/A | O32: =IF(OR(J32=0,K32=0),0,N32/J32*100) -> #N/A | P32: =IF(J32=0,1,"") -> #N/A | Q32: =IF(K32=0,1,"") -> 1 | R32: =IF(SUM(P32:Q32)=2,"",IF(SUM(P32:Q32)=1,9,IF(AND(ABS(ROUND(N32,2))>L32,ABS(ROUND(O32,2))>M32),3,IF(ABS(ROUND(O32,2))>M32,2,IF(ABS(ROUND(N32,2))>L32,1,""))))) -> #N/A | S32: =IF(L32="","",IF(OR(R32=3,R32=9),1,"")) -> #N/A | U32: =IF(V32="C","",IF(T32=1,1,""))
B33: 12 | C33: =Text!C60 -> Derbyniadau ardrethi annomestig ar gyfer blynyddoedd cynharach (heb gynnwys ad-daliadau) | F33: 0 | I33: =VLOOKUP(I$10&"_"&UAnumber&"_"&$B33&"_"&4,CTCPrev,2,FALSE) -> #N/A | J33: =VLOOKUP(J$10&"_"&UAnumber&"_"&$B33&"_"&4,CTCPrev,2,FALSE) -> #N/A | K33: =F33 -> 0 | L33: 1000 | M33: 100 | N33: =K33-J33 -> #N/A | O33: =IF(OR(J33=0,K33=0),0,N33/J33*100) -> #N/A | P33: =IF(J33=0,1,"") -> #N/A | Q33: =IF(K33=0,1,"") -> 1 | R33: =IF(SUM(P33:Q33)=2,"",IF(SUM(P33:Q33)=1,9,IF(AND(ABS(ROUND(N33,2))>L33,ABS(ROUND(O33,2))>M33),3,IF(ABS(ROUND(O33,2))>M33,2,IF(ABS(ROUND(N33,2))>L33,1,""))))) -> #N/A | S33: =IF(L33="","",IF(OR(R33=3,R33=9),1,"")) -> #N/A | U33: =IF(V33="C","",IF(T33=1,1,""))
B34: 12.5 | C34: =Text!C61 -> Cyfradd casglu ardrethi annomestig (%) (llinell 11 / llinell 10.5 x 100) | F34: =IF(ISERROR((F32/F31)*100),0, (F32/F31)*100) -> 0 | I34: =VLOOKUP(I$10&"_"&UAnumber&"_"&$B34&"_"&4,CTCPrev,2,FALSE) -> #N/A | J34: =VLOOKUP(J$10&"_"&UAnumber&"_"&$B34&"_"&4,CTCPrev,2,FALSE) -> #N/A | K34: =F34 -> 0

Sheet Validations
B1: =Text!C8 -> Ffurflen gasglu'r dreth gyngor ar gyfer 2025-26 | O1: ="CTC" -> CTC | AD1: Set cells below to grey
AD2: Year: | AE2: =Details!H58 -> 202425 | AF2: =Details!H57 -> 202526
B3: =IF(UAnumber=0,"",Text!C29) | C3: =IF(UAnumber=0,Text!C31,UAnumber) -> Dewiswch eich awdurdod ar y dudalen flaen | AD3: Code: | AE3: =UAnumber -> 0
B4: =IF(UAnumber=0,"",Text!C30) | C4: =IF(UAnumber=0,"",VLOOKUP(FrontPage!$D$10,Authority,3,FALSE))
B5: =Text!C63 -> Gwiriadau dilysu | J5: =Text!C64 -> Goddefiant | O5: =Text!C65 -> Rhowch sylw isod os oes angen | AD5: Form | AE5: Row | AF5: Col.
B7: =Text!C66 -> ÔL-DDYLEDION Y DRETH GYNGOR
A9: 1 | B9: =Text!C67 -> Ôl-ddyledion a ddygwyd ymlaen | O9: =IF(ABS(G12)>99,Text!C71,Text!C72) -> #N/A
F10: =Text!C68&" " -> Ôl-ddyledion sy’n aros, 2024-25 (rhes 6, cholofnau 1 a 2) | G10: =VLOOKUP($AE$2&$AD$10&$AE$3&AE10&AF10,CTC_LY_Data,2,FALSE)+VLOOKUP($AE$2&$AD$10&$AE$3&AE11&AF11,CTC_LY_Data,2,FALSE) -> #N/A | AD10: CTC | AE10: 6.000 | AF10: 2.00
F11: =Text!C69&" " -> Ôl-ddyledion a ddygwyd ymlaen ar 2025-26 (rhes 1, colofn 2) | G11: =VLOOKUP($AF$2&$AE$3&AE12&AF12,CTCData,8,FALSE) -> 0 | J11: +/- 99k | AE11: 6.000 | AF11: 3.00
F12: =Text!C70&" " -> Gwahaniaeth | G12: =G10-G11 -> #N/A | AE12: 1 | AF12: 2
B14: =Text!C73 -> CYMHARU'R NAILL FLWYDDYN AR ÔL Y LLALL
A16: 2 | B16: =Text!C74 -> Y swm a gafwyd fel % o'r swm sy'n ddyledus, 2024-25 a 2025-26 | O16: =IF(OR(G19<-2.4,G19>3),Text!C71,Text!C72) -> #N/A
F17: =Text!C75&" " -> Casglu'r Dreth Gyngor (rhes 8), 2024-25 | G17: =VLOOKUP($AE$2&$AD$10&$AE$3&AE17&AF17,CTC_LY_Data,2,FALSE) -> #N/A | H17: % | AE17: 8.000 | AF17: 3.00
F18: =Text!C76&" " -> Casglu'r Dreth Gyngor (rhes 8), 2025-26 | G18: =VLOOKUP($AF$2&$AE$3&AE18&AF18,CTCData,8,FALSE) -> 0 | H18: % | J18: ="3% "&Text!C99&" -2.4%" -> 3% i -2.4% | AE18: 8 | AF18: 3
F19: =Text!C70&" " -> Gwahaniaeth | G19: =G17-G18 -> #N/A | H19: %
B21: =Text!C77 -> Y DRETH GYNGOR YN YSTOD Y FLWYDDYN
A23: 3 | B23: =Text!C74 -> Y swm a gafwyd fel % o'r swm sy'n ddyledus, 2024-25 a 2025-26 | O23: =IF(G26<30,Text!C71,Text!C72) -> #DIV/0!
F24: =Text!C78&" " -> Y swm a gafwyd (rhes 4, colofn 2) | G24: =VLOOKUP($AF$2&$AE$3&AE24&AF24,CTCData,8,FALSE) -> 0 | AE24: 4 | AF24: 2
F25: =Text!C79&" " -> Y cyfanswm sy'n ddyledus (rhes 3, colofn 2) | G25: =VLOOKUP($AF$2&$AE$3&AE25&AF25,CTCData,8,FALSE) -> 0 | J25: >30% | AE25: 3 | AF25: 2
F26: =Text!C80&" " -> Canran | G26: =(G24/G25)*100 -> #DIV/0! | H26: %
A28: 4 | B28: =Text!C81 -> Dyled yn ystod y flwyddyn o gymharu â'r swm yn y gyllideb yn wreiddiol i'w gasglu | O28: =IF(G29<G30,Text!C71,Text!C72) -> Clir
F29: =Text!C82&" " -> Cyfanswm y debyd ar gyfer y flwyddyn (rhes 2, colofn 2) | G29: =VLOOKUP($AF$2&$AE$3&AE29&AF29,CTCData,8,FALSE) -> 0 | J29: =Text!C84 -> rhes 2 >= rhes 7 | AE29: 2 | AF29: 3
F30: =Text!C83&" " -> Y swm a nodwyd yn y gyllideb yn wreiddiol (rhes 7) | G30: =VLOOKUP($AF$2&$AE$3&AE30&AF30,CTCData,8,FALSE) -> 0 | AE30: 7 | AF30: 3
F31: =Text!C70&" " -> Gwahaniaeth | G31: =G29-G30 -> 0
A33: 5 | B33: =Text!C85 -> Y swm a gafwyd fel canran o'r swm sy'n ddyledus | O33: =IF(OR(G36<90,G36>100),Text!C71,Text!C72) -> #DIV/0!
F34: =Text!C86&" " -> Y swm a gafwyd (rhes 4, colofn 3) | G34: =VLOOKUP($AF$2&$AE$3&AE34&AF34,CTCData,8,FALSE) -> 0 | AE34: 4 | AF34: 3
F35: =Text!C87&" " -> Y cyfanswm sy'n ddyledus (rhes 3, colofn 3) | G35: =VLOOKUP($AF$2&$AE$3&AE35&AF35,CTCData,8,FALSE) -> 0 | J35: ="90% "&Text!C99&" 100%" -> 90% i 100% | AE35: 3 | AF35: 3
F36: =Text!C80&" " -> Canran | G36: =(G34/G35)*100 -> #DIV/0! | H36: %
A38: 6 | B38: =Text!C88 -> Y swm a gafwyd o gymharu â'r swm i'w gasglu o'r gyllideb wreiddiol | O38: =IF(OR(G41<97,G41>103),Text!C71,Text!C72) -> #DIV/0!
F39: =Text!C86&" " -> Y swm a gafwyd (rhes 4, colofn 3) | G39: =VLOOKUP($AF$2&$AE$3&AE39&AF39,CTCData,8,FALSE) -> 0 | AE39: 4 | AF39: 3
F40: =Text!C83&" " -> Y swm a nodwyd yn y gyllideb yn wreiddiol (rhes 7) | G40: =VLOOKUP($AF$2&$AE$3&AE40&AF40,CTCData,8,FALSE) -> 0 | J40: ="97% "&Text!C99&" 103%" -> 97% i 103% | AE40: 7 | AF40: 3
F41: =Text!C80&" " -> Canran | G41: =(G39/G40)*100 -> #DIV/0! | H41: %
A43: 7 | B43: =Text!C115 -> Swm a dderbyniwyd mewn perthynas â swm y cyfanswm sy'n ddyledus | O43: =IF(OR(G46<90,G46>100),Text!C71,Text!C72) -> #DIV/0!
F44: =Text!C83&" " -> Y swm a nodwyd yn y gyllideb yn wreiddiol (rhes 7) | G44: =VLOOKUP($AF$2&$AE$3&AE44&AF44,CTCData,8,FALSE) -> 0 | AE44: 7 | AF44: 3
F45: =Text!C87&" " -> Y cyfanswm sy'n ddyledus (rhes 3, colofn 3) | G45: =VLOOKUP($AF$2&$AE$3&AE45&AF45,CTCData,8,FALSE) -> 0 | J45: ="90% "&Text!C99&" 100%" -> 90% i 100% | AE45: 3 | AF45: 3
F46: =Text!C80&" " -> Canran | G46: =(G44/G45)*100 -> #DIV/0! | H46: %
A48: 8 | B48: =Text!C85 -> Y swm a gafwyd fel canran o'r swm sy'n ddyledus | O48: =IF(OR(G49<93,G49>98),Text!C71,Text!C72) -> Rhowch sylw
F49: =Text!C89&" " -> CTC, rhes 8 | G49: =VLOOKUP($AF$2&$AE$3&AE49&AF49,CTCData,8,FALSE) -> 0 | H49: % | J49: ="93% "&Text!C99&" 98%" -> 93% i 98% | AE49: 8 | AF49: 3
B53: =Text!C90 -> CYMHARU Â'R FFURFLEN GOFYNION CYLLIDEB (BR1), 2025-26
A55: 9 | B55: =Text!C91 -> CTC, llinell 7 minws llinellau 5 + 16 BR1 (mewn miloedd) | O55: =IF(ABS(G59)>1,Text!C71,Text!C72) -> #N/A
...

Sheet Comments
B1: =Text!C8 -> Ffurflen gasglu'r dreth gyngor ar gyfer 2025-26 | G1: =Text!C9 -> CTC
B4: =Text!C102 -> Dyluniad y ffurflen
B6: =Text!C103 -> Dilysu
B8: =Text!C104 -> Dogfennaeth
B10: =Text!C105 -> Sylwadau cyffredinol

Sheet Survey Response Burden
B1: =Text!C8 -> Ffurflen gasglu'r dreth gyngor ar gyfer 2025-26
B3: =Text!C107 -> Y Baich o Ymateb i'r Arolwg
B4: =Text!C108 -> Mae Llywodraeth Cymru yn monitro'r baich o lenwi'r ffurflen gasglu data hon.
B6: =Text!C109 -> Nodwch yr amser a gymerwyd gennych chi (ac unrhyw gydweithiwr) i baratoi ac anfon y ffurflen.
B8: =Text!C110 -> Dylech gynnwys yr amser a dreuliwyd ar weithgarwch i baratoi ac anfon y ffurflen hon yn unig, megis:
B9: =Text!C111 -> ● casglu, dadansoddi a chrynhoi'r cofnodion a'r data gofynnol
B10: =Text!C112 -> ● cwblhau, gwirio, diwygio a chymeradwyo'r ffurflen.
B12: =Text!C113&": " -> Nifer yr oriau:
C14: =Text!C114 -> Mae croeso i chi ychwanegu unrhyw sylwadau

Sheet Transfer
A1: Hidden page | C1: FK Updated on: | D1: 45754 | F1: Year= | G1: =Year -> 2025-26
A4: Key | B4: Version | C4: YearCode | D4: FormRef | E4: RowRef | F4: ColumnRef | G4: AuthCode | H4: Data
A5: =C5&G5&E5&F5 -> 202526012 | B5: =FrontPage!$L$1 -> 1 | C5: =Details!$H$57 -> 202526 | D5: CTC | E5: 1 | F5: 2 | G5: =UAnumber -> 0 | H5: =IF(VLOOKUP(E5,Page1,F5+2,FALSE)="",0,VLOOKUP(E5,Page1,F5+2,FALSE)) -> 0
A6: =C6&G6&E6&F6 -> 202526022 | B6: =FrontPage!$L$1 -> 1 | C6: =Details!$H$57 -> 202526 | D6: CTC | E6: 2 | F6: 2 | G6: =UAnumber -> 0 | H6: =IF(VLOOKUP(E6,Page1,F6+2,FALSE)="",0,VLOOKUP(E6,Page1,F6+2,FALSE)) -> 0
A7: =C7&G7&E7&F7 -> 202526032 | B7: =FrontPage!$L$1 -> 1 | C7: =Details!$H$57 -> 202526 | D7: CTC | E7: 3 | F7: 2 | G7: =UAnumber -> 0 | H7: =IF(VLOOKUP(E7,Page1,F7+2,FALSE)="",0,VLOOKUP(E7,Page1,F7+2,FALSE)) -> 0
A8: =C8&G8&E8&F8 -> 202526042 | B8: =FrontPage!$L$1 -> 1 | C8: =Details!$H$57 -> 202526 | D8: CTC | E8: 4 | F8: 2 | G8: =UAnumber -> 0 | H8: =IF(VLOOKUP(E8,Page1,F8+2,FALSE)="",0,VLOOKUP(E8,Page1,F8+2,FALSE)) -> 0
A9: =C9&G9&E9&F9 -> 202526052 | B9: =FrontPage!$L$1 -> 1 | C9: =Details!$H$57 -> 202526 | D9: CTC | E9: 5 | F9: 2 | G9: =UAnumber -> 0 | H9: =IF(VLOOKUP(E9,Page1,F9+2,FALSE)="",0,VLOOKUP(E9,Page1,F9+2,FALSE)) -> 0
A10: =C10&G10&E10&F10 -> 202526062 | B10: =FrontPage!$L$1 -> 1 | C10: =Details!$H$57 -> 202526 | D10: CTC | E10: 6 | F10: 2 | G10: =UAnumber -> 0 | H10: =IF(VLOOKUP(E10,Page1,F10+2,FALSE)="",0,VLOOKUP(E10,Page1,F10+2,FALSE)) -> 0
A11: =C11&G11&E11&F11 -> 202526023 | B11: =FrontPage!$L$1 -> 1 | C11: =Details!$H$57 -> 202526 | D11: CTC | E11: 2 | F11: 3 | G11: =UAnumber -> 0 | H11: =IF(VLOOKUP(E11,Page1,F11+2,FALSE)="",0,VLOOKUP(E11,Page1,F11+2,FALSE)) -> 0
A12: =C12&G12&E12&F12 -> 202526033 | B12: =FrontPage!$L$1 -> 1 | C12: =Details!$H$57 -> 202526 | D12: CTC | E12: 3 | F12: 3 | G12: =UAnumber -> 0 | H12: =IF(VLOOKUP(E12,Page1,F12+2,FALSE)="",0,VLOOKUP(E12,Page1,F12+2,FALSE)) -> 0
A13: =C13&G13&E13&F13 -> 202526043 | B13: =FrontPage!$L$1 -> 1 | C13: =Details!$H$57 -> 202526 | D13: CTC | E13: 4 | F13: 3 | G13: =UAnumber -> 0 | H13: =IF(VLOOKUP(E13,Page1,F13+2,FALSE)="",0,VLOOKUP(E13,Page1,F13+2,FALSE)) -> 0
A14: =C14&G14&E14&F14 -> 202526053 | B14: =FrontPage!$L$1 -> 1 | C14: =Details!$H$57 -> 202526 | D14: CTC | E14: 5 | F14: 3 | G14: =UAnumber -> 0 | H14: =IF(VLOOKUP(E14,Page1,F14+2,FALSE)="",0,VLOOKUP(E14,Page1,F14+2,FALSE)) -> 0
A15: =C15&G15&E15&F15 -> 202526063 | B15: =FrontPage!$L$1 -> 1 | C15: =Details!$H$57 -> 202526 | D15: CTC | E15: 6 | F15: 3 | G15: =UAnumber -> 0 | H15: =IF(VLOOKUP(E15,Page1,F15+2,FALSE)="",0,VLOOKUP(E15,Page1,F15+2,FALSE)) -> 0
A16: =C16&G16&E16&F16 -> 202526073 | B16: =FrontPage!$L$1 -> 1 | C16: =Details!$H$57 -> 202526 | D16: CTC | E16: 7 | F16: 3 | G16: =UAnumber -> 0 | H16: =IF(VLOOKUP(E16,Page1,F16+2,FALSE)="",0,VLOOKUP(E16,Page1,F16+2,FALSE)) -> 0
... A22: =C22&G22&E22&F22 -> 202526010.43 | B22: =FrontPage!$L$1 -> 1 | C22: =Details!$H$57 -> 202526 | D22: CTC | E22: 10.4 | F22: 3 | G22: =UAnumber -> 0 | H22: =IF(VLOOKUP(E22,Page1,F22+2,FALSE)="",0,VLOOKUP(E22,Page1,F22+2,FALSE)) -> 0
A23: =C23&G23&E23&F23 -> 202526010.54 | B23: =FrontPage!$L$1 -> 1 | C23: =Details!$H$57 -> 202526 | D23: CTC | E23: 10.5 | F23: 4 | G23: =UAnumber -> 0 | H23: =IF(VLOOKUP(E23,Page1,F23+1,FALSE)="",0,VLOOKUP(E23,Page1,F23+1,FALSE)) -> 0
A24: =C24&G24&E24&F24 -> 2025260114 | B24: =FrontPage!$L$1 -> 1 | C24: =Details!$H$57 -> 202526 | D24: CTC | E24: 11 | F24: 4 | G24: =UAnumber -> 0 | H24: =IF(VLOOKUP(E24,Page1,F24+1,FALSE)="",0,VLOOKUP(E24,Page1,F24+1,FALSE)) -> 0
A25: =C25&G25&E25&F25 -> 2025260124 | B25: =FrontPage!$L$1 -> 1 | C25: =Details!$H$57 -> 202526 | D25: CTC | E25: 12 | F25: 4 | G25: =UAnumber -> 0 | H25: =IF(VLOOKUP(E25,Page1,F25+1,FALSE)="",0,VLOOKUP(E25,Page1,F25+1,FALSE)) -> 0
A26: =C26&G26&E26&F26 -> 202526012.54 | B26: =FrontPage!$L$1 -> 1 | C26: =Details!$H$57 -> 202526 | D26: CTC | E26: 12.5 | F26: 4 | G26: =UAnumber -> 0 | H26: =IF(VLOOKUP(E26,Page1,F26+1,FALSE)="",0,VLOOKUP(E26,Page1,F26+1,FALSE)) -> 0

Sheet CTC_LY_Data
A1: ="For "&Year&", set to between "&Details!H59&" and "&Details!H58 -> For 2025-26, set to between 202324 and 202425 | C1: Hidden page | H1: FK Updated and checked on: | I1: 7.4.25
A3: SQL | F3: CTCPrev
B4: Data | C4: AuthCode | D4: RowRef | E4: ColumnRef | F4: Index | G4: Data
A5: 202324CTC5121.0002.00 | B5: 4790 | C5: 512 | D5: 1 | E5: 2 | F5: =LEFT(A5,6)&"_"&C5&"_"&D5&"_"&E5 -> 202324_512_1_2 | G5: =B5 -> 4790
A6: 202324CTC51210.1003.00 | B6: 538 | C6: 512 | D6: 10.1 | E6: 3 | F6: =LEFT(A6,6)&"_"&C6&"_"&D6&"_"&E6 -> 202324_512_10.1_3 | G6: =B6 -> 538
A7: 202324CTC51210.2003.00 | B7: 2565 | C7: 512 | D7: 10.2 | E7: 3 | F7: =LEFT(A7,6)&"_"&C7&"_"&D7&"_"&E7 -> 202324_512_10.2_3 | G7: =B7 -> 2565
A8: 202324CTC51210.3003.00 | B8: 612 | C8: 512 | D8: 10.3 | E8: 3 | F8: =LEFT(A8,6)&"_"&C8&"_"&D8&"_"&E8 -> 202324_512_10.3_3 | G8: =B8 -> 612
A9: 202324CTC51210.4003.00 | B9: 3438 | C9: 512 | D9: 10.4 | E9: 3 | F9: =LEFT(A9,6)&"_"&C9&"_"&D9&"_"&E9 -> 202324_512_10.4_3 | G9: =B9 -> 3438
A10: 202324CTC51210.5004.00 | B10: 12947 | C10: 512 | D10: 10.5 | E10: 4 | F10: =LEFT(A10,6)&"_"&C10&"_"&D10&"_"&E10 -> 202324_512_10.5_4 | G10: =B10 -> 12947
A11: 202324CTC51211.0004.00 | B11: 12551 | C11: 512 | D11: 11 | E11: 4 | F11: =LEFT(A11,6)&"_"&C11&"_"&D11&"_"&E11 -> 202324_512_11_4 | G11: =B11 -> 12551
A12: 202324CTC51212.0004.00 | B12: -2651 | C12: 512 | D12: 12 | E12: 4 | F12: =LEFT(A12,6)&"_"&C12&"_"&D12&"_"&E12 -> 202324_512_12_4 | G12: =B12 -> -2651
A13: 202324CTC51212.5004.00 | B13: 96.941376 | C13: 512 | D13: 12.5 | E13: 4 | F13: =LEFT(A13,6)&"_"&C13&"_"&D13&"_"&E13 -> 202324_512_12.5_4 | G13: =B13 -> 96.941376
A14: 202324CTC5122.0002.00 | B14: -222 | C14: 512 | D14: 2 | E14: 2 | F14: =LEFT(A14,6)&"_"&C14&"_"&D14&"_"&E14 -> 202324_512_2_2 | G14: =B14 -> -222
A15: 202324CTC5122.0003.00 | B15: 54200 | C15: 512 | D15: 2 | E15: 3 | F15: =LEFT(A15,6)&"_"&C15&"_"&D15&"_"&E15 -> 202324_512_2_3 | G15: =B15 -> 54200
A16: 202324CTC5123.0002.00 | B16: 4568 | C16: 512 | D16: 3 | E16: 2 | F16: =LEFT(A16,6)&"_"&C16&"_"&D16&"_"&E16 -> 202324_512_3_2 | G16: =B16 -> 4568
... A1016: 202425CTC5969.0003.00 | B1016: 98.204 | C1016: 596 | D1016: 9 | E1016: 3 | F1016: =LEFT(A1016,6)&"_"&C1016&"_"&D1016&"_"&E1016 -> 202425_596_9_3 | G1016: =B1016 -> 98.204

Sheet BRData
A1: ="For "&Year&", set to "&Year -> For 2025-26, set to 2025-26 | C1: Hidden page | F1: FK Updated and checked on: | G1: 7.4.25
A3: SQL
B4: Data
A5: 202526BR15127.0001.00 | B5: 0.985
A6: 202526BR151216.0001.00 | B6: 12456668
A7: 202526BR15125.0001.00 | B7: 59305745
A8: 202526BR15147.0001.00 | B8: 0.99
A9: 202526BR151416.0001.00 | B9: 21153769
A10: 202526BR15145.0001.00 | B10: 111869332
A11: 202526BR15167.0001.00 | B11: 0.98
A12: 202526BR151616.0001.00 | B12: 19841032
A13: 202526BR15165.0001.00 | B13: 103893197
A14: 202526BR15187.0001.00 | B14: 0.988
A15: 202526BR151816.0001.00 | B15: 15814414
A16: 202526BR15185.0001.00 | B16: 78399592
... A73: 202526BR15965.0001.00 | B73: 2.3228616e+09

Sheet Text
A1: FK Updated and checked on: | B1: 7.4.25
A2: Hidden page
A3: Text Conversion Tables
A5: English Text | B5: Welsh Text | C5: Display Text
A7: FrontPage
A8: ="Council tax collection return for "&Year -> Council tax collection return for 2025-26 | B8: ="Ffurflen gasglu'r dreth gyngor ar gyfer "&Year -> Ffurflen gasglu'r dreth gyngor ar gyfer 2025-26 | C8: =IF(FrontPage!$D$6=1,Text!B8,Text!A8) -> Ffurflen gasglu'r dreth gyngor ar gyfer 2025-26
A9: CTC | B9: CTC | C9: =IF(FrontPage!$D$6=1,Text!B9,Text!A9) -> CTC
A10: County and County borough councils only | B10: Cynghorau Sir a Bwrdeistref Sirol yn unig | C10: =IF(FrontPage!$D$6=1,Text!B10,Text!A10) -> Cynghorau Sir a Bwrdeistref Sirol yn unig
A11: Please select your authority and if necessary, amend any incorrect details | B11: Dewiswch eich awdurdod a cywirwch eich cyfeiriad os oes angen | C11: =IF(FrontPage!$D$6=1,Text!B11,Text!A11) -> Dewiswch eich awdurdod a cywirwch eich cyfeiriad os oes angen
A12: Contact name: | B12: Enw cyswllt: | C12: =IF(FrontPage!$D$6=1,Text!B12,Text!A12) -> Enw cyswllt:
A13: Contact E-mail: | B13: E-bost cyswllt: | C13: =IF(FrontPage!$D$6=1,Text!B13,Text!A13) -> E-bost cyswllt:
A14: Tel: | B14: Rhif ffôn: | C14: =IF(FrontPage!$D$6=1,Text!B14,Text!A14) -> Rhif ffôn:
A15: The information on this form must be submitted to the Welsh Government under section 65 of the Local Government and Housing Act 1989. | B15: Mae'n rhaid i'r wybodaeth ar y ffurflen hon gael ei chyflwyno i Lywodraeth Cymru o dan adran 65 o Ddeddf Llywodraeth Leol a Thai 1989. | C15: =IF(FrontPage!$D$6=1,Text!B15,Text!A15) -> Mae'n rhaid i'r wybodaeth ar y ffurflen hon gael ei chyflwyno i Lywodraeth Cymru o dan adran 65 o Ddeddf Llywodraeth Leol a Thai 1989.
A16: ="Please complete and return this form by "&Details!F60 -> Please complete and return this form by 8 May 2026 | B16: ="Llenwch a dychwelwch y ffurflen hon erbyn "&Details!F61 -> Llenwch a dychwelwch y ffurflen hon erbyn 8 Mai 2026 | C16: =IF(FrontPage!$D$6=1,Text!B16,Text!A16) -> Llenwch a dychwelwch y ffurflen hon erbyn 8 Mai 2026
A17: Please email the spreadsheet to the address below, please note that we no longer require a signed hard-copy of this return. | B17: Anfonwch y daenlen drwy e-bost i'r cyfeiriad isod. Nodwch nad oes angen copi caled wedi'i lofnodi o'r ffurflen hon arnom bellach. | C17: =IF(FrontPage!$D$6=1,Text!B17,Text!A17) -> Anfonwch y daenlen drwy e-bost i'r cyfeiriad isod. Nodwch nad oes angen copi caled wedi'i lofnodi o'r ffurflen hon arnom bellach.
A18: Any queries on completion of the form or spreadsheet should be directed to Jack Tennant or Frank Kelly, via telephone, e-mail as directed below. | B18: Dylid cyfeirio unrhyw ymholiadau ynghylch llenwi'r ffurflen neu'r daenlen at Jack Tennant neu Frank Kelly, dros y ffôn neu drwy e-bost fel y nodir isod. | C18: =IF(FrontPage!$D$6=1,Text!B18,Text!A18) -> Dylid cyfeirio unrhyw ymholiadau ynghylch llenwi'r ffurflen neu'r daenlen at Jack Tennant neu Frank Kelly, dros y ffôn neu drwy e-bost fel y nodir isod.
A19: It is a Welsh Government audit requirement that all cells are completed. Please ensure that all blank cells are populated with zeros, those that are not will be assumed to be zero. | B19: Mae gofynion archwilio Llywodraeth Cymru yn golygu bod rhaid llenwi'r holl gelloedd. Sicrhewch bod sero yn cael ei roi ym mhob cell gwag. Os na fydd sero yn cael ei roi mewn cell, tybir y dylai gynnwys sero. | C19: =IF(FrontPage!$D$6=1,Text!B19,Text!A19) -> Mae gofynion archwilio Llywodraeth Cymru yn golygu bod rhaid llenwi'r holl gelloedd. Sicrhewch bod sero yn cael ei roi ym mhob cell gwag. Os na fydd sero yn cael ei roi mewn cell, tybir y dylai gynnwys sero.
A20: Local Government Finance Statistics, | B20: Ystadegau Cyllid Llywodraeth Leol, | C20: =IF(FrontPage!$D$6=1,Text!B20,Text!A20) -> Ystadegau Cyllid Llywodraeth Leol,
A21: Knowledge and Analytical Services, | B21: Gwasanaethau Gwybodaeth a Dadansoddi, | C21: =IF(FrontPage!$D$6=1,Text!B21,Text!A21) -> Gwasanaethau Gwybodaeth a Dadansoddi,
A22: Welsh Government, | B22: Llywodraeth Cymru, | C22: =IF(FrontPage!$D$6=1,Text!B22,Text!A22) -> Llywodraeth Cymru,
A23: Cathays Park, | B23: Parc Cathays, | C23: =IF(FrontPage!$D$6=1,Text!B23,Text!A23) -> Parc Cathays,
A24: CARDIFF, | B24: CAERDYDD, | C24: =IF(FrontPage!$D$6=1,Text!B24,Text!A24) -> CAERDYDD,
A25: CF10 3NQ. | B25: CF10 3NQ. | C25: =IF(FrontPage!$D$6=1,Text!B25,Text!A25) -> CF10 3NQ.
A26: E-mail: | B26: E-bost: | C26: =IF(FrontPage!$D$6=1,Text!B26,Text!A26) -> E-bost:
A27: LGFS.Transfer@gov.wales | B27: YCLLL.trosglwyddo@llyw.cymru | C27: =IF(FrontPage!$D$6=1,Text!B27,Text!A27) -> YCLLL.trosglwyddo@llyw.cymru
A28: Page 1
A29: Code: | B29: Cod: | C29: =IF(FrontPage!$D$6=1,Text!B29,Text!A29) -> Cod:
A30: Authority: | B30: Awdurdod: | C30: =IF(FrontPage!$D$6=1,Text!B30,Text!A30) -> Awdurdod:
A31: Please select your authority on the front page | B31: Dewiswch eich awdurdod ar y dudalen flaen | C31: =IF(FrontPage!$D$6=1,Text!B31,Text!A31) -> Dewiswch eich awdurdod ar y dudalen flaen
A32: Link | B32: Dolen | C32: =IF(FrontPage!$D$6=1,Text!B32,Text!A32) -> Dolen
A33: Editable area | B33: Man y gellid ei olygu | C33: =IF(FrontPage!$D$6=1,Text!B33,Text!A33) -> Man y gellid ei olygu
A34: Notes for guidance hyperlink: | B34: Hyperddolen canllawiau: | C34: =IF(FrontPage!$D$6=1,Text!B34,Text!A34) -> Hyperddolen canllawiau:
A35: SECTION A - Council tax | B35: ADRAN A – y Dreth Gyngor | C35: =IF(FrontPage!$D$6=1,Text!B35,Text!A35) -> ADRAN A – y Dreth Gyngor
A36: £ thousand | B36: £ miloedd | C36: =IF(FrontPage!$D$6=1,Text!B36,Text!A36) -> £ miloedd
A37: Council tax arrears | B37: Ôl-ddyledion y dreth gyngor | C37: =IF(FrontPage!$D$6=1,Text!B37,Text!A37) -> Ôl-ddyledion y dreth gyngor
A38: In-year council tax | B38: Y dreth gyngor yn ystod y flwyddyn | C38: =IF(FrontPage!$D$6=1,Text!B38,Text!A38) -> Y dreth gyngor yn ystod y flwyddyn
A39: All amounts are to be net of council tax benefits (see notes) | B39: Ni ddylai'r holl symiau gynnwys buddion y dreth gyngor (gweler y nodiadau) | C39: =IF(FrontPage!$D$6=1,Text!B39,Text!A39) -> Ni ddylai'r holl symiau gynnwys buddion y dreth gyngor (gweler y nodiadau)
A40: ="1 April 1993 to 31 March "&LEFT(Year,4) -> 1 April 1993 to 31 March 2025 | B40: ="1 Ebrill 1993 i 31 Mawrth "&LEFT(Year,4) -> 1 Ebrill 1993 i 31 Mawrth 2025 | C40: =IF(FrontPage!$D$6=1,Text!B40,Text!A40) -> 1 Ebrill 1993 i 31 Mawrth 2025
A41: Total arrears brought forward at the start of the year | B41: Cyfanswm yr ôl-ddyledion a gafodd eu dwyn ymlaen ar ddechrau'r flwyddyn | C41: =IF(FrontPage!$D$6=1,Text!B41,Text!A41) -> Cyfanswm yr ôl-ddyledion a gafodd eu dwyn ymlaen ar ddechrau'r flwyddyn
A42: In-year debit for the year | B42: Cyfanswm y debyd yn ystod y flwyddyn | C42: =IF(FrontPage!$D$6=1,Text!B42,Text!A42) -> Cyfanswm y debyd yn ystod y flwyddyn
...

Sheet Details
C1: Hidden page | E1: FK Updated on: | F1: 12.04.23 | G1: Cymraeg / Welsh | H1: DO NOT DELETE - this is the list for the Language Dropdown on FrontPage
G2: English / Saesneg
A4: Authority Details: | E4: Addresses:
E5: SQL | F5: P:\statshare\LGF\Statistics\Admin\ContactDetails.mdb
A7: Index | B7: UACode | C7: UAName | E7: Query for CTC form
A8: 1 | B8: 0 | C8: Please select your authority | D8: Dewiswch eich awdurdod | E8: UACode | F8: AuthorityName | G8: CFOName | H8: CFOEMail | I8: Address1 | J8: Address2 | K8: Address3 | L8: Address4 | M8: Postcode
A9: 2 | B9: 512 | C9: Cyngor Sir Ynys Môn | D9: Cyngor Sir Ynys Môn | E9: 512 | F9: Cyngor Sir Ynys Môn | G9: Marc Jones | H9: MarcJones@ynysmon.gov.uk | I9: Swyddfeydd y Cyngor | J9: Llangefni | K9: Ynys Môn | M9: LL77 7TW
A10: 3 | B10: 514 | C10: Cyngor Gwynedd | D10: Cyngor Gwynedd | E10: 514 | F10: Cyngor Gwynedd | G10: Mr Dewi Aeron Morgan | H10: dewiaeronmorgan@gwynedd.llyw.cymru | I10: Swyddfa'r Cyngor | J10: Stryd y Jêl | K10: Caernarfon | L10: Gwynedd | M10: LL55 1SH
A11: 4 | B11: 516 | C11: Conwy County Borough Council | D11: Cyngor Bwrdeistref Sirol Conwy | E11: 516 | F11: Conwy County Borough Council | G11: Amanda Hughes | H11: amanda.hughes2@conwy.gov.uk | I11: Bodlondeb | J11: Bangor Road | K11: Conwy | M11: LL32 8DU
A12: 5 | B12: 518 | C12: Denbighshire County Council | D12: Cyngor Sir Ddinbych | E12: 518 | F12: Denbighshire County Council | G12: Liz Thomas | H12: Elizabeth.Thomas@denbighshire.gov.uk | I12: County Hall | J12: Wynnstay Road | K12: Ruthin | L12: Denbighshire | M12: LL15 1YN
A13: 6 | B13: 520 | C13: Flintshire County Council | D13: Cyngor Sir y Fflint | E13: 520 | F13: Flintshire County Council | G13: Gary Ferguson | H13: gary.ferguson@flintshire.gov.uk | I13: County Hall | J13: Mold | K13: Flintshire | M13: CH7 6NB
A14: 7 | B14: 522 | C14: Wrexham County Borough Council | D14: Cyngor Bwrdeistref Sirol Wrecsam | E14: 522 | F14: Wrexham County Borough Council | G14: Mr Richard Weigh | H14: Richard.weigh@wrexham.gov.uk | I14: 1st Floor | J14: Lambpit Street | L14: Wrexham | M14: LL11 1AR
A15: 8 | B15: 524 | C15: Powys County Council | D15: Cyngor Sir Powys | E15: 524 | F15: Powys County Council | G15: Jane Thomas | H15: jane.thomas@powys.gov.uk | I15: County Hall | J15: Llandrindod Wells | K15: Powys | M15: LD1 5LG
A16: 9 | B16: 526 | C16: Ceredigion County Council | D16: Cyngor Sir Ceredigion | E16: 526 | F16: Ceredigion County Council | G16: Mr Duncan Hall | H16: Duncan.Hall@ceredigion.gov.uk | I16: Canolfan Rheidol, Rhodfa Padarn | J16: Llanbadarn Fawr, | K16: Aberystwyth | L16: Ceredigion | M16: SY23 3UE
A17: 10 | B17: 528 | C17: Pembrokeshire County Council | D17: Cyngor Sir Penfro | E17: 528 | F17: Pembrokeshire County Council | G17: Jonathan Haswell | H17: Jonathan.Haswell@pembrokeshire.gov.uk | I17: County Hall | J17: Haverfordwest | K17: Pembrokeshire | M17: SA61 1TP
A18: 11 | B18: 530 | C18: Carmarthenshire County Council | D18: Cyngor Sir Gaerfyrddin | E18: 530 | F18: Carmarthenshire County Council | G18: Mr Chris Moore | H18: CMoore@carmarthenshire.gov.uk | I18: County Hall | J18: Carmarthen | K18: Carmarthenshire | M18: SA31 1JP
A19: 12 | B19: 532 | C19: City and County of Swansea | D19: Cyngor Dinas a Sir Abertawe | E19: 532 | F19: City and County of Swansea | G19: Ben Smith | H19: Ben.Smith@swansea.gov.uk | I19: Civic Centre | J19: Oystermouth Road | K19: Swansea | M19: SA1 3SN
A20: 13 | B20: 534 | C20: Neath Port Talbot County Borough Council | D20: Cyngor Bwrdeistref Sirol Castell-Nedd Port Talbot | E20: 534 | F20: Neath Port Talbot County Borough Council | G20: Mr Huw Jones | H20: h.jones@npt.gov.uk | I20: Civic Centre | J20: Port Talbot | M20: SA13 1PJ
A21: 14 | B21: 536 | C21: Bridgend County Borough Council | D21: Cyngor Bwrdeistref Sirol Pen-y-Bont ar Ogwr | E21: 536 | F21: Bridgend County Borough Council | G21: Carys Lord | H21: gill.lewis@bridgend.gov.uk | I21: PO Box 4 | J21: Civic Offices | K21: Angel Street | L21: Bridgend | M21: CF31 4WB
A22: 15 | B22: 538 | C22: The Vale of Glamorgan Council | D22: Cyngor Bro Morgannwg | E22: 538 | F22: Vale of Glamorgan Council | G22: Matt Bowmer | H22: MBowmer@valeofglamorgan.gov.uk | I22: Civic Offices | J22: Holton Road | K22: Barry | L22: Vale of Glamorgan | M22: CF63 4RU
A23: 16 | B23: 540 | C23: Rhondda, Cynon, Taff C.B.C. | D23: Cyngor Bwrdeistref Sirol Rhondda Cynon Taf | E23: 540 | F23: Rhondda Cynon Taf County Borough Council | G23: Mr Barrie Davies | H23: barrie.j.davies@rctcbc.gov.uk | I23: Bronwydd | J23: Porth | K23: Rhondda | M23: CF39 9DL
A24: 17 | B24: 542 | C24: Merthyr Tydfil County Borough Council | D24: Cyngor Bwrdeistref Sirol Merthyr Tudful | E24: 542 | F24: Merthyr Tydfil County Borough Council | G24: Craig Flynn | H24: Craig.Flynn@merthyr.gov.uk | I24: Civic Centre | J24: Castle Street | K24: Merthyr Tydfil | M24: CF47 8AN
A25: 18 | B25: 544 | C25: Caerphilly County Borough Council | D25: Cyngor Bwrdeistref Sirol Caerffili | E25: 544 | F25: Caerphilly County Borough Council | G25: Nicola Roberts | H25: robernj@caerphilly.gov.uk | I25: Penallta House | J25: Tredomen Park | K25: Ystrad Mynach | M25: CF82 7PG
A26: 19 | B26: 545 | C26: Blaenau Gwent County Borough Council | D26: Cyngor Bwrdeistref Sirol Blaenau Gwent | E26: 545 | F26: Blaenau Gwent County Borough Council | G26: Rhian Hayden | H26: rhian.hayden@blaenau-gwent.gov.uk | I26: Municipal Offices | J26: Civic Centre | K26: Ebbw Vale | M26: NP3 6XB
A27: 20 | B27: 546 | C27: Torfaen County Borough Council | D27: Cyngor Bwrdeistref Sirol Torfaen | E27: 546 | F27: Torfaen County Borough Council | G27: Andrew Lovegrove – Strategic Director and S151 | H27: Andrew.Lovegrove@torfaen.gov.uk | I27: Civic Centre | J27: Pontypool | K27: Torfaen | M27: NP4 6YB
A28: 21 | B28: 548 | C28: Monmouthshire County Council | D28: Cyngor Sir Fynwy | E28: 548 | F28: Monmouthshire County Council | G28: Peter Davies | H28: Peterdavies@monmouthshire.gov.uk | I28: County Hall | J28: Rhadyr | K28: Usk | L28: Monmouthshire | M28: NP15 1GA
A29: 22 | B29: 550 | C29: Newport City Council | D29: Cyngor Dinas Casnewydd | E29: 550 | F29: Newport City Council | G29: Meirion Rushworth | H29: Meirion.Rushworth@newport.gov.uk | I29: Civic Centre | J29: Newport | M29: NP20 4UR
A30: 23 | B30: 552 | C30: The City and County of Cardiff | D30: Cyngor Dinas Caerdydd | E30: 552 | F30: The City of Cardiff Council | G30: Mr Christopher Lee | H30: Christopher.lee@cardiff.gov.uk | I30: County Hall | J30: Atlantic Wharf | K30: Cardiff | M30: CF1 5UW
B32: =VLOOKUP(FrontPage!$D$10,Authority,2,FALSE) -> 0 | C32: =IF(UAnumber=0,"",VLOOKUP(UAnumber,B36:C58,2,FALSE))
B33: =FrontPage!D6 -> 1 | C33: Current language dropdown selection
A36: =A8 -> 1 | B36: =B8 -> 0 | C36: =IF($B$33=1,D8,C8) -> Dewiswch eich awdurdod
A37: =A9 -> 2 | B37: =B9 -> 512 | C37: =IF($B$33=1,D9,C9) -> Cyngor Sir Ynys Môn
A38: =A10 -> 3 | B38: =B10 -> 514 | C38: =IF($B$33=1,D10,C10) -> Cyngor Gwynedd
A39: =A11 -> 4 | B39: =B11 -> 516 | C39: =IF($B$33=1,D11,C11) -> Cyngor Bwrdeistref Sirol Conwy
A40: =A12 -> 5 | B40: =B12 -> 518 | C40: =IF($B$33=1,D12,C12) -> Cyngor Sir Ddinbych
A41: =A13 -> 6 | B41: =B13 -> 520 | C41: =IF($B$33=1,D13,C13) -> Cyngor Sir y Fflint
A42: =A14 -> 7 | B42: =B14 -> 522 | C42: =IF($B$33=1,D14,C14) -> Cyngor Bwrdeistref Sirol Wrecsam
A43: =A15 -> 8 | B43: =B15 -> 524 | C43: =IF($B$33=1,D15,C15) -> Cyngor Sir Powys
A44: =A16 -> 9 | B44: =B16 -> 526 | C44: =IF($B$33=1,D16,C16) -> Cyngor Sir Ceredigion
A45: =A17 -> 10 | B45: =B17 -> 528 | C45: =IF($B$33=1,D17,C17) -> Cyngor Sir Penfro
...

Sheet ValData
A1: Hidden page | R1: Bilingual text for YOY Validation Table
A2: YOYOut | R2: English | S2: Welsh | T2: Displayed Text
A3: YearCode | B3: FormRef | C3: RowRef | D3: ColumnRef | E3: AuthCode | F3: DataY1 | G3: DataY2 | H3: DataY3 | I3: Auto | J3: Mark | K3: Check | L3: Status | M3: Your Comments | N3: Our Comments | O3: Initials | P3: Date | R3: select | S3: dewiswch | T3: =IF(Details!$B$33=2,R3,S3) -> dewiswch
A4: =LEFT(Year,4)&RIGHT(Year,2) -> 202526 | B4: CTC | C4: 1 | D4: 2 | E4: =UAnumber -> 0 | F4: =IF(VLOOKUP($C4,CTCP1,8,FALSE)="",0,VLOOKUP($C4,CTCP1,8,FALSE)) -> #N/A | G4: =IF(VLOOKUP($C4,CTCP1,9,FALSE)="",0,VLOOKUP($C4,CTCP1,9,FALSE)) -> #N/A | H4: =IF(VLOOKUP($C4,CTCP1,10,FALSE)="",0,VLOOKUP($C4,CTCP1,10,FALSE)) -> 0 | I4: =IF(VLOOKUP($C4,CTCP1,18,FALSE)="","",VLOOKUP($C4,CTCP1,18,FALSE)) -> #N/A | J4: =IF(VLOOKUP($C4,CTCP1,18,FALSE)="","",VLOOKUP($C4,CTCP1,18,FALSE)) -> #N/A | K4: =IF(VLOOKUP($C4,CTCP1,18,FALSE)="","",VLOOKUP($C4,CTCP1,18,FALSE)) -> #N/A | L4: =IF(VLOOKUP($C4,CTCP1,18,FALSE)="","",VLOOKUP($C4,CTCP1,18,FALSE)) -> #N/A | M4: =IF(VLOOKUP($C4,CTCP1,18,FALSE)="","",VLOOKUP($C4,CTCP1,18,FALSE)) -> #N/A | N4: =IF(VLOOKUP($C4,CTCP1,18,FALSE)="","",VLOOKUP($C4,CTCP1,18,FALSE)) -> #N/A | O4: =IF(VLOOKUP($C4,CTCP1,18,FALSE)="","",VLOOKUP($C4,CTCP1,18,FALSE)) -> #N/A | P4: =IF(VLOOKUP($C4,CTCP1,18,FALSE)="","",VLOOKUP($C4,CTCP1,18,FALSE)) -> #N/A | R4: row | S4: rhes | T4: =IF(Details!$B$33=2,R4,S4) -> rhes
A5: =LEFT(Year,4)&RIGHT(Year,2) -> 202526 | B5: CTC | C5: 2 | D5: 3 | E5: =UAnumber -> 0 | F5: =IF(VLOOKUP($C5,CTCP1,8,FALSE)="",0,VLOOKUP($C5,CTCP1,8,FALSE)) -> #N/A | G5: =IF(VLOOKUP($C5,CTCP1,9,FALSE)="",0,VLOOKUP($C5,CTCP1,9,FALSE)) -> #N/A | H5: =IF(VLOOKUP($C5,CTCP1,10,FALSE)="",0,VLOOKUP($C5,CTCP1,10,FALSE)) -> 0 | I5: =IF(VLOOKUP($C5,CTCP1,18,FALSE)="","",VLOOKUP($C5,CTCP1,18,FALSE)) -> #N/A | J5: =IF(VLOOKUP($C5,CTCP1,18,FALSE)="","",VLOOKUP($C5,CTCP1,18,FALSE)) -> #N/A | K5: =IF(VLOOKUP($C5,CTCP1,18,FALSE)="","",VLOOKUP($C5,CTCP1,18,FALSE)) -> #N/A | L5: =IF(VLOOKUP($C5,CTCP1,18,FALSE)="","",VLOOKUP($C5,CTCP1,18,FALSE)) -> #N/A | M5: =IF(VLOOKUP($C5,CTCP1,18,FALSE)="","",VLOOKUP($C5,CTCP1,18,FALSE)) -> #N/A | N5: =IF(VLOOKUP($C5,CTCP1,18,FALSE)="","",VLOOKUP($C5,CTCP1,18,FALSE)) -> #N/A | O5: =IF(VLOOKUP($C5,CTCP1,18,FALSE)="","",VLOOKUP($C5,CTCP1,18,FALSE)) -> #N/A | P5: =IF(VLOOKUP($C5,CTCP1,18,FALSE)="","",VLOOKUP($C5,CTCP1,18,FALSE)) -> #N/A | R5: column | S5: colofn | T5: =IF(Details!$B$33=2,R5,S5) -> colofn
A6: =LEFT(Year,4)&RIGHT(Year,2) -> 202526 | B6: CTC | C6: 3 | D6: 3 | E6: =UAnumber -> 0 | F6: =IF(VLOOKUP($C6,CTCP1,8,FALSE)="",0,VLOOKUP($C6,CTCP1,8,FALSE)) -> #N/A | G6: =IF(VLOOKUP($C6,CTCP1,9,FALSE)="",0,VLOOKUP($C6,CTCP1,9,FALSE)) -> #N/A | H6: =IF(VLOOKUP($C6,CTCP1,10,FALSE)="",0,VLOOKUP($C6,CTCP1,10,FALSE)) -> 0 | I6: =IF(VLOOKUP($C6,CTCP1,18,FALSE)="","",VLOOKUP($C6,CTCP1,18,FALSE)) -> #N/A | J6: =IF(VLOOKUP($C6,CTCP1,18,FALSE)="","",VLOOKUP($C6,CTCP1,18,FALSE)) -> #N/A | K6: =IF(VLOOKUP($C6,CTCP1,18,FALSE)="","",VLOOKUP($C6,CTCP1,18,FALSE)) -> #N/A | L6: =IF(VLOOKUP($C6,CTCP1,18,FALSE)="","",VLOOKUP($C6,CTCP1,18,FALSE)) -> #N/A | M6: =IF(VLOOKUP($C6,CTCP1,18,FALSE)="","",VLOOKUP($C6,CTCP1,18,FALSE)) -> #N/A | N6: =IF(VLOOKUP($C6,CTCP1,18,FALSE)="","",VLOOKUP($C6,CTCP1,18,FALSE)) -> #N/A | O6: =IF(VLOOKUP($C6,CTCP1,18,FALSE)="","",VLOOKUP($C6,CTCP1,18,FALSE)) -> #N/A | P6: =IF(VLOOKUP($C6,CTCP1,18,FALSE)="","",VLOOKUP($C6,CTCP1,18,FALSE)) -> #N/A | R6: row description (sum lines shown in bold) | S6: disgrifiad rhes (Llinellau swm a ddangosir mewn print trwm) | T6: =IF(Details!$B$33=2,R6,S6) -> disgrifiad rhes (Llinellau swm a ddangosir mewn print trwm)
A7: =LEFT(Year,4)&RIGHT(Year,2) -> 202526 | B7: CTC | C7: 4 | D7: 3 | E7: =UAnumber -> 0 | F7: =IF(VLOOKUP($C7,CTCP1,8,FALSE)="",0,VLOOKUP($C7,CTCP1,8,FALSE)) -> #N/A | G7: =IF(VLOOKUP($C7,CTCP1,9,FALSE)="",0,VLOOKUP($C7,CTCP1,9,FALSE)) -> #N/A | H7: =IF(VLOOKUP($C7,CTCP1,10,FALSE)="",0,VLOOKUP($C7,CTCP1,10,FALSE)) -> 0 | I7: =IF(VLOOKUP($C7,CTCP1,18,FALSE)="","",VLOOKUP($C7,CTCP1,18,FALSE)) -> #N/A | J7: =IF(VLOOKUP($C7,CTCP1,18,FALSE)="","",VLOOKUP($C7,CTCP1,18,FALSE)) -> #N/A | K7: =IF(VLOOKUP($C7,CTCP1,18,FALSE)="","",VLOOKUP($C7,CTCP1,18,FALSE)) -> #N/A | L7: =IF(VLOOKUP($C7,CTCP1,18,FALSE)="","",VLOOKUP($C7,CTCP1,18,FALSE)) -> #N/A | M7: =IF(VLOOKUP($C7,CTCP1,18,FALSE)="","",VLOOKUP($C7,CTCP1,18,FALSE)) -> #N/A | N7: =IF(VLOOKUP($C7,CTCP1,18,FALSE)="","",VLOOKUP($C7,CTCP1,18,FALSE)) -> #N/A | O7: =IF(VLOOKUP($C7,CTCP1,18,FALSE)="","",VLOOKUP($C7,CTCP1,18,FALSE)) -> #N/A | P7: =IF(VLOOKUP($C7,CTCP1,18,FALSE)="","",VLOOKUP($C7,CTCP1,18,FALSE)) -> #N/A | R7: value | S7: prisio | T7: =IF(Details!$B$33=2,R7,S7) -> prisio
A8: =LEFT(Year,4)&RIGHT(Year,2) -> 202526 | B8: CTC | C8: 5 | D8: 3 | E8: =UAnumber -> 0 | F8: =IF(VLOOKUP($C8,CTCP1,8,FALSE)="",0,VLOOKUP($C8,CTCP1,8,FALSE)) -> #N/A | G8: =IF(VLOOKUP($C8,CTCP1,9,FALSE)="",0,VLOOKUP($C8,CTCP1,9,FALSE)) -> #N/A | H8: =IF(VLOOKUP($C8,CTCP1,10,FALSE)="",0,VLOOKUP($C8,CTCP1,10,FALSE)) -> 0 | I8: =IF(VLOOKUP($C8,CTCP1,18,FALSE)="","",VLOOKUP($C8,CTCP1,18,FALSE)) -> #N/A | J8: =IF(VLOOKUP($C8,CTCP1,18,FALSE)="","",VLOOKUP($C8,CTCP1,18,FALSE)) -> #N/A | K8: =IF(VLOOKUP($C8,CTCP1,18,FALSE)="","",VLOOKUP($C8,CTCP1,18,FALSE)) -> #N/A | L8: =IF(VLOOKUP($C8,CTCP1,18,FALSE)="","",VLOOKUP($C8,CTCP1,18,FALSE)) -> #N/A | M8: =IF(VLOOKUP($C8,CTCP1,18,FALSE)="","",VLOOKUP($C8,CTCP1,18,FALSE)) -> #N/A | N8: =IF(VLOOKUP($C8,CTCP1,18,FALSE)="","",VLOOKUP($C8,CTCP1,18,FALSE)) -> #N/A | O8: =IF(VLOOKUP($C8,CTCP1,18,FALSE)="","",VLOOKUP($C8,CTCP1,18,FALSE)) -> #N/A | P8: =IF(VLOOKUP($C8,CTCP1,18,FALSE)="","",VLOOKUP($C8,CTCP1,18,FALSE)) -> #N/A | R8: type | S8: deipio | T8: =IF(Details!$B$33=2,R8,S8) -> deipio
A9: =LEFT(Year,4)&RIGHT(Year,2) -> 202526 | B9: CTC | C9: 6 | D9: 3 | E9: =UAnumber -> 0 | F9: =IF(VLOOKUP($C9,CTCP1,8,FALSE)="",0,VLOOKUP($C9,CTCP1,8,FALSE)) -> #N/A | G9: =IF(VLOOKUP($C9,CTCP1,9,FALSE)="",0,VLOOKUP($C9,CTCP1,9,FALSE)) -> #N/A | H9: =IF(VLOOKUP($C9,CTCP1,10,FALSE)="",0,VLOOKUP($C9,CTCP1,10,FALSE)) -> 0 | I9: =IF(VLOOKUP($C9,CTCP1,18,FALSE)="","",VLOOKUP($C9,CTCP1,18,FALSE)) -> #N/A | J9: =IF(VLOOKUP($C9,CTCP1,18,FALSE)="","",VLOOKUP($C9,CTCP1,18,FALSE)) -> #N/A | K9: =IF(VLOOKUP($C9,CTCP1,18,FALSE)="","",VLOOKUP($C9,CTCP1,18,FALSE)) -> #N/A | L9: =IF(VLOOKUP($C9,CTCP1,18,FALSE)="","",VLOOKUP($C9,CTCP1,18,FALSE)) -> #N/A | M9: =IF(VLOOKUP($C9,CTCP1,18,FALSE)="","",VLOOKUP($C9,CTCP1,18,FALSE)) -> #N/A | N9: =IF(VLOOKUP($C9,CTCP1,18,FALSE)="","",VLOOKUP($C9,CTCP1,18,FALSE)) -> #N/A | O9: =IF(VLOOKUP($C9,CTCP1,18,FALSE)="","",VLOOKUP($C9,CTCP1,18,FALSE)) -> #N/A | P9: =IF(VLOOKUP($C9,CTCP1,18,FALSE)="","",VLOOKUP($C9,CTCP1,18,FALSE)) -> #N/A | R9: auto | S9: awto | T9: =IF(Details!$B$33=2,R9,S9) -> awto
A10: =LEFT(Year,4)&RIGHT(Year,2) -> 202526 | B10: CTC | C10: 7 | D10: 3 | E10: =UAnumber -> 0 | F10: =IF(VLOOKUP($C10,CTCP1,8,FALSE)="",0,VLOOKUP($C10,CTCP1,8,FALSE)) -> #N/A | G10: =IF(VLOOKUP($C10,CTCP1,9,FALSE)="",0,VLOOKUP($C10,CTCP1,9,FALSE)) -> #N/A | H10: =IF(VLOOKUP($C10,CTCP1,10,FALSE)="",0,VLOOKUP($C10,CTCP1,10,FALSE)) -> 0 | I10: =IF(VLOOKUP($C10,CTCP1,18,FALSE)="","",VLOOKUP($C10,CTCP1,18,FALSE)) -> #N/A | J10: =IF(VLOOKUP($C10,CTCP1,18,FALSE)="","",VLOOKUP($C10,CTCP1,18,FALSE)) -> #N/A | K10: =IF(VLOOKUP($C10,CTCP1,18,FALSE)="","",VLOOKUP($C10,CTCP1,18,FALSE)) -> #N/A | L10: =IF(VLOOKUP($C10,CTCP1,18,FALSE)="","",VLOOKUP($C10,CTCP1,18,FALSE)) -> #N/A | M10: =IF(VLOOKUP($C10,CTCP1,18,FALSE)="","",VLOOKUP($C10,CTCP1,18,FALSE)) -> #N/A | N10: =IF(VLOOKUP($C10,CTCP1,18,FALSE)="","",VLOOKUP($C10,CTCP1,18,FALSE)) -> #N/A | O10: =IF(VLOOKUP($C10,CTCP1,18,FALSE)="","",VLOOKUP($C10,CTCP1,18,FALSE)) -> #N/A | P10: =IF(VLOOKUP($C10,CTCP1,18,FALSE)="","",VLOOKUP($C10,CTCP1,18,FALSE)) -> #N/A | R10: mark | S10: marcio | T10: =IF(Details!$B$33=2,R10,S10) -> marcio
A11: =LEFT(Year,4)&RIGHT(Year,2) -> 202526 | B11: CTC | C11: 8 | D11: 3 | E11: =UAnumber -> 0 | F11: =IF(VLOOKUP($C11,CTCP1,8,FALSE)="",0,VLOOKUP($C11,CTCP1,8,FALSE)) -> #N/A | G11: =IF(VLOOKUP($C11,CTCP1,9,FALSE)="",0,VLOOKUP($C11,CTCP1,9,FALSE)) -> #N/A | H11: =IF(VLOOKUP($C11,CTCP1,10,FALSE)="",0,VLOOKUP($C11,CTCP1,10,FALSE)) -> 0 | I11: =IF(VLOOKUP($C11,CTCP1,18,FALSE)="","",VLOOKUP($C11,CTCP1,18,FALSE)) | J11: =IF(VLOOKUP($C11,CTCP1,18,FALSE)="","",VLOOKUP($C11,CTCP1,18,FALSE)) | K11: =IF(VLOOKUP($C11,CTCP1,18,FALSE)="","",VLOOKUP($C11,CTCP1,18,FALSE)) | L11: =IF(VLOOKUP($C11,CTCP1,18,FALSE)="","",VLOOKUP($C11,CTCP1,18,FALSE)) | M11: =IF(VLOOKUP($C11,CTCP1,18,FALSE)="","",VLOOKUP($C11,CTCP1,18,FALSE)) | N11: =IF(VLOOKUP($C11,CTCP1,18,FALSE)="","",VLOOKUP($C11,CTCP1,18,FALSE)) | O11: =IF(VLOOKUP($C11,CTCP1,18,FALSE)="","",VLOOKUP($C11,CTCP1,18,FALSE)) | P11: =IF(VLOOKUP($C11,CTCP1,18,FALSE)="","",VLOOKUP($C11,CTCP1,18,FALSE)) | R11: check | S11: wirio | T11: =IF(Details!$B$33=2,R11,S11) -> wirio
A12: =LEFT(Year,4)&RIGHT(Year,2) -> 202526 | B12: CTC | C12: 9 | D12: 3 | E12: =UAnumber -> 0 | F12: =IF(VLOOKUP($C12,CTCP1,8,FALSE)="",0,VLOOKUP($C12,CTCP1,8,FALSE)) -> #N/A | G12: =IF(VLOOKUP($C12,CTCP1,9,FALSE)="",0,VLOOKUP($C12,CTCP1,9,FALSE)) -> #N/A | H12: =IF(VLOOKUP($C12,CTCP1,10,FALSE)="",0,VLOOKUP($C12,CTCP1,10,FALSE)) -> 0 | I12: =IF(VLOOKUP($C12,CTCP1,18,FALSE)="","",VLOOKUP($C12,CTCP1,18,FALSE)) | J12: =IF(VLOOKUP($C12,CTCP1,18,FALSE)="","",VLOOKUP($C12,CTCP1,18,FALSE)) | K12: =IF(VLOOKUP($C12,CTCP1,18,FALSE)="","",VLOOKUP($C12,CTCP1,18,FALSE)) | L12: =IF(VLOOKUP($C12,CTCP1,18,FALSE)="","",VLOOKUP($C12,CTCP1,18,FALSE)) | M12: =IF(VLOOKUP($C12,CTCP1,18,FALSE)="","",VLOOKUP($C12,CTCP1,18,FALSE)) | N12: =IF(VLOOKUP($C12,CTCP1,18,FALSE)="","",VLOOKUP($C12,CTCP1,18,FALSE)) | O12: =IF(VLOOKUP($C12,CTCP1,18,FALSE)="","",VLOOKUP($C12,CTCP1,18,FALSE)) | P12: =IF(VLOOKUP($C12,CTCP1,18,FALSE)="","",VLOOKUP($C12,CTCP1,18,FALSE)) | R12: status | S12: statws | T12: =IF(Details!$B$33=2,R12,S12) -> statws
A13: =LEFT(Year,4)&RIGHT(Year,2) -> 202526 | B13: CTC | C13: 10.5 | D13: 4 | E13: =UAnumber -> 0 | F13: =IF(VLOOKUP($C13,CTCP1,8,FALSE)="",0,VLOOKUP($C13,CTCP1,8,FALSE)) -> #N/A | G13: =IF(VLOOKUP($C13,CTCP1,9,FALSE)="",0,VLOOKUP($C13,CTCP1,9,FALSE)) -> #N/A | H13: =IF(VLOOKUP($C13,CTCP1,10,FALSE)="",0,VLOOKUP($C13,CTCP1,10,FALSE)) -> 0 | I13: =IF(VLOOKUP($C13,CTCP1,18,FALSE)="","",VLOOKUP($C13,CTCP1,18,FALSE)) -> #N/A | J13: =IF(VLOOKUP($C13,CTCP1,18,FALSE)="","",VLOOKUP($C13,CTCP1,18,FALSE)) -> #N/A | K13: =IF(VLOOKUP($C13,CTCP1,18,FALSE)="","",VLOOKUP($C13,CTCP1,18,FALSE)) -> #N/A | L13: =IF(VLOOKUP($C13,CTCP1,18,FALSE)="","",VLOOKUP($C13,CTCP1,18,FALSE)) -> #N/A | M13: =IF(VLOOKUP($C13,CTCP1,18,FALSE)="","",VLOOKUP($C13,CTCP1,18,FALSE)) -> #N/A | N13: =IF(VLOOKUP($C13,CTCP1,18,FALSE)="","",VLOOKUP($C13,CTCP1,18,FALSE)) -> #N/A | O13: =IF(VLOOKUP($C13,CTCP1,18,FALSE)="","",VLOOKUP($C13,CTCP1,18,FALSE)) -> #N/A | P13: =IF(VLOOKUP($C13,CTCP1,18,FALSE)="","",VLOOKUP($C13,CTCP1,18,FALSE)) -> #N/A | R13: Your comments | S13: Eich sylwadau | T13: =IF(Details!$B$33=2,R13,S13) -> Eich sylwadau
A14: =LEFT(Year,4)&RIGHT(Year,2) -> 202526 | B14: CTC | C14: 11 | D14: 4 | E14: =UAnumber -> 0 | F14: =IF(VLOOKUP($C14,CTCP1,8,FALSE)="",0,VLOOKUP($C14,CTCP1,8,FALSE)) -> #N/A | G14: =IF(VLOOKUP($C14,CTCP1,9,FALSE)="",0,VLOOKUP($C14,CTCP1,9,FALSE)) -> #N/A | H14: =IF(VLOOKUP($C14,CTCP1,10,FALSE)="",0,VLOOKUP($C14,CTCP1,10,FALSE)) -> 0 | I14: =IF(VLOOKUP($C14,CTCP1,18,FALSE)="","",VLOOKUP($C14,CTCP1,18,FALSE)) -> #N/A | J14: =IF(VLOOKUP($C14,CTCP1,18,FALSE)="","",VLOOKUP($C14,CTCP1,18,FALSE)) -> #N/A | K14: =IF(VLOOKUP($C14,CTCP1,18,FALSE)="","",VLOOKUP($C14,CTCP1,18,FALSE)) -> #N/A | L14: =IF(VLOOKUP($C14,CTCP1,18,FALSE)="","",VLOOKUP($C14,CTCP1,18,FALSE)) -> #N/A | M14: =IF(VLOOKUP($C14,CTCP1,18,FALSE)="","",VLOOKUP($C14,CTCP1,18,FALSE)) -> #N/A | N14: =IF(VLOOKUP($C14,CTCP1,18,FALSE)="","",VLOOKUP($C14,CTCP1,18,FALSE)) -> #N/A | O14: =IF(VLOOKUP($C14,CTCP1,18,FALSE)="","",VLOOKUP($C14,CTCP1,18,FALSE)) -> #N/A | P14: =IF(VLOOKUP($C14,CTCP1,18,FALSE)="","",VLOOKUP($C14,CTCP1,18,FALSE)) -> #N/A | R14: Our comments | S14: Ein sylwadau | T14: =IF(Details!$B$33=2,R14,S14) -> Ein sylwadau
A15: =LEFT(Year,4)&RIGHT(Year,2) -> 202526 | B15: CTC | C15: 12 | D15: 4 | E15: =UAnumber -> 0 | F15: =IF(VLOOKUP($C15,CTCP1,8,FALSE)="",0,VLOOKUP($C15,CTCP1,8,FALSE)) -> #N/A | G15: =IF(VLOOKUP($C15,CTCP1,9,FALSE)="",0,VLOOKUP($C15,CTCP1,9,FALSE)) -> #N/A | H15: =IF(VLOOKUP($C15,CTCP1,10,FALSE)="",0,VLOOKUP($C15,CTCP1,10,FALSE)) -> 0 | I15: =IF(VLOOKUP($C15,CTCP1,18,FALSE)="","",VLOOKUP($C15,CTCP1,18,FALSE)) -> #N/A | J15: =IF(VLOOKUP($C15,CTCP1,18,FALSE)="","",VLOOKUP($C15,CTCP1,18,FALSE)) -> #N/A | K15: =IF(VLOOKUP($C15,CTCP1,18,FALSE)="","",VLOOKUP($C15,CTCP1,18,FALSE)) -> #N/A | L15: =IF(VLOOKUP($C15,CTCP1,18,FALSE)="","",VLOOKUP($C15,CTCP1,18,FALSE)) -> #N/A | M15: =IF(VLOOKUP($C15,CTCP1,18,FALSE)="","",VLOOKUP($C15,CTCP1,18,FALSE)) -> #N/A | N15: =IF(VLOOKUP($C15,CTCP1,18,FALSE)="","",VLOOKUP($C15,CTCP1,18,FALSE)) -> #N/A | O15: =IF(VLOOKUP($C15,CTCP1,18,FALSE)="","",VLOOKUP($C15,CTCP1,18,FALSE)) -> #N/A | P15: =IF(VLOOKUP($C15,CTCP1,18,FALSE)="","",VLOOKUP($C15,CTCP1,18,FALSE)) -> #N/A | R15: signed by | S15: arwydd gan | T15: =IF(Details!$B$33=2,R15,S15) -> arwydd gan
A16: =LEFT(Year,4)&RIGHT(Year,2) -> 202526 | B16: CTC | C16: 12.5 | D16: 4 | E16: =UAnumber -> 0 | F16: =IF(VLOOKUP($C16,CTCP1,8,FALSE)="",0,VLOOKUP($C16,CTCP1,8,FALSE)) -> #N/A | G16: =IF(VLOOKUP($C16,CTCP1,9,FALSE)="",0,VLOOKUP($C16,CTCP1,9,FALSE)) -> #N/A | H16: =IF(VLOOKUP($C16,CTCP1,10,FALSE)="",0,VLOOKUP($C16,CTCP1,10,FALSE)) -> 0 | I16: =IF(VLOOKUP($C16,CTCP1,18,FALSE)="","",VLOOKUP($C16,CTCP1,18,FALSE)) | J16: =IF(VLOOKUP($C16,CTCP1,18,FALSE)="","",VLOOKUP($C16,CTCP1,18,FALSE)) | K16: =IF(VLOOKUP($C16,CTCP1,18,FALSE)="","",VLOOKUP($C16,CTCP1,18,FALSE)) | L16: =IF(VLOOKUP($C16,CTCP1,18,FALSE)="","",VLOOKUP($C16,CTCP1,18,FALSE)) | M16: =IF(VLOOKUP($C16,CTCP1,18,FALSE)="","",VLOOKUP($C16,CTCP1,18,FALSE)) | N16: =IF(VLOOKUP($C16,CTCP1,18,FALSE)="","",VLOOKUP($C16,CTCP1,18,FALSE)) | O16: =IF(VLOOKUP($C16,CTCP1,18,FALSE)="","",VLOOKUP($C16,CTCP1,18,FALSE)) | P16: =IF(VLOOKUP($C16,CTCP1,18,FALSE)="","",VLOOKUP($C16,CTCP1,18,FALSE)) | R16: date | S16: dyddiad | T16: =IF(Details!$B$33=2,R16,S16) -> dyddiad
R17: difference | S17: gwahaniaeth | T17: =IF(Details!$B$33=2,R17,S17) -> gwahaniaeth
R18: tolerance: | S18: goddefiant: | T18: =IF(Details!$B$33=2,R18,S18) -> goddefiant:
R19: zero? | S19: sero? | T19: =IF(Details!$B$33=2,R19,S19) -> sero?
A20: YOYIn | R20: Totals | S20: Cyfansymiau | T20: =IF(Details!$B$33=2,R20,S20) -> Cyfansymiau
A21: Lookup | B21: FormRef | C21: AuthCode | D21: Row | E21: ColRef | F21: Mark | G21: Status | H21: OurComments | I21: signed | J21: Date | R21: Any totals not = zero in column "V" will be flagged in 'auto' column and highlighted in red. | S21: Bydd unrhyw gyfanswmiau nad sy’n = sero yng ngholofn ‘V’ yn cael ei farcio yn y golofn ‘Awtomatig’ a’I amlinellu yn goch. | T21: =IF(Details!$B$33=2,R21,S21) -> Bydd unrhyw gyfanswmiau nad sy’n = sero yng ngholofn ‘V’ yn cael ei farcio yn y golofn ‘Awtomatig’ a’I amlinellu yn goch.
A22: =D22 -> 0 | B22: CTC | C22: =UAnumber -> 0 | R22: Arithmetic Checks | S22: Gwiriadau Rhifyddol | T22: =IF(Details!$B$33=2,R22,S22) -> Gwiriadau Rhifyddol
A23: =D23 -> 0 | B23: CTC | C23: =UAnumber -> 0 | R23: YOY Figures | S23: Ffigyrau blwyddyn-wrth-flwyddyn | T23: =IF(Details!$B$33=2,R23,S23) -> Ffigyrau blwyddyn-wrth-flwyddyn
A24: =D24 -> 0 | B24: CTC | C24: =UAnumber -> 0 | R24: Please follow the instructions below when completing this page: | S24: Dilynwch y cyfarwyddiadau isod wrth lenwi'r dudalen hon: | T24: =IF(Details!$B$33=2,R24,S24) -> Dilynwch y cyfarwyddiadau isod wrth lenwi'r dudalen hon:
A25: =D25 -> 0 | B25: CTC | C25: =UAnumber -> 0
A26: =D26 -> 0 | B26: CTC | C26: =UAnumber -> 0 | R26: English | S26: Welsh | T26: =IF(Details!$B$33=2,R26,S26) -> Welsh
A27: =D27 -> 0 | B27: CTC | C27: =UAnumber -> 0 | R27: Val No | S27: dilysu rhif | T27: =IF(Details!$B$33=2,R27,S27) -> dilysu rhif
A28: =D28 -> 0 | B28: CTC | C28: =UAnumber -> 0 | R28: Tolerance Levels | S28: Goddefiant Rhagosodau | T28: =IF(Details!$B$33=2,R28,S28) -> Goddefiant Rhagosodau
A29: =D29 -> 0 | B29: CTC | C29: =UAnumber -> 0 | R29: Value | S29: Prisio | T29: =IF(Details!$B$33=2,R29,S29) -> Prisio
A30: =D30 -> 0 | B30: CTC | C30: =UAnumber -> 0 | R30: Validation Key | S30: Allwedd dilysu | T30: =IF(Details!$B$33=2,R30,S30) -> Allwedd dilysu
R31: Figure | S31: Ffigwr | T31: =IF(Details!$B$33=2,R31,S31) -> Ffigwr
R32: Result | S32: Canlyniad | T32: =IF(Details!$B$33=2,R32,S32) -> Canlyniad
R34: Please add information to the 'Your Comments' field for any flagged figures and/or any selected in the 'Check' column | S34: Ychwanegwch wybodaeth at y maes 'Eich Sylwadau' ar gyfer unrhyw ffigurau sydd wedi'u fflagio a/neu unrhyw ffigurau dan sylw yn y golofn 'Gwirio'. | T34: =IF(Details!$B$33=2,R34,S34) -> Ychwanegwch wybodaeth at y maes 'Eich Sylwadau' ar gyfer unrhyw ffigurau sydd wedi'u fflagio a/neu unrhyw ffigurau dan sylw yn y golofn 'Gwirio'.
